Back to Multiple platform build/check report for BioC 3.11 |
|
This page was generated on 2020-01-16 13:30:47 -0500 (Thu, 16 Jan 2020).
Package 1375/1818 | Hostname | OS / Arch | INSTALL | BUILD | CHECK | BUILD BIN | ||||||
rbsurv 2.45.0 Soo-heang Eo
| malbec2 | Linux (Ubuntu 18.04.3 LTS) / x86_64 | OK | OK | OK | |||||||
tokay2 | Windows Server 2012 R2 Standard / x64 | OK | OK | OK | OK | |||||||
celaya2 | OS X 10.11.6 El Capitan / x86_64 | OK | [ OK ] | OK | OK |
Package: rbsurv |
Version: 2.45.0 |
Command: /Library/Frameworks/R.framework/Versions/Current/Resources/bin/R CMD build --keep-empty-dirs --no-resave-data rbsurv |
StartedAt: 2020-01-15 20:02:01 -0500 (Wed, 15 Jan 2020) |
EndedAt: 2020-01-15 20:03:00 -0500 (Wed, 15 Jan 2020) |
EllapsedTime: 59.0 seconds |
RetCode: 0 |
Status: OK |
PackageFile: rbsurv_2.45.0.tar.gz |
PackageFileSize: 263.4 KiB |
############################################################################## ############################################################################## ### ### Running command: ### ### /Library/Frameworks/R.framework/Versions/Current/Resources/bin/R CMD build --keep-empty-dirs --no-resave-data rbsurv ### ############################################################################## ############################################################################## * checking for file ‘rbsurv/DESCRIPTION’ ... OK * preparing ‘rbsurv’: * checking DESCRIPTION meta-information ... OK * installing the package to build vignettes * creating vignettes ... OK * checking for LF line-endings in source and make files and shell scripts * checking for empty or unneeded directories * looking to see if a ‘data/datalist’ file should be added * building ‘rbsurv_2.45.0.tar.gz’