Back to Multiple platform build/check report for BioC 3.11 |
|
This page was generated on 2020-01-16 13:49:22 -0500 (Thu, 16 Jan 2020).
Package 56/1818 | Hostname | OS / Arch | INSTALL | BUILD | CHECK | BUILD BIN | ||||||
ANF 1.9.0 Tianle Ma
| malbec2 | Linux (Ubuntu 18.04.3 LTS) / x86_64 | OK | OK | OK | |||||||
tokay2 | Windows Server 2012 R2 Standard / x64 | OK | OK | OK | OK | |||||||
celaya2 | OS X 10.11.6 El Capitan / x86_64 | OK | [ OK ] | OK | OK |
Package: ANF |
Version: 1.9.0 |
Command: /Library/Frameworks/R.framework/Versions/Current/Resources/bin/R CMD build --keep-empty-dirs --no-resave-data ANF |
StartedAt: 2020-01-15 23:38:21 -0500 (Wed, 15 Jan 2020) |
EndedAt: 2020-01-15 23:39:44 -0500 (Wed, 15 Jan 2020) |
EllapsedTime: 82.1 seconds |
RetCode: 0 |
Status: OK |
PackageFile: ANF_1.9.0.tar.gz |
PackageFileSize: 207.6 MiB |
############################################################################## ############################################################################## ### ### Running command: ### ### /Library/Frameworks/R.framework/Versions/Current/Resources/bin/R CMD build --keep-empty-dirs --no-resave-data ANF ### ############################################################################## ############################################################################## * checking for file ‘ANF/DESCRIPTION’ ... OK * preparing ‘ANF’: * checking DESCRIPTION meta-information ... OK * installing the package to build vignettes * creating vignettes ... OK * checking for LF line-endings in source and make files and shell scripts * checking for empty or unneeded directories NB: this package now depends on R (>= 3.5.0) WARNING: Added dependency on R >= 3.5.0 because serialized objects in serialize/load version 3 cannot be read in older versions of R. File(s) containing such objects: ‘ANF/vignettes/ANF_cache/html/unnamed-chunk-10_2743a88b6714dcb1f804f0ca3d67457d.RData’ WARNING: Added dependency on R >= 3.5.0 because serialized objects in serialize/load version 3 cannot be read in older versions of R. File(s) containing such objects: ‘ANF/vignettes/ANF_cache/html/unnamed-chunk-10_2743a88b6714dcb1f804f0ca3d67457d.rdx’ WARNING: Added dependency on R >= 3.5.0 because serialized objects in serialize/load version 3 cannot be read in older versions of R. File(s) containing such objects: ‘ANF/vignettes/ANF_cache/html/unnamed-chunk-11_7bcf213d7c93e80c03d8fe1532c29a83.RData’ WARNING: Added dependency on R >= 3.5.0 because serialized objects in serialize/load version 3 cannot be read in older versions of R. File(s) containing such objects: ‘ANF/vignettes/ANF_cache/html/unnamed-chunk-11_7bcf213d7c93e80c03d8fe1532c29a83.rdx’ WARNING: Added dependency on R >= 3.5.0 because serialized objects in serialize/load version 3 cannot be read in older versions of R. File(s) containing such objects: ‘ANF/vignettes/ANF_cache/html/unnamed-chunk-12_8eb0d7d5eac7075b461e507570b78526.RData’ WARNING: Added dependency on R >= 3.5.0 because serialized objects in serialize/load version 3 cannot be read in older versions of R. File(s) containing such objects: ‘ANF/vignettes/ANF_cache/html/unnamed-chunk-12_8eb0d7d5eac7075b461e507570b78526.rdx’ WARNING: Added dependency on R >= 3.5.0 because serialized objects in serialize/load version 3 cannot be read in older versions of R. File(s) containing such objects: ‘ANF/vignettes/ANF_cache/html/unnamed-chunk-13_c85c3741eab37ecf21be2dadf629c6e1.RData’ WARNING: Added dependency on R >= 3.5.0 because serialized objects in serialize/load version 3 cannot be read in older versions of R. File(s) containing such objects: ‘ANF/vignettes/ANF_cache/html/unnamed-chunk-13_c85c3741eab37ecf21be2dadf629c6e1.rdx’ WARNING: Added dependency on R >= 3.5.0 because serialized objects in serialize/load version 3 cannot be read in older versions of R. File(s) containing such objects: ‘ANF/vignettes/ANF_cache/html/unnamed-chunk-1_30dd2638240f24271eb64b51c783d31b.RData’ WARNING: Added dependency on R >= 3.5.0 because serialized objects in serialize/load version 3 cannot be read in older versions of R. File(s) containing such objects: ‘ANF/vignettes/ANF_cache/html/unnamed-chunk-1_30dd2638240f24271eb64b51c783d31b.rdx’ WARNING: Added dependency on R >= 3.5.0 because serialized objects in serialize/load version 3 cannot be read in older versions of R. File(s) containing such objects: ‘ANF/vignettes/ANF_cache/html/unnamed-chunk-2_12bfc6e36b6d78f46ca53ac1093b3298.RData’ WARNING: Added dependency on R >= 3.5.0 because serialized objects in serialize/load version 3 cannot be read in older versions of R. File(s) containing such objects: ‘ANF/vignettes/ANF_cache/html/unnamed-chunk-2_12bfc6e36b6d78f46ca53ac1093b3298.rdx’ WARNING: Added dependency on R >= 3.5.0 because serialized objects in serialize/load version 3 cannot be read in older versions of R. File(s) containing such objects: ‘ANF/vignettes/ANF_cache/html/unnamed-chunk-3_80ab64d70d5e66fa44c4a3a22a7bb897.RData’ WARNING: Added dependency on R >= 3.5.0 because serialized objects in serialize/load version 3 cannot be read in older versions of R. File(s) containing such objects: ‘ANF/vignettes/ANF_cache/html/unnamed-chunk-3_80ab64d70d5e66fa44c4a3a22a7bb897.rdx’ WARNING: Added dependency on R >= 3.5.0 because serialized objects in serialize/load version 3 cannot be read in older versions of R. File(s) containing such objects: ‘ANF/vignettes/ANF_cache/html/unnamed-chunk-4_840c62d28a4137785cd77bb9bfe6b288.RData’ WARNING: Added dependency on R >= 3.5.0 because serialized objects in serialize/load version 3 cannot be read in older versions of R. File(s) containing such objects: ‘ANF/vignettes/ANF_cache/html/unnamed-chunk-4_840c62d28a4137785cd77bb9bfe6b288.rdx’ WARNING: Added dependency on R >= 3.5.0 because serialized objects in serialize/load version 3 cannot be read in older versions of R. File(s) containing such objects: ‘ANF/vignettes/ANF_cache/html/unnamed-chunk-5_b642129b1b9a0f0d2b7521e917cd963d.RData’ WARNING: Added dependency on R >= 3.5.0 because serialized objects in serialize/load version 3 cannot be read in older versions of R. File(s) containing such objects: ‘ANF/vignettes/ANF_cache/html/unnamed-chunk-5_b642129b1b9a0f0d2b7521e917cd963d.rdx’ WARNING: Added dependency on R >= 3.5.0 because serialized objects in serialize/load version 3 cannot be read in older versions of R. File(s) containing such objects: ‘ANF/vignettes/ANF_cache/html/unnamed-chunk-6_68e318e5846861d1da89740dbd8dbb26.RData’ WARNING: Added dependency on R >= 3.5.0 because serialized objects in serialize/load version 3 cannot be read in older versions of R. File(s) containing such objects: ‘ANF/vignettes/ANF_cache/html/unnamed-chunk-6_68e318e5846861d1da89740dbd8dbb26.rdx’ WARNING: Added dependency on R >= 3.5.0 because serialized objects in serialize/load version 3 cannot be read in older versions of R. File(s) containing such objects: ‘ANF/vignettes/ANF_cache/html/unnamed-chunk-7_a2746612887fbe8f33f9aed14774d880.RData’ WARNING: Added dependency on R >= 3.5.0 because serialized objects in serialize/load version 3 cannot be read in older versions of R. File(s) containing such objects: ‘ANF/vignettes/ANF_cache/html/unnamed-chunk-7_a2746612887fbe8f33f9aed14774d880.rdx’ WARNING: Added dependency on R >= 3.5.0 because serialized objects in serialize/load version 3 cannot be read in older versions of R. File(s) containing such objects: ‘ANF/vignettes/ANF_cache/html/unnamed-chunk-8_9547b39bbb3f2b3715f2d3884af282ca.RData’ WARNING: Added dependency on R >= 3.5.0 because serialized objects in serialize/load version 3 cannot be read in older versions of R. File(s) containing such objects: ‘ANF/vignettes/ANF_cache/html/unnamed-chunk-8_9547b39bbb3f2b3715f2d3884af282ca.rdx’ WARNING: Added dependency on R >= 3.5.0 because serialized objects in serialize/load version 3 cannot be read in older versions of R. File(s) containing such objects: ‘ANF/vignettes/ANF_cache/html/unnamed-chunk-9_8e9a67ecf9209719de1dbcf135203a37.RData’ WARNING: Added dependency on R >= 3.5.0 because serialized objects in serialize/load version 3 cannot be read in older versions of R. File(s) containing such objects: ‘ANF/vignettes/ANF_cache/html/unnamed-chunk-9_8e9a67ecf9209719de1dbcf135203a37.rdx’ * building ‘ANF_1.9.0.tar.gz’