| Back to Multiple platform build/check report for BioC 3.11 |
|
This page was generated on 2020-01-16 13:35:51 -0500 (Thu, 16 Jan 2020).
| Package 283/1818 | Hostname | OS / Arch | INSTALL | BUILD | CHECK | BUILD BIN | ||||||
Oscar Reina
| malbec2 | Linux (Ubuntu 18.04.3 LTS) / x86_64 | ERROR | ERROR | skipped | |||||||
| tokay2 | Windows Server 2012 R2 Standard / x64 | ERROR | ERROR | skipped | skipped | |||||||
| celaya2 | OS X 10.11.6 El Capitan / x86_64 | ERROR | [ ERROR ] | skipped | skipped |
| Package: chroGPS |
| Version: 2.5.1 |
| Command: /Library/Frameworks/R.framework/Versions/Current/Resources/bin/R CMD build --keep-empty-dirs --no-resave-data chroGPS |
| StartedAt: 2020-01-15 20:57:58 -0500 (Wed, 15 Jan 2020) |
| EndedAt: 2020-01-15 20:58:04 -0500 (Wed, 15 Jan 2020) |
| EllapsedTime: 6.2 seconds |
| RetCode: 1 |
| Status: ERROR |
| PackageFile: None |
| PackageFileSize: NA |
##############################################################################
##############################################################################
###
### Running command:
###
### /Library/Frameworks/R.framework/Versions/Current/Resources/bin/R CMD build --keep-empty-dirs --no-resave-data chroGPS
###
##############################################################################
##############################################################################
* checking for file ‘chroGPS/DESCRIPTION’ ... OK
* preparing ‘chroGPS’:
* checking DESCRIPTION meta-information ... OK
* installing the package to build vignettes
-----------------------------------
ERROR: dependency ‘DPpackage’ is not available for package ‘chroGPS’
* removing ‘/private/tmp/RtmpkZVmIJ/Rinste9477891bfd5/chroGPS’
-----------------------------------
ERROR: package installation failed