| Back to Multiple platform build/check report for BioC 3.11 |
|
This page was generated on 2020-01-16 13:30:33 -0500 (Thu, 16 Jan 2020).
| Package 61/1818 | Hostname | OS / Arch | INSTALL | BUILD | CHECK | BUILD BIN | ||||||
| AnnotationDbi 1.49.0 Bioconductor Package Maintainer
| malbec2 | Linux (Ubuntu 18.04.3 LTS) / x86_64 | OK | OK | OK | |||||||
| tokay2 | Windows Server 2012 R2 Standard / x64 | OK | OK | OK | OK | |||||||
| celaya2 | OS X 10.11.6 El Capitan / x86_64 | OK | OK | OK | [ OK ] |
| Package: AnnotationDbi |
| Version: 1.49.0 |
| Command: rm -rf AnnotationDbi.buildbin-libdir && mkdir AnnotationDbi.buildbin-libdir && /Users/biocbuild/BBS/utils/build-universal.sh AnnotationDbi_1.49.0.tar.gz /Library/Frameworks/R.framework/Versions/Current/Resources/bin/R AnnotationDbi.buildbin-libdir |
| StartedAt: 2020-01-16 10:26:01 -0500 (Thu, 16 Jan 2020) |
| EndedAt: 2020-01-16 10:26:35 -0500 (Thu, 16 Jan 2020) |
| EllapsedTime: 34.0 seconds |
| RetCode: 0 |
| Status: OK |
| PackageFile: AnnotationDbi_1.49.0.tgz |
| PackageFileSize: 4.904 MiB |
############################################################################## ############################################################################## ### ### Running command: ### ### rm -rf AnnotationDbi.buildbin-libdir && mkdir AnnotationDbi.buildbin-libdir && /Users/biocbuild/BBS/utils/build-universal.sh AnnotationDbi_1.49.0.tar.gz /Library/Frameworks/R.framework/Versions/Current/Resources/bin/R AnnotationDbi.buildbin-libdir ### ############################################################################## ############################################################################## >>>>>>> >>>>>>> INSTALLATION WITH 'R CMD INSTALL --preclean --no-multiarch --library=AnnotationDbi.buildbin-libdir AnnotationDbi_1.49.0.tar.gz' >>>>>>> * installing *source* package ‘AnnotationDbi’ ... ** using staged installation ** R ** inst ** byte-compile and prepare package for lazy loading Creating a new generic function for ‘packageName’ in package ‘AnnotationDbi’ Creating a generic function for ‘ls’ from package ‘base’ in package ‘AnnotationDbi’ Creating a generic function for ‘eapply’ from package ‘base’ in package ‘AnnotationDbi’ Creating a generic function for ‘exists’ from package ‘base’ in package ‘AnnotationDbi’ Creating a generic function for ‘sample’ from package ‘base’ in package ‘AnnotationDbi’ ** help *** installing help indices ** building package indices ** installing vignettes ** testing if installed package can be loaded from temporary location ** testing if installed package can be loaded from final location ** testing if installed package keeps a record of temporary installation path * DONE (AnnotationDbi)