Back to Multiple platform build/check report for BioC 3.11 |
|
This page was generated on 2020-01-16 13:51:22 -0500 (Thu, 16 Jan 2020).
Package 969/1818 | Hostname | OS / Arch | INSTALL | BUILD | CHECK | BUILD BIN | ||||||
MBttest 1.15.0 Yuan-De Tan
| malbec2 | Linux (Ubuntu 18.04.3 LTS) / x86_64 | OK | OK | OK | |||||||
tokay2 | Windows Server 2012 R2 Standard / x64 | OK | OK | OK | OK | |||||||
celaya2 | OS X 10.11.6 El Capitan / x86_64 | OK | OK | [ OK ] | OK |
Package: MBttest |
Version: 1.15.0 |
Command: /Library/Frameworks/R.framework/Versions/Current/Resources/bin/R CMD check --install=check:MBttest.install-out.txt --library=/Library/Frameworks/R.framework/Versions/Current/Resources/library --no-vignettes --timings MBttest_1.15.0.tar.gz |
StartedAt: 2020-01-16 06:08:07 -0500 (Thu, 16 Jan 2020) |
EndedAt: 2020-01-16 06:09:06 -0500 (Thu, 16 Jan 2020) |
EllapsedTime: 58.4 seconds |
RetCode: 0 |
Status: OK |
CheckDir: MBttest.Rcheck |
Warnings: 0 |
############################################################################## ############################################################################## ### ### Running command: ### ### /Library/Frameworks/R.framework/Versions/Current/Resources/bin/R CMD check --install=check:MBttest.install-out.txt --library=/Library/Frameworks/R.framework/Versions/Current/Resources/library --no-vignettes --timings MBttest_1.15.0.tar.gz ### ############################################################################## ############################################################################## * using log directory ‘/Users/biocbuild/bbs-3.11-bioc/meat/MBttest.Rcheck’ * using R Under development (unstable) (2019-12-14 r77572) * using platform: x86_64-apple-darwin15.6.0 (64-bit) * using session charset: UTF-8 * using option ‘--no-vignettes’ * checking for file ‘MBttest/DESCRIPTION’ ... OK * checking extension type ... Package * this is package ‘MBttest’ version ‘1.15.0’ * checking package namespace information ... OK * checking package dependencies ... OK * checking if this is a source package ... OK * checking if there is a namespace ... OK * checking for hidden files and directories ... OK * checking for portable file names ... OK * checking for sufficient/correct file permissions ... OK * checking whether package ‘MBttest’ can be installed ... OK * checking installed package size ... OK * checking package directory ... OK * checking ‘build’ directory ... OK * checking DESCRIPTION meta-information ... OK * checking top-level files ... OK * checking for left-over files ... OK * checking index information ... OK * checking package subdirectories ... OK * checking R files for non-ASCII characters ... OK * checking R files for syntax errors ... OK * checking whether the package can be loaded ... OK * checking whether the package can be loaded with stated dependencies ... OK * checking whether the package can be unloaded cleanly ... OK * checking whether the namespace can be loaded with stated dependencies ... OK * checking whether the namespace can be unloaded cleanly ... OK * checking dependencies in R code ... OK * checking S3 generic/method consistency ... OK * checking replacement functions ... OK * checking foreign function calls ... OK * checking R code for possible problems ... OK * checking Rd files ... OK * checking Rd metadata ... OK * checking Rd cross-references ... OK * checking for missing documentation entries ... OK * checking for code/documentation mismatches ... OK * checking Rd \usage sections ... OK * checking Rd contents ... OK * checking for unstated dependencies in examples ... OK * checking contents of ‘data’ directory ... OK * checking data for non-ASCII characters ... OK * checking data for ASCII and uncompressed saves ... OK * checking sizes of PDF files under ‘inst/doc’ ... OK * checking installed files from ‘inst/doc’ ... OK * checking files in ‘vignettes’ ... OK * checking examples ... OK Examples with CPU (user + system) or elapsed time > 5s user system elapsed myheatmap 7.192 0.253 7.449 * checking for unstated dependencies in vignettes ... OK * checking package vignettes in ‘inst/doc’ ... OK * checking running R code from vignettes ... SKIPPED * checking re-building of vignette outputs ... SKIPPED * checking PDF version of manual ... OK * DONE Status: OK
MBttest.Rcheck/00install.out
############################################################################## ############################################################################## ### ### Running command: ### ### /Library/Frameworks/R.framework/Versions/Current/Resources/bin/R CMD INSTALL MBttest ### ############################################################################## ############################################################################## * installing to library ‘/Library/Frameworks/R.framework/Versions/4.0/Resources/library’ * installing *source* package ‘MBttest’ ... ** using staged installation ** R ** data ** inst ** byte-compile and prepare package for lazy loading ** help *** installing help indices ** building package indices ** installing vignettes ** testing if installed package can be loaded from temporary location ** testing if installed package can be loaded from final location ** testing if installed package keeps a record of temporary installation path * DONE (MBttest)
MBttest.Rcheck/MBttest-Ex.timings
name | user | system | elapsed | |
MBttest-package | 0.771 | 0.110 | 0.882 | |
betaparametVP | 0.267 | 0.021 | 0.289 | |
betaparametab | 0.000 | 0.001 | 0.001 | |
betaparametw | 0.001 | 0.001 | 0.001 | |
betattest | 0.954 | 0.056 | 1.011 | |
dat | 0.080 | 0.016 | 0.096 | |
jkttcell | 0.047 | 0.014 | 0.060 | |
maplot | 0.472 | 0.025 | 0.505 | |
mbetattest | 1.602 | 0.048 | 1.650 | |
mtprocedure | 0.012 | 0.002 | 0.014 | |
mtpvadjust | 0.002 | 0.001 | 0.002 | |
myheatmap | 7.192 | 0.253 | 7.449 | |
oddratio | 0.002 | 0.001 | 0.003 | |
pratio | 0.001 | 0.000 | 0.002 | |
simulat | 0.460 | 0.024 | 0.484 | |
skjt | 0.065 | 0.009 | 0.074 | |
smbetattest | 0.855 | 0.032 | 0.886 | |