| Back to Multiple platform build/check report for BioC 3.11 |
|
This page was generated on 2020-01-16 13:34:38 -0500 (Thu, 16 Jan 2020).
| Package 823/1818 | Hostname | OS / Arch | INSTALL | BUILD | CHECK | BUILD BIN | ||||||
Alex Lisovich
| malbec2 | Linux (Ubuntu 18.04.3 LTS) / x86_64 | OK | OK | ERROR | |||||||
| tokay2 | Windows Server 2012 R2 Standard / x64 | OK | OK | ERROR | OK | |||||||
| celaya2 | OS X 10.11.6 El Capitan / x86_64 | OK | [ OK ] | ERROR | OK |
| Package: IdMappingAnalysis |
| Version: 1.31.1 |
| Command: /Library/Frameworks/R.framework/Versions/Current/Resources/bin/R CMD build --keep-empty-dirs --no-resave-data IdMappingAnalysis |
| StartedAt: 2020-01-15 20:46:09 -0500 (Wed, 15 Jan 2020) |
| EndedAt: 2020-01-15 20:46:55 -0500 (Wed, 15 Jan 2020) |
| EllapsedTime: 45.6 seconds |
| RetCode: 0 |
| Status: OK |
| PackageFile: IdMappingAnalysis_1.31.1.tar.gz |
| PackageFileSize: 1.939 MiB |
##############################################################################
##############################################################################
###
### Running command:
###
### /Library/Frameworks/R.framework/Versions/Current/Resources/bin/R CMD build --keep-empty-dirs --no-resave-data IdMappingAnalysis
###
##############################################################################
##############################################################################
* checking for file ‘IdMappingAnalysis/DESCRIPTION’ ... OK
* preparing ‘IdMappingAnalysis’:
* checking DESCRIPTION meta-information ... OK
* installing the package to build vignettes
* creating vignettes ... OK
Warning: ‘inst/doc’ file
‘IdMappingAnalysis.Rnw’
ignored as vignettes have been rebuilt.
Run R CMD build with --no-build-vignettes to prevent rebuilding.
* checking for LF line-endings in source and make files and shell scripts
* checking for empty or unneeded directories
* building ‘IdMappingAnalysis_1.31.1.tar.gz’