| Back to Multiple platform build/check report for BioC 3.11 |
|
This page was generated on 2020-01-16 13:30:15 -0500 (Thu, 16 Jan 2020).
| Package 1769/1818 | Hostname | OS / Arch | INSTALL | BUILD | CHECK | BUILD BIN | ||||||
| TypeInfo 1.53.0 Duncan Temple Lang
| malbec2 | Linux (Ubuntu 18.04.3 LTS) / x86_64 | OK | OK | OK | |||||||
| tokay2 | Windows Server 2012 R2 Standard / x64 | OK | OK | OK | NA | |||||||
| celaya2 | OS X 10.11.6 El Capitan / x86_64 | OK | [ OK ] | OK | OK |
| Package: TypeInfo |
| Version: 1.53.0 |
| Command: /Library/Frameworks/R.framework/Versions/Current/Resources/bin/R CMD build --keep-empty-dirs --no-resave-data TypeInfo |
| StartedAt: 2020-01-15 19:57:11 -0500 (Wed, 15 Jan 2020) |
| EndedAt: 2020-01-15 19:57:22 -0500 (Wed, 15 Jan 2020) |
| EllapsedTime: 11.5 seconds |
| RetCode: 0 |
| Status: OK |
| PackageFile: TypeInfo_1.53.0.tar.gz |
| PackageFileSize: 176.7 KiB |
############################################################################## ############################################################################## ### ### Running command: ### ### /Library/Frameworks/R.framework/Versions/Current/Resources/bin/R CMD build --keep-empty-dirs --no-resave-data TypeInfo ### ############################################################################## ############################################################################## * checking for file ‘TypeInfo/DESCRIPTION’ ... OK * preparing ‘TypeInfo’: * checking DESCRIPTION meta-information ... OK * installing the package to build vignettes * creating vignettes ... OK * checking for LF line-endings in source and make files and shell scripts * checking for empty or unneeded directories * building ‘TypeInfo_1.53.0.tar.gz’