| Back to Multiple platform build/check report for BioC 3.11 |
|
This page was generated on 2020-01-16 13:40:55 -0500 (Thu, 16 Jan 2020).
| Package 1245/1818 | Hostname | OS / Arch | INSTALL | BUILD | CHECK | BUILD BIN | ||||||
| pepXMLTab 1.21.0 Xiaojing Wang
| malbec2 | Linux (Ubuntu 18.04.3 LTS) / x86_64 | OK | OK | OK | |||||||
| tokay2 | Windows Server 2012 R2 Standard / x64 | OK | OK | OK | OK | |||||||
| celaya2 | OS X 10.11.6 El Capitan / x86_64 | OK | [ OK ] | OK | OK |
| Package: pepXMLTab |
| Version: 1.21.0 |
| Command: /Library/Frameworks/R.framework/Versions/Current/Resources/bin/R CMD build --keep-empty-dirs --no-resave-data pepXMLTab |
| StartedAt: 2020-01-15 21:51:37 -0500 (Wed, 15 Jan 2020) |
| EndedAt: 2020-01-15 21:52:01 -0500 (Wed, 15 Jan 2020) |
| EllapsedTime: 23.4 seconds |
| RetCode: 0 |
| Status: OK |
| PackageFile: pepXMLTab_1.21.0.tar.gz |
| PackageFileSize: 256.5 KiB |
############################################################################## ############################################################################## ### ### Running command: ### ### /Library/Frameworks/R.framework/Versions/Current/Resources/bin/R CMD build --keep-empty-dirs --no-resave-data pepXMLTab ### ############################################################################## ############################################################################## * checking for file ‘pepXMLTab/DESCRIPTION’ ... OK * preparing ‘pepXMLTab’: * checking DESCRIPTION meta-information ... OK * installing the package to build vignettes * creating vignettes ... OK * checking for LF line-endings in source and make files and shell scripts * checking for empty or unneeded directories * building ‘pepXMLTab_1.21.0.tar.gz’