| Back to Multiple platform build/check report for BioC 3.11 |
|
This page was generated on 2020-01-16 13:43:24 -0500 (Thu, 16 Jan 2020).
| Package 405/1818 | Hostname | OS / Arch | INSTALL | BUILD | CHECK | BUILD BIN | ||||||
| DAPAR 1.19.13 Samuel Wieczorek
| malbec2 | Linux (Ubuntu 18.04.3 LTS) / x86_64 | OK | OK | OK | |||||||
| tokay2 | Windows Server 2012 R2 Standard / x64 | OK | OK | OK | OK | |||||||
| celaya2 | OS X 10.11.6 El Capitan / x86_64 | OK | [ OK ] | OK | OK |
| Package: DAPAR |
| Version: 1.19.13 |
| Command: /Library/Frameworks/R.framework/Versions/Current/Resources/bin/R CMD build --keep-empty-dirs --no-resave-data DAPAR |
| StartedAt: 2020-01-15 22:17:14 -0500 (Wed, 15 Jan 2020) |
| EndedAt: 2020-01-15 22:18:47 -0500 (Wed, 15 Jan 2020) |
| EllapsedTime: 93.3 seconds |
| RetCode: 0 |
| Status: OK |
| PackageFile: DAPAR_1.19.13.tar.gz |
| PackageFileSize: 3.885 MiB |
############################################################################## ############################################################################## ### ### Running command: ### ### /Library/Frameworks/R.framework/Versions/Current/Resources/bin/R CMD build --keep-empty-dirs --no-resave-data DAPAR ### ############################################################################## ############################################################################## * checking for file ‘DAPAR/DESCRIPTION’ ... OK * preparing ‘DAPAR’: * checking DESCRIPTION meta-information ... OK * installing the package to build vignettes * creating vignettes ... OK * checking for LF line-endings in source and make files and shell scripts * checking for empty or unneeded directories * building ‘DAPAR_1.19.13.tar.gz’