Back to Multiple platform build/check report for BioC 3.11 |
|
This page was generated on 2020-01-16 13:47:54 -0500 (Thu, 16 Jan 2020).
Package 1006/1818 | Hostname | OS / Arch | INSTALL | BUILD | CHECK | BUILD BIN | ||||||
metavizr 1.11.0 Hector Corrada Bravo
| malbec2 | Linux (Ubuntu 18.04.3 LTS) / x86_64 | OK | OK | OK | |||||||
tokay2 | Windows Server 2012 R2 Standard / x64 | OK | OK | WARNINGS | OK | |||||||
celaya2 | OS X 10.11.6 El Capitan / x86_64 | OK | OK | OK | [ OK ] |
Package: metavizr |
Version: 1.11.0 |
Command: rm -rf metavizr.buildbin-libdir && mkdir metavizr.buildbin-libdir && /Users/biocbuild/BBS/utils/build-universal.sh metavizr_1.11.0.tar.gz /Library/Frameworks/R.framework/Versions/Current/Resources/bin/R metavizr.buildbin-libdir |
StartedAt: 2020-01-16 11:16:29 -0500 (Thu, 16 Jan 2020) |
EndedAt: 2020-01-16 11:17:44 -0500 (Thu, 16 Jan 2020) |
EllapsedTime: 75.0 seconds |
RetCode: 0 |
Status: OK |
PackageFile: metavizr_1.11.0.tgz |
PackageFileSize: 2.396 MiB |
############################################################################## ############################################################################## ### ### Running command: ### ### rm -rf metavizr.buildbin-libdir && mkdir metavizr.buildbin-libdir && /Users/biocbuild/BBS/utils/build-universal.sh metavizr_1.11.0.tar.gz /Library/Frameworks/R.framework/Versions/Current/Resources/bin/R metavizr.buildbin-libdir ### ############################################################################## ############################################################################## >>>>>>> >>>>>>> INSTALLATION WITH 'R CMD INSTALL --preclean --no-multiarch --library=metavizr.buildbin-libdir metavizr_1.11.0.tar.gz' >>>>>>> * installing *source* package ‘metavizr’ ... ** using staged installation ** R ** inst ** byte-compile and prepare package for lazy loading Warning: replacing previous import 'S4Vectors::merge' by 'git2r::merge' when loading 'epivizrStandalone' Warning: replacing previous import 'S4Vectors::head' by 'git2r::head' when loading 'epivizrStandalone' Warning: replacing previous import 'S4Vectors::as.data.frame' by 'git2r::as.data.frame' when loading 'epivizrStandalone' ** help *** installing help indices ** building package indices ** installing vignettes ** testing if installed package can be loaded from temporary location Warning: replacing previous import 'S4Vectors::merge' by 'git2r::merge' when loading 'epivizrStandalone' Warning: replacing previous import 'S4Vectors::head' by 'git2r::head' when loading 'epivizrStandalone' Warning: replacing previous import 'S4Vectors::as.data.frame' by 'git2r::as.data.frame' when loading 'epivizrStandalone' ** testing if installed package can be loaded from final location Warning: replacing previous import 'S4Vectors::merge' by 'git2r::merge' when loading 'epivizrStandalone' Warning: replacing previous import 'S4Vectors::head' by 'git2r::head' when loading 'epivizrStandalone' Warning: replacing previous import 'S4Vectors::as.data.frame' by 'git2r::as.data.frame' when loading 'epivizrStandalone' ** testing if installed package keeps a record of temporary installation path * DONE (metavizr)