| Back to Multiple platform build/check report for BioC 3.11 |
|
This page was generated on 2020-01-16 13:46:27 -0500 (Thu, 16 Jan 2020).
| Package 1119/1818 | Hostname | OS / Arch | INSTALL | BUILD | CHECK | BUILD BIN | ||||||
| MutationalPatterns 1.13.0 Roel Janssen
| malbec2 | Linux (Ubuntu 18.04.3 LTS) / x86_64 | OK | OK | OK | |||||||
| tokay2 | Windows Server 2012 R2 Standard / x64 | OK | OK | OK | OK | |||||||
| celaya2 | OS X 10.11.6 El Capitan / x86_64 | OK | OK | [ OK ] | OK |
| Package: MutationalPatterns |
| Version: 1.13.0 |
| Command: /Library/Frameworks/R.framework/Versions/Current/Resources/bin/R CMD check --install=check:MutationalPatterns.install-out.txt --library=/Library/Frameworks/R.framework/Versions/Current/Resources/library --no-vignettes --timings MutationalPatterns_1.13.0.tar.gz |
| StartedAt: 2020-01-16 06:51:42 -0500 (Thu, 16 Jan 2020) |
| EndedAt: 2020-01-16 07:02:01 -0500 (Thu, 16 Jan 2020) |
| EllapsedTime: 619.8 seconds |
| RetCode: 0 |
| Status: OK |
| CheckDir: MutationalPatterns.Rcheck |
| Warnings: 0 |
##############################################################################
##############################################################################
###
### Running command:
###
### /Library/Frameworks/R.framework/Versions/Current/Resources/bin/R CMD check --install=check:MutationalPatterns.install-out.txt --library=/Library/Frameworks/R.framework/Versions/Current/Resources/library --no-vignettes --timings MutationalPatterns_1.13.0.tar.gz
###
##############################################################################
##############################################################################
* using log directory ‘/Users/biocbuild/bbs-3.11-bioc/meat/MutationalPatterns.Rcheck’
* using R Under development (unstable) (2019-12-14 r77572)
* using platform: x86_64-apple-darwin15.6.0 (64-bit)
* using session charset: UTF-8
* using option ‘--no-vignettes’
* checking for file ‘MutationalPatterns/DESCRIPTION’ ... OK
* checking extension type ... Package
* this is package ‘MutationalPatterns’ version ‘1.13.0’
* package encoding: UTF-8
* checking package namespace information ... OK
* checking package dependencies ... OK
* checking if this is a source package ... OK
* checking if there is a namespace ... OK
* checking for hidden files and directories ... OK
* checking for portable file names ... OK
* checking for sufficient/correct file permissions ... OK
* checking whether package ‘MutationalPatterns’ can be installed ... OK
* checking installed package size ... OK
* checking package directory ... OK
* checking ‘build’ directory ... OK
* checking DESCRIPTION meta-information ... OK
* checking top-level files ... OK
* checking for left-over files ... OK
* checking index information ... OK
* checking package subdirectories ... OK
* checking R files for non-ASCII characters ... OK
* checking R files for syntax errors ... OK
* checking whether the package can be loaded ... OK
* checking whether the package can be loaded with stated dependencies ... OK
* checking whether the package can be unloaded cleanly ... OK
* checking whether the namespace can be loaded with stated dependencies ... OK
* checking whether the namespace can be unloaded cleanly ... OK
* checking dependencies in R code ... OK
* checking S3 generic/method consistency ... OK
* checking replacement functions ... OK
* checking foreign function calls ... OK
* checking R code for possible problems ... OK
* checking Rd files ... OK
* checking Rd metadata ... OK
* checking Rd cross-references ... OK
* checking for missing documentation entries ... OK
* checking for code/documentation mismatches ... OK
* checking Rd \usage sections ... OK
* checking Rd contents ... OK
* checking for unstated dependencies in examples ... OK
* checking sizes of PDF files under ‘inst/doc’ ... OK
* checking files in ‘vignettes’ ... OK
* checking examples ... OK
Examples with CPU (user + system) or elapsed time > 5s
user system elapsed
mut_matrix_stranded 41.530 23.019 11.212
genomic_distribution 32.914 2.352 35.372
mut_matrix 18.631 10.621 4.684
read_vcfs_as_granges 17.066 11.011 4.588
plot_spectrum 13.033 0.522 13.560
mut_type_occurrences 11.790 1.046 12.874
* checking for unstated dependencies in ‘tests’ ... OK
* checking tests ...
Running ‘testthat.R’
OK
* checking for unstated dependencies in vignettes ... OK
* checking package vignettes in ‘inst/doc’ ... OK
* checking running R code from vignettes ... SKIPPED
* checking re-building of vignette outputs ... SKIPPED
* checking PDF version of manual ... OK
* DONE
Status: OK
MutationalPatterns.Rcheck/00install.out
############################################################################## ############################################################################## ### ### Running command: ### ### /Library/Frameworks/R.framework/Versions/Current/Resources/bin/R CMD INSTALL MutationalPatterns ### ############################################################################## ############################################################################## * installing to library ‘/Library/Frameworks/R.framework/Versions/4.0/Resources/library’ * installing *source* package ‘MutationalPatterns’ ... ** using staged installation ** R ** inst ** byte-compile and prepare package for lazy loading ** help *** installing help indices ** building package indices ** installing vignettes ** testing if installed package can be loaded from temporary location ** testing if installed package can be loaded from final location ** testing if installed package keeps a record of temporary installation path * DONE (MutationalPatterns)
MutationalPatterns.Rcheck/tests/testthat.Rout
R Under development (unstable) (2019-12-14 r77572) -- "Unsuffered Consequences"
Copyright (C) 2019 The R Foundation for Statistical Computing
Platform: x86_64-apple-darwin15.6.0 (64-bit)
R is free software and comes with ABSOLUTELY NO WARRANTY.
You are welcome to redistribute it under certain conditions.
Type 'license()' or 'licence()' for distribution details.
R is a collaborative project with many contributors.
Type 'contributors()' for more information and
'citation()' on how to cite R or R packages in publications.
Type 'demo()' for some demos, 'help()' for on-line help, or
'help.start()' for an HTML browser interface to help.
Type 'q()' to quit R.
> library(testthat)
> library(MutationalPatterns)
Loading required package: GenomicRanges
Loading required package: stats4
Loading required package: BiocGenerics
Loading required package: parallel
Attaching package: 'BiocGenerics'
The following objects are masked from 'package:parallel':
clusterApply, clusterApplyLB, clusterCall, clusterEvalQ,
clusterExport, clusterMap, parApply, parCapply, parLapply,
parLapplyLB, parRapply, parSapply, parSapplyLB
The following objects are masked from 'package:stats':
IQR, mad, sd, var, xtabs
The following objects are masked from 'package:base':
Filter, Find, Map, Position, Reduce, anyDuplicated, append,
as.data.frame, basename, cbind, colnames, dirname, do.call,
duplicated, eval, evalq, get, grep, grepl, intersect, is.unsorted,
lapply, mapply, match, mget, order, paste, pmax, pmax.int, pmin,
pmin.int, rank, rbind, rownames, sapply, setdiff, sort, table,
tapply, union, unique, unsplit, which, which.max, which.min
Loading required package: S4Vectors
Attaching package: 'S4Vectors'
The following object is masked from 'package:base':
expand.grid
Loading required package: IRanges
Loading required package: GenomeInfoDb
Loading required package: NMF
Loading required package: pkgmaker
Loading required package: registry
Attaching package: 'pkgmaker'
The following object is masked from 'package:S4Vectors':
new2
The following object is masked from 'package:base':
isFALSE
Loading required package: rngtools
Loading required package: cluster
NMF - BioConductor layer [OK] | Shared memory capabilities [NO: synchronicity] | Cores 22/23
To enable shared memory capabilities, try: install.extras('
NMF
')
Attaching package: 'NMF'
The following object is masked from 'package:S4Vectors':
nrun
The following object is masked from 'package:testthat':
compare
>
> test_check("MutationalPatterns")
══ testthat results ═══════════════════════════════════════════════════════════
[ OK: 10 | SKIPPED: 0 | WARNINGS: 0 | FAILED: 0 ]
>
> proc.time()
user system elapsed
252.808 131.197 87.038
MutationalPatterns.Rcheck/MutationalPatterns-Ex.timings
| name | user | system | elapsed | |
| binomial_test | 0.010 | 0.000 | 0.011 | |
| cluster_signatures | 0.054 | 0.006 | 0.061 | |
| cos_sim | 0 | 0 | 0 | |
| cos_sim_matrix | 0.021 | 0.006 | 0.027 | |
| enrichment_depletion_test | 0.157 | 0.011 | 0.169 | |
| explained_by_signatures | 0.028 | 0.010 | 0.037 | |
| extract_signatures | 0.002 | 0.001 | 0.003 | |
| fit_to_signatures | 0.098 | 0.027 | 0.125 | |
| genomic_distribution | 32.914 | 2.352 | 35.372 | |
| mut_context | 1.790 | 0.239 | 2.028 | |
| mut_matrix | 18.631 | 10.621 | 4.684 | |
| mut_matrix_stranded | 41.530 | 23.019 | 11.212 | |
| mut_strand | 0.574 | 0.126 | 0.702 | |
| mut_type | 0.070 | 0.011 | 0.081 | |
| mut_type_occurrences | 11.790 | 1.046 | 12.874 | |
| mutation_context | 1.388 | 0.070 | 1.472 | |
| mutation_types | 0.066 | 0.004 | 0.069 | |
| mutations_from_vcf | 0.056 | 0.001 | 0.057 | |
| plot_192_profile | 1.625 | 0.060 | 1.687 | |
| plot_96_profile | 1.459 | 0.011 | 1.479 | |
| plot_compare_profiles | 0.813 | 0.009 | 0.824 | |
| plot_contribution | 1.565 | 0.020 | 1.586 | |
| plot_contribution_heatmap | 0.904 | 0.010 | 0.914 | |
| plot_cosine_heatmap | 0.585 | 0.005 | 0.590 | |
| plot_enrichment_depletion | 2.980 | 0.014 | 2.995 | |
| plot_rainfall | 1.592 | 0.007 | 1.601 | |
| plot_signature_strand_bias | 0.491 | 0.003 | 0.495 | |
| plot_spectrum | 13.033 | 0.522 | 13.560 | |
| plot_strand | 0.376 | 0.011 | 0.388 | |
| plot_strand_bias | 0.961 | 0.015 | 0.978 | |
| read_vcfs_as_granges | 17.066 | 11.011 | 4.588 | |
| strand_bias_test | 0.427 | 0.076 | 0.503 | |
| strand_occurrences | 0.411 | 0.055 | 0.466 | |
| type_context | 1.576 | 0.304 | 1.880 | |