| Back to Multiple platform build/check report for BioC 3.11 |
|
This page was generated on 2020-01-16 13:56:01 -0500 (Thu, 16 Jan 2020).
| Package 1453/1818 | Hostname | OS / Arch | INSTALL | BUILD | CHECK | BUILD BIN | ||||||
| RNAsense 1.1.0 Marcus Rosenblatt
| malbec2 | Linux (Ubuntu 18.04.3 LTS) / x86_64 | OK | OK | WARNINGS | |||||||
| tokay2 | Windows Server 2012 R2 Standard / x64 | OK | OK | WARNINGS | OK | |||||||
| celaya2 | OS X 10.11.6 El Capitan / x86_64 | OK | [ OK ] | WARNINGS | OK |
| Package: RNAsense |
| Version: 1.1.0 |
| Command: /Library/Frameworks/R.framework/Versions/Current/Resources/bin/R CMD build --keep-empty-dirs --no-resave-data RNAsense |
| StartedAt: 2020-01-16 01:06:51 -0500 (Thu, 16 Jan 2020) |
| EndedAt: 2020-01-16 01:16:14 -0500 (Thu, 16 Jan 2020) |
| EllapsedTime: 562.8 seconds |
| RetCode: 0 |
| Status: OK |
| PackageFile: RNAsense_1.1.0.tar.gz |
| PackageFileSize: 917.5 KiB |
############################################################################## ############################################################################## ### ### Running command: ### ### /Library/Frameworks/R.framework/Versions/Current/Resources/bin/R CMD build --keep-empty-dirs --no-resave-data RNAsense ### ############################################################################## ############################################################################## * checking for file ‘RNAsense/DESCRIPTION’ ... OK * preparing ‘RNAsense’: * checking DESCRIPTION meta-information ... OK * installing the package to build vignettes * creating vignettes ... OK * checking for LF line-endings in source and make files and shell scripts * checking for empty or unneeded directories * looking to see if a ‘data/datalist’ file should be added * building ‘RNAsense_1.1.0.tar.gz’