| Back to Multiple platform build/check report for BioC 3.11 |
|
This page was generated on 2020-01-16 13:33:29 -0500 (Thu, 16 Jan 2020).
| Package 2/1818 | Hostname | OS / Arch | INSTALL | BUILD | CHECK | BUILD BIN | ||||||
| a4Base 1.35.0 Tobias Verbeke
| malbec2 | Linux (Ubuntu 18.04.3 LTS) / x86_64 | OK | OK | WARNINGS | |||||||
| tokay2 | Windows Server 2012 R2 Standard / x64 | OK | OK | ERROR | OK | |||||||
| celaya2 | OS X 10.11.6 El Capitan / x86_64 | OK | [ OK ] | WARNINGS | OK |
| Package: a4Base |
| Version: 1.35.0 |
| Command: /Library/Frameworks/R.framework/Versions/Current/Resources/bin/R CMD build --keep-empty-dirs --no-resave-data a4Base |
| StartedAt: 2020-01-15 20:32:52 -0500 (Wed, 15 Jan 2020) |
| EndedAt: 2020-01-15 20:32:56 -0500 (Wed, 15 Jan 2020) |
| EllapsedTime: 4.1 seconds |
| RetCode: 0 |
| Status: OK |
| PackageFile: a4Base_1.35.0.tar.gz |
| PackageFileSize: 348.9 KiB |
############################################################################## ############################################################################## ### ### Running command: ### ### /Library/Frameworks/R.framework/Versions/Current/Resources/bin/R CMD build --keep-empty-dirs --no-resave-data a4Base ### ############################################################################## ############################################################################## * checking for file ‘a4Base/DESCRIPTION’ ... OK * preparing ‘a4Base’: * checking DESCRIPTION meta-information ... OK * checking for LF line-endings in source and make files and shell scripts * checking for empty or unneeded directories * looking to see if a ‘data/datalist’ file should be added * building ‘a4Base_1.35.0.tar.gz’