Back to Multiple platform build/check report for BioC 3.11 |
|
This page was generated on 2020-01-16 13:29:00 -0500 (Thu, 16 Jan 2020).
Package 860/1818 | Hostname | OS / Arch | INSTALL | BUILD | CHECK | BUILD BIN | ||||||
IRanges 2.21.3 Bioconductor Package Maintainer
| malbec2 | Linux (Ubuntu 18.04.3 LTS) / x86_64 | OK | OK | WARNINGS | |||||||
tokay2 | Windows Server 2012 R2 Standard / x64 | OK | OK | WARNINGS | OK | |||||||
celaya2 | OS X 10.11.6 El Capitan / x86_64 | OK | [ OK ] | WARNINGS | OK |
Package: IRanges |
Version: 2.21.3 |
Command: /Library/Frameworks/R.framework/Versions/Current/Resources/bin/R CMD build --keep-empty-dirs --no-resave-data IRanges |
StartedAt: 2020-01-15 19:49:45 -0500 (Wed, 15 Jan 2020) |
EndedAt: 2020-01-15 19:51:51 -0500 (Wed, 15 Jan 2020) |
EllapsedTime: 125.4 seconds |
RetCode: 0 |
Status: OK |
PackageFile: IRanges_2.21.3.tar.gz |
PackageFileSize: 451.8 KiB |
############################################################################## ############################################################################## ### ### Running command: ### ### /Library/Frameworks/R.framework/Versions/Current/Resources/bin/R CMD build --keep-empty-dirs --no-resave-data IRanges ### ############################################################################## ############################################################################## * checking for file ‘IRanges/DESCRIPTION’ ... OK * preparing ‘IRanges’: * checking DESCRIPTION meta-information ... OK * cleaning src * installing the package to build vignettes * creating vignettes ... OK * cleaning src * checking for LF line-endings in source and make files and shell scripts * checking for empty or unneeded directories * building ‘IRanges_2.21.3.tar.gz’