| Back to Multiple platform build/check report for BioC 3.11 | 
 | 
This page was generated on 2020-01-16 13:47:09 -0500 (Thu, 16 Jan 2020).
| Package 649/1818 | Hostname | OS / Arch | INSTALL | BUILD | CHECK | BUILD BIN | ||||||
| geneClassifiers 1.11.0 R Kuiper 
 | malbec2 | Linux (Ubuntu 18.04.3 LTS) / x86_64 | OK | OK | OK |  | ||||||
| tokay2 | Windows Server 2012 R2 Standard / x64 | OK | OK | OK | OK |  | ||||||
| celaya2 | OS X 10.11.6 El Capitan / x86_64 | OK | [ OK ] | OK | OK |  | 
| Package: geneClassifiers | 
| Version: 1.11.0 | 
| Command: /Library/Frameworks/R.framework/Versions/Current/Resources/bin/R CMD build --keep-empty-dirs --no-resave-data geneClassifiers | 
| StartedAt: 2020-01-15 23:17:07 -0500 (Wed, 15 Jan 2020) | 
| EndedAt: 2020-01-15 23:17:30 -0500 (Wed, 15 Jan 2020) | 
| EllapsedTime: 22.2 seconds | 
| RetCode: 0 | 
| Status: OK | 
| PackageFile: geneClassifiers_1.11.0.tar.gz | 
| PackageFileSize: 1.768 MiB | 
############################################################################## ############################################################################## ### ### Running command: ### ### /Library/Frameworks/R.framework/Versions/Current/Resources/bin/R CMD build --keep-empty-dirs --no-resave-data geneClassifiers ### ############################################################################## ############################################################################## * checking for file ‘geneClassifiers/DESCRIPTION’ ... OK * preparing ‘geneClassifiers’: * checking DESCRIPTION meta-information ... OK * installing the package to build vignettes * creating vignettes ... OK * checking for LF line-endings in source and make files and shell scripts * checking for empty or unneeded directories * building ‘geneClassifiers_1.11.0.tar.gz’