| Back to Multiple platform build/check report for BioC 3.11 |
|
This page was generated on 2020-01-16 13:39:58 -0500 (Thu, 16 Jan 2020).
| Package 1697/1818 | Hostname | OS / Arch | INSTALL | BUILD | CHECK | BUILD BIN | ||||||
| systemPipeR 1.21.0 Thomas Girke
| malbec2 | Linux (Ubuntu 18.04.3 LTS) / x86_64 | OK | OK | OK | |||||||
| tokay2 | Windows Server 2012 R2 Standard / x64 | OK | OK | OK | NA | |||||||
| celaya2 | OS X 10.11.6 El Capitan / x86_64 | OK | OK | [ OK ] | OK |
| Package: systemPipeR |
| Version: 1.21.0 |
| Command: /Library/Frameworks/R.framework/Versions/Current/Resources/bin/R CMD check --install=check:systemPipeR.install-out.txt --library=/Library/Frameworks/R.framework/Versions/Current/Resources/library --no-vignettes --timings systemPipeR_1.21.0.tar.gz |
| StartedAt: 2020-01-16 09:23:25 -0500 (Thu, 16 Jan 2020) |
| EndedAt: 2020-01-16 09:34:48 -0500 (Thu, 16 Jan 2020) |
| EllapsedTime: 683.0 seconds |
| RetCode: 0 |
| Status: OK |
| CheckDir: systemPipeR.Rcheck |
| Warnings: 0 |
##############################################################################
##############################################################################
###
### Running command:
###
### /Library/Frameworks/R.framework/Versions/Current/Resources/bin/R CMD check --install=check:systemPipeR.install-out.txt --library=/Library/Frameworks/R.framework/Versions/Current/Resources/library --no-vignettes --timings systemPipeR_1.21.0.tar.gz
###
##############################################################################
##############################################################################
* using log directory ‘/Users/biocbuild/bbs-3.11-bioc/meat/systemPipeR.Rcheck’
* using R Under development (unstable) (2019-12-14 r77572)
* using platform: x86_64-apple-darwin15.6.0 (64-bit)
* using session charset: UTF-8
* using option ‘--no-vignettes’
* checking for file ‘systemPipeR/DESCRIPTION’ ... OK
* checking extension type ... Package
* this is package ‘systemPipeR’ version ‘1.21.0’
* checking package namespace information ... OK
* checking package dependencies ... OK
* checking if this is a source package ... OK
* checking if there is a namespace ... OK
* checking for hidden files and directories ... NOTE
Found the following hidden files and directories:
inst/extdata/.batchtools.conf.R
These were most likely included in error. See section ‘Package
structure’ in the ‘Writing R Extensions’ manual.
* checking for portable file names ... OK
* checking for sufficient/correct file permissions ... OK
* checking whether package ‘systemPipeR’ can be installed ... OK
* checking installed package size ... OK
* checking package directory ... OK
* checking ‘build’ directory ... OK
* checking DESCRIPTION meta-information ... OK
* checking top-level files ... OK
* checking for left-over files ... OK
* checking index information ... OK
* checking package subdirectories ... OK
* checking R files for non-ASCII characters ... OK
* checking R files for syntax errors ... OK
* checking whether the package can be loaded ... OK
* checking whether the package can be loaded with stated dependencies ... OK
* checking whether the package can be unloaded cleanly ... OK
* checking whether the namespace can be loaded with stated dependencies ... OK
* checking whether the namespace can be unloaded cleanly ... OK
* checking dependencies in R code ... NOTE
Namespace in Imports field not imported from: ‘BiocGenerics’
All declared Imports should be used.
* checking S3 generic/method consistency ... OK
* checking replacement functions ... OK
* checking foreign function calls ... OK
* checking R code for possible problems ... NOTE
.AffyID2GeneID: no visible global function definition for ‘read.delim’
.readGOorg: no visible global function definition for ‘read.delim’
.readGOorg: no visible global function definition for ‘na.omit’
.resizeFeature: no visible global function definition for ‘DataFrame’
.sampleDFgene2GO: no visible global function definition for ‘na.omit’
.subsetReadsByMappingRegion: no visible global function definition for
‘IRanges’
.subsetReadsByMappingRegion: no visible global function definition for
‘seqlengths’
.subsetReadsByMappingRegion: no visible global function definition for
‘readGAlignments’
GOHyperGAll: no visible global function definition for ‘phyper’
GOHyperGAll_Simplify: no visible global function definition for
‘na.omit’
GOHyperGAll_Subset: no visible binding for global variable
‘test_sample’
assembleCommandlineList: no visible binding for global variable ‘WF’
combineVarReports: no visible global function definition for
‘read.delim’
countRangeset: no visible global function definition for ‘read.delim’
countRangeset: no visible global function definition for ‘import.bed’
countRangeset: no visible global function definition for
‘summarizeOverlaps’
countRangeset: no visible global function definition for ‘write.table’
createWF: no visible global function definition for ‘read.delim’
featureCoverage: no visible global function definition for
‘readGAlignments’
featureCoverage: no visible global function definition for ‘qwidth’
featureCoverage: no visible global function definition for
‘subsetByOverlaps’
featureCoverage: no visible global function definition for ‘Rle’
featureCoverage: no visible global function definition for ‘na.omit’
featureCoverage: no visible global function definition for
‘write.table’
featuretypeCounts: no visible global function definition for
‘readGAlignments’
featuretypeCounts: no visible global function definition for
‘readGAlignmentPairs’
featuretypeCounts: no visible global function definition for
‘subsetByOverlaps’
featuretypeCounts: no visible global function definition for ‘qwidth’
featuretypeCounts: no visible global function definition for ‘last’
featuretypeCounts: no visible global function definition for ‘first’
filterDEGs: no visible binding for global variable ‘Comparisons’
filterDEGs: no visible binding for global variable ‘Counts’
filterDEGs: no visible binding for global variable ‘Type’
findBestMatch: no visible global function definition for ‘setNames’
genFeatures: no visible global function definition for ‘DataFrame’
genFeatures: no visible global function definition for ‘seqlengths<-’
getQsubargs: no visible binding for global variable ‘tophatargs’
goBarplot: no visible binding for global variable ‘SampleMatch’
goBarplot: no visible binding for global variable ‘Sample’
loadWF: no visible global function definition for ‘read.delim’
loadWorkflow: no visible global function definition for ‘read.delim’
olBarplot: no visible binding for global variable ‘Intersect_Sets’
olBarplot: no visible binding for global variable ‘Counts’
olBarplot: no visible binding for global variable ‘Level’
olRanges: no visible global function definition for ‘seqlengths<-’
olRanges: no visible global function definition for ‘seqlengths’
olRanges: no visible global function definition for ‘Rle’
olRanges: no visible global function definition for ‘IRanges’
overLapper : <anonymous>: no visible global function definition for
‘combn’
plotfeatureCoverage: no visible global function definition for
‘aggregate’
plotfeatureCoverage: no visible binding for global variable ‘Coverage’
plotfeatureCoverage: no visible binding for global variable ‘Strand’
plotfeaturetypeCounts: no visible binding for global variable ‘Feature’
plotfeaturetypeCounts: no visible binding for global variable ‘Counts’
plotfeaturetypeCounts: no visible binding for global variable ‘Strand’
plotfeaturetypeCounts: no visible global function definition for
‘dev.off’
plotfeaturetypeCounts: no visible binding for global variable ‘Length’
predORF : .predORF: no visible global function definition for ‘na.omit’
predORF : .predORF: no visible global function definition for ‘IRanges’
readComp: no visible binding for global variable ‘args_bam’
readComp: no visible global function definition for ‘read.delim’
readComp: no visible global function definition for ‘combn’
renderInputs: no visible binding for global variable ‘WF’
renderOutputs: no visible binding for global variable ‘WF’
runDiff: no visible global function definition for ‘read.delim’
runDiff: no visible global function definition for ‘write.table’
runDiff: no visible global function definition for ‘pdf’
runDiff: no visible global function definition for ‘dev.off’
run_edgeR: no visible global function definition for ‘model.matrix’
run_edgeR: no visible global function definition for ‘pdf’
run_edgeR: no visible global function definition for ‘dev.off’
scaleRanges : .scaleRanges: no visible global function definition for
‘IRanges’
scaleRanges: no visible global function definition for ‘DataFrame’
seeFastq : seeFastqSingle: no visible global function definition for
‘boxplot’
seeFastqPlot : fastqPlot: no visible binding for global variable
‘Cycle’
seeFastqPlot : fastqPlot: no visible binding for global variable ‘low’
seeFastqPlot : fastqPlot: no visible binding for global variable ‘mid’
seeFastqPlot : fastqPlot: no visible binding for global variable ‘top’
seeFastqPlot : fastqPlot: no visible binding for global variable
‘Frequency’
seeFastqPlot : fastqPlot: no visible binding for global variable ‘Base’
seeFastqPlot : fastqPlot: no visible binding for global variable
‘Quality’
seeFastqPlot : fastqPlot: no visible binding for global variable
‘RelDiv’
seeFastqPlot : fastqPlot: no visible binding for global variable
‘Method’
seeFastqPlot : fastqPlot: no visible binding for global variable
‘minQuality’
seeFastqPlot : fastqPlot: no visible binding for global variable
‘Percent’
seeFastqPlot : fastqPlot: no visible binding for global variable
‘Outliers’
systemArgs: no visible global function definition for ‘read.delim’
varSummary: no visible global function definition for ‘read.delim’
variantReport: no visible global function definition for ‘write.table’
vennPlot: no visible global function definition for ‘symbols’
vennPlot: no visible global function definition for ‘text’
vennPlot : plotellipse: no visible global function definition for
‘plot’
vennPlot : ellipseVenn: no visible global function definition for
‘split.screen’
vennPlot : ellipseVenn: no visible global function definition for
‘screen’
vennPlot : ellipseVenn: no visible global function definition for
‘text’
vennPlot : ellipseVenn: no visible global function definition for
‘close.screen’
writeTargetsRef: no visible global function definition for ‘read.delim’
modules,SYSargs2: no visible global function definition for ‘setNames’
Undefined global functions or variables:
Base Comparisons Counts Coverage Cycle DataFrame Feature Frequency
IRanges Intersect_Sets Length Level Method Outliers Percent Quality
RelDiv Rle Sample SampleMatch Strand Type WF aggregate args_bam
boxplot close.screen combn dev.off first import.bed last low mid
minQuality model.matrix na.omit pdf phyper plot qwidth read.delim
readGAlignmentPairs readGAlignments screen seqlengths seqlengths<-
setNames split.screen subsetByOverlaps summarizeOverlaps symbols
test_sample text top tophatargs write.table
Consider adding
importFrom("grDevices", "dev.off", "pdf")
importFrom("graphics", "boxplot", "close.screen", "plot", "screen",
"split.screen", "symbols", "text")
importFrom("stats", "aggregate", "model.matrix", "na.omit", "phyper",
"setNames")
importFrom("utils", "combn", "read.delim", "write.table")
to your NAMESPACE file.
* checking Rd files ... OK
* checking Rd metadata ... OK
* checking Rd cross-references ... OK
* checking for missing documentation entries ... OK
* checking for code/documentation mismatches ... OK
* checking Rd \usage sections ... OK
* checking Rd contents ... OK
* checking for unstated dependencies in examples ... OK
* checking line endings in Makefiles ... OK
* checking for GNU extensions in Makefiles ... OK
* checking include directives in Makefiles ... OK
* checking files in ‘vignettes’ ... OK
* checking examples ... OK
Examples with CPU (user + system) or elapsed time > 5s
user system elapsed
genFeatures 34.737 1.146 35.882
run_DESeq2 16.050 0.118 16.169
loadWorkflow 8.084 0.293 8.378
run_track 7.217 0.023 7.241
SYSargs2Pipe-methods 6.357 0.019 6.387
* checking for unstated dependencies in ‘tests’ ... OK
* checking tests ...
Running ‘runTests.R’
OK
* checking for unstated dependencies in vignettes ... OK
* checking package vignettes in ‘inst/doc’ ... OK
* checking running R code from vignettes ... SKIPPED
* checking re-building of vignette outputs ... SKIPPED
* checking PDF version of manual ... OK
* DONE
Status: 3 NOTEs
See
‘/Users/biocbuild/bbs-3.11-bioc/meat/systemPipeR.Rcheck/00check.log’
for details.
systemPipeR.Rcheck/00install.out
############################################################################## ############################################################################## ### ### Running command: ### ### /Library/Frameworks/R.framework/Versions/Current/Resources/bin/R CMD INSTALL systemPipeR ### ############################################################################## ############################################################################## * installing to library ‘/Library/Frameworks/R.framework/Versions/4.0/Resources/library’ * installing *source* package ‘systemPipeR’ ... ** using staged installation ** R ** inst ** byte-compile and prepare package for lazy loading ** help *** installing help indices ** building package indices ** installing vignettes ** testing if installed package can be loaded from temporary location ** testing if installed package can be loaded from final location ** testing if installed package keeps a record of temporary installation path * DONE (systemPipeR)
systemPipeR.Rcheck/tests/runTests.Rout
R Under development (unstable) (2019-12-14 r77572) -- "Unsuffered Consequences"
Copyright (C) 2019 The R Foundation for Statistical Computing
Platform: x86_64-apple-darwin15.6.0 (64-bit)
R is free software and comes with ABSOLUTELY NO WARRANTY.
You are welcome to redistribute it under certain conditions.
Type 'license()' or 'licence()' for distribution details.
R is a collaborative project with many contributors.
Type 'contributors()' for more information and
'citation()' on how to cite R or R packages in publications.
Type 'demo()' for some demos, 'help()' for on-line help, or
'help.start()' for an HTML browser interface to help.
Type 'q()' to quit R.
> BiocGenerics:::testPackage("systemPipeR")
Attaching package: 'BiocGenerics'
The following objects are masked from 'package:parallel':
clusterApply, clusterApplyLB, clusterCall, clusterEvalQ,
clusterExport, clusterMap, parApply, parCapply, parLapply,
parLapplyLB, parRapply, parSapply, parSapplyLB
The following objects are masked from 'package:stats':
IQR, mad, sd, var, xtabs
The following objects are masked from 'package:base':
Filter, Find, Map, Position, Reduce, anyDuplicated, append,
as.data.frame, basename, cbind, colnames, dirname, do.call,
duplicated, eval, evalq, get, grep, grepl, intersect, is.unsorted,
lapply, mapply, match, mget, order, paste, pmax, pmax.int, pmin,
pmin.int, rank, rbind, rownames, sapply, setdiff, sort, table,
tapply, union, unique, unsplit, which, which.max, which.min
Attaching package: 'S4Vectors'
The following object is masked from 'package:base':
expand.grid
Attaching package: 'Biostrings'
The following object is masked from 'package:base':
strsplit
Welcome to Bioconductor
Vignettes contain introductory material; view with
'browseVignettes()'. To cite Bioconductor, see
'citation("Biobase")', and for packages 'citation("pkgname")'.
Attaching package: 'matrixStats'
The following objects are masked from 'package:Biobase':
anyMissing, rowMedians
Attaching package: 'DelayedArray'
The following objects are masked from 'package:matrixStats':
colMaxs, colMins, colRanges, rowMaxs, rowMins, rowRanges
The following objects are masked from 'package:base':
aperm, apply, rowsum
RUNIT TEST PROTOCOL -- Thu Jan 16 09:34:38 2020
***********************************************
Number of test functions: 1
Number of errors: 0
Number of failures: 0
1 Test Suite :
systemPipeR RUnit Tests - 1 test function, 0 errors, 0 failures
Number of test functions: 1
Number of errors: 0
Number of failures: 0
Warning messages:
1: In normalizePath(infile1) :
path[1]="SRR446027_1.fastq": No such file or directory
2: In normalizePath(infile1) :
path[2]="SRR446028_1.fastq": No such file or directory
3: In normalizePath(infile1) :
path[3]="SRR446029_1.fastq": No such file or directory
4: In normalizePath(infile1) :
path[4]="SRR446030_1.fastq": No such file or directory
>
> proc.time()
user system elapsed
24.627 1.954 26.533
systemPipeR.Rcheck/systemPipeR-Ex.timings
| name | user | system | elapsed | |
| GOHyperGAll | 0.000 | 0.001 | 0.001 | |
| INTERSECTset-class | 0.015 | 0.009 | 0.026 | |
| SYSargs-class | 0.060 | 0.011 | 0.074 | |
| SYSargs2-class | 4.118 | 0.555 | 4.743 | |
| SYSargs2Pipe-class | 4.141 | 0.064 | 4.267 | |
| SYSargs2Pipe-methods | 6.357 | 0.019 | 6.387 | |
| SYSargs2list-methods | 2.458 | 0.011 | 2.468 | |
| VENNset-class | 0.010 | 0.006 | 0.017 | |
| alignStats | 2.623 | 0.013 | 2.636 | |
| catDB-class | 0.001 | 0.001 | 0.002 | |
| catmap | 0.001 | 0.001 | 0.001 | |
| clusterRun | 2.541 | 0.015 | 2.556 | |
| countRangeset | 0.150 | 0.003 | 0.154 | |
| createWF | 0.002 | 0.000 | 0.002 | |
| featureCoverage | 0.020 | 0.003 | 0.023 | |
| featuretypeCounts | 0.018 | 0.003 | 0.021 | |
| filterDEGs | 1.192 | 0.045 | 1.239 | |
| filterVars | 0.018 | 0.004 | 0.023 | |
| genFeatures | 34.737 | 1.146 | 35.882 | |
| getQsubargs | 0.031 | 0.009 | 0.039 | |
| loadWorkflow | 8.084 | 0.293 | 8.378 | |
| mergeBamByFactor | 0.017 | 0.002 | 0.021 | |
| module | 0.000 | 0.000 | 0.001 | |
| moduleload | 0.001 | 0.000 | 0.000 | |
| olBarplot | 0.861 | 0.041 | 0.906 | |
| olRanges | 0.251 | 0.004 | 0.254 | |
| output_update | 3.115 | 0.184 | 3.300 | |
| overLapper | 0.683 | 0.037 | 0.725 | |
| plotfeatureCoverage | 0.019 | 0.003 | 0.021 | |
| plotfeaturetypeCounts | 0.020 | 0.003 | 0.023 | |
| predORF | 0.390 | 0.017 | 0.409 | |
| preprocessReads | 0.036 | 0.006 | 0.044 | |
| qsubRun | 0.024 | 0.004 | 0.029 | |
| readComp | 0.020 | 0.004 | 0.023 | |
| renderWF | 2.511 | 0.006 | 2.517 | |
| returnRPKM | 0.000 | 0.000 | 0.001 | |
| runCommandline | 3.492 | 0.015 | 3.508 | |
| runDiff | 0.069 | 0.003 | 0.072 | |
| run_DESeq2 | 16.050 | 0.118 | 16.169 | |
| run_edgeR | 1.193 | 0.029 | 1.223 | |
| run_track | 7.217 | 0.023 | 7.241 | |
| scaleRanges | 0.250 | 0.001 | 0.252 | |
| seeFastq | 0 | 0 | 0 | |
| subsetWF | 3.169 | 0.006 | 3.175 | |
| symLink2bam | 0.019 | 0.002 | 0.021 | |
| sysargs | 0.017 | 0.002 | 0.019 | |
| systemArgs | 0.026 | 0.005 | 0.030 | |
| targets.as.df | 3.345 | 0.009 | 3.354 | |
| variantReport | 0.018 | 0.003 | 0.021 | |
| vennPlot | 0.631 | 0.043 | 0.679 | |
| writeTargetsRef | 0.001 | 0.000 | 0.002 | |
| writeTargetsout | 3.206 | 0.008 | 3.214 | |