| Back to Multiple platform build/check report for BioC 3.11 | 
 | 
This page was generated on 2020-01-16 13:48:08 -0500 (Thu, 16 Jan 2020).
| Package 1049/1818 | Hostname | OS / Arch | INSTALL | BUILD | CHECK | BUILD BIN | ||||||
| miRBaseConverter 1.11.0 Taosheng Xu 
 | malbec2 | Linux (Ubuntu 18.04.3 LTS) / x86_64 | OK | OK | OK |  | ||||||
| tokay2 | Windows Server 2012 R2 Standard / x64 | OK | OK | OK | OK |  | ||||||
| celaya2 | OS X 10.11.6 El Capitan / x86_64 | OK | [ OK ] | OK | OK |  | 
| Package: miRBaseConverter | 
| Version: 1.11.0 | 
| Command: /Library/Frameworks/R.framework/Versions/Current/Resources/bin/R CMD build --keep-empty-dirs --no-resave-data miRBaseConverter | 
| StartedAt: 2020-01-15 23:27:39 -0500 (Wed, 15 Jan 2020) | 
| EndedAt: 2020-01-15 23:28:12 -0500 (Wed, 15 Jan 2020) | 
| EllapsedTime: 33.3 seconds | 
| RetCode: 0 | 
| Status: OK | 
| PackageFile: miRBaseConverter_1.11.0.tar.gz | 
| PackageFileSize: 1.942 MiB | 
##############################################################################
##############################################################################
###
### Running command:
###
###   /Library/Frameworks/R.framework/Versions/Current/Resources/bin/R CMD build --keep-empty-dirs --no-resave-data miRBaseConverter
###
##############################################################################
##############################################################################
* checking for file ‘miRBaseConverter/DESCRIPTION’ ... OK
* preparing ‘miRBaseConverter’:
* checking DESCRIPTION meta-information ... OK
* installing the package to build vignettes
* creating vignettes ... OK
Warning: ‘inst/doc’ files
    ‘miRBaseConverter-vignette.html’, ‘miRBaseConverter-vignette.R’
  ignored as vignettes have been rebuilt.
  Run R CMD build with --no-build-vignettes to prevent rebuilding.
* checking for LF line-endings in source and make files and shell scripts
* checking for empty or unneeded directories
* building ‘miRBaseConverter_1.11.0.tar.gz’