| Back to Multiple platform build/check report for BioC 3.11 |
|
This page was generated on 2020-01-16 13:37:46 -0500 (Thu, 16 Jan 2020).
| Package 1175/1818 | Hostname | OS / Arch | INSTALL | BUILD | CHECK | BUILD BIN | ||||||
| omicade4 1.27.0 Chen Meng
| malbec2 | Linux (Ubuntu 18.04.3 LTS) / x86_64 | OK | OK | OK | |||||||
| tokay2 | Windows Server 2012 R2 Standard / x64 | OK | OK | OK | OK | |||||||
| celaya2 | OS X 10.11.6 El Capitan / x86_64 | OK | [ OK ] | OK | OK |
| Package: omicade4 |
| Version: 1.27.0 |
| Command: /Library/Frameworks/R.framework/Versions/Current/Resources/bin/R CMD build --keep-empty-dirs --no-resave-data omicade4 |
| StartedAt: 2020-01-15 21:14:12 -0500 (Wed, 15 Jan 2020) |
| EndedAt: 2020-01-15 21:14:27 -0500 (Wed, 15 Jan 2020) |
| EllapsedTime: 14.8 seconds |
| RetCode: 0 |
| Status: OK |
| PackageFile: omicade4_1.27.0.tar.gz |
| PackageFileSize: 443.4 KiB |
##############################################################################
##############################################################################
###
### Running command:
###
### /Library/Frameworks/R.framework/Versions/Current/Resources/bin/R CMD build --keep-empty-dirs --no-resave-data omicade4
###
##############################################################################
##############################################################################
* checking for file ‘omicade4/DESCRIPTION’ ... OK
* preparing ‘omicade4’:
* checking DESCRIPTION meta-information ... OK
* installing the package to build vignettes
* creating vignettes ... OK
Warning: ‘inst/doc’ file
‘omicade4.Rnw’
ignored as vignettes have been rebuilt.
Run R CMD build with --no-build-vignettes to prevent rebuilding.
* checking for LF line-endings in source and make files and shell scripts
* checking for empty or unneeded directories
* looking to see if a ‘data/datalist’ file should be added
* building ‘omicade4_1.27.0.tar.gz’