| Back to Multiple platform build/check report for BioC 3.11 |
|
This page was generated on 2020-01-16 13:36:58 -0500 (Thu, 16 Jan 2020).
| Package 185/1818 | Hostname | OS / Arch | INSTALL | BUILD | CHECK | BUILD BIN | ||||||
Katja Hebestreit
| malbec2 | Linux (Ubuntu 18.04.3 LTS) / x86_64 | ERROR | ERROR | skipped | |||||||
| tokay2 | Windows Server 2012 R2 Standard / x64 | ERROR | ERROR | skipped | skipped | |||||||
| celaya2 | OS X 10.11.6 El Capitan / x86_64 | ERROR | [ ERROR ] | skipped | skipped |
| Package: BiSeq |
| Version: 1.27.1 |
| Command: /Library/Frameworks/R.framework/Versions/Current/Resources/bin/R CMD build --keep-empty-dirs --no-resave-data BiSeq |
| StartedAt: 2020-01-15 21:09:12 -0500 (Wed, 15 Jan 2020) |
| EndedAt: 2020-01-15 21:09:30 -0500 (Wed, 15 Jan 2020) |
| EllapsedTime: 17.9 seconds |
| RetCode: 1 |
| Status: ERROR |
| PackageFile: None |
| PackageFileSize: NA |
##############################################################################
##############################################################################
###
### Running command:
###
### /Library/Frameworks/R.framework/Versions/Current/Resources/bin/R CMD build --keep-empty-dirs --no-resave-data BiSeq
###
##############################################################################
##############################################################################
* checking for file ‘BiSeq/DESCRIPTION’ ... OK
* preparing ‘BiSeq’:
* checking DESCRIPTION meta-information ... OK
* installing the package to build vignettes
-----------------------------------
* installing *source* package ‘BiSeq’ ...
** using staged installation
** R
** data
** inst
** byte-compile and prepare package for lazy loading
Error in matchSignature(signature, fdef) :
there are named arguments (‘region’) in the method signature that ambiguously match the generic signature, for function ‘annotateGRanges’
Error: unable to load R code in package ‘BiSeq’
Execution halted
ERROR: lazy loading failed for package ‘BiSeq’
* removing ‘/private/tmp/RtmphbXl76/Rinst1764d320ce0c9/BiSeq’
-----------------------------------
ERROR: package installation failed