Back to Multiple platform build/check report for BioC 3.11 |
|
This page was generated on 2020-01-16 13:51:29 -0500 (Thu, 16 Jan 2020).
Package 217/1818 | Hostname | OS / Arch | INSTALL | BUILD | CHECK | BUILD BIN | ||||||
Lulu Chen
| malbec2 | Linux (Ubuntu 18.04.3 LTS) / x86_64 | OK | OK | WARNINGS | ![]() | ||||||
tokay2 | Windows Server 2012 R2 Standard / x64 | OK | OK | WARNINGS | OK | ![]() | ||||||
celaya2 | OS X 10.11.6 El Capitan / x86_64 | OK | OK | WARNINGS | [ OK ] | ![]() |
Package: CAMTHC |
Version: 1.5.0 |
Command: rm -rf CAMTHC.buildbin-libdir && mkdir CAMTHC.buildbin-libdir && /Users/biocbuild/BBS/utils/build-universal.sh CAMTHC_1.5.0.tar.gz /Library/Frameworks/R.framework/Versions/Current/Resources/bin/R CAMTHC.buildbin-libdir |
StartedAt: 2020-01-16 10:34:13 -0500 (Thu, 16 Jan 2020) |
EndedAt: 2020-01-16 10:34:28 -0500 (Thu, 16 Jan 2020) |
EllapsedTime: 15.2 seconds |
RetCode: 0 |
Status: OK |
PackageFile: CAMTHC_1.5.0.tgz |
PackageFileSize: 3.217 MiB |
############################################################################## ############################################################################## ### ### Running command: ### ### rm -rf CAMTHC.buildbin-libdir && mkdir CAMTHC.buildbin-libdir && /Users/biocbuild/BBS/utils/build-universal.sh CAMTHC_1.5.0.tar.gz /Library/Frameworks/R.framework/Versions/Current/Resources/bin/R CAMTHC.buildbin-libdir ### ############################################################################## ############################################################################## >>>>>>> >>>>>>> INSTALLATION WITH 'R CMD INSTALL --preclean --no-multiarch --library=CAMTHC.buildbin-libdir CAMTHC_1.5.0.tar.gz' >>>>>>> * installing *source* package ‘CAMTHC’ ... ** using staged installation ** R ** data ** inst ** byte-compile and prepare package for lazy loading ** help *** installing help indices ** building package indices ** installing vignettes ** testing if installed package can be loaded from temporary location Warning: Package 'CAMTHC' is deprecated and will be removed from Bioconductor version 3.12 . Package renamed to debCAM ** testing if installed package can be loaded from final location Warning: Package 'CAMTHC' is deprecated and will be removed from Bioconductor version 3.12 . Package renamed to debCAM ** testing if installed package keeps a record of temporary installation path * DONE (CAMTHC)