| Back to Multiple platform build/check report for BioC 3.11 |
|
This page was generated on 2020-01-16 13:43:14 -0500 (Thu, 16 Jan 2020).
| Package 1082/1818 | Hostname | OS / Arch | INSTALL | BUILD | CHECK | BUILD BIN | ||||||
| motifbreakR 2.1.0 Simon Gert Coetzee
| malbec2 | Linux (Ubuntu 18.04.3 LTS) / x86_64 | OK | OK | WARNINGS | |||||||
| tokay2 | Windows Server 2012 R2 Standard / x64 | OK | OK | WARNINGS | OK | |||||||
| celaya2 | OS X 10.11.6 El Capitan / x86_64 | OK | OK | WARNINGS | [ OK ] |
| Package: motifbreakR |
| Version: 2.1.0 |
| Command: rm -rf motifbreakR.buildbin-libdir && mkdir motifbreakR.buildbin-libdir && /Users/biocbuild/BBS/utils/build-universal.sh motifbreakR_2.1.0.tar.gz /Library/Frameworks/R.framework/Versions/Current/Resources/bin/R motifbreakR.buildbin-libdir |
| StartedAt: 2020-01-16 11:20:33 -0500 (Thu, 16 Jan 2020) |
| EndedAt: 2020-01-16 11:22:05 -0500 (Thu, 16 Jan 2020) |
| EllapsedTime: 92.0 seconds |
| RetCode: 0 |
| Status: OK |
| PackageFile: motifbreakR_2.1.0.tgz |
| PackageFileSize: 2.799 MiB |
##############################################################################
##############################################################################
###
### Running command:
###
### rm -rf motifbreakR.buildbin-libdir && mkdir motifbreakR.buildbin-libdir && /Users/biocbuild/BBS/utils/build-universal.sh motifbreakR_2.1.0.tar.gz /Library/Frameworks/R.framework/Versions/Current/Resources/bin/R motifbreakR.buildbin-libdir
###
##############################################################################
##############################################################################
>>>>>>>
>>>>>>> INSTALLATION WITH 'R CMD INSTALL --preclean --no-multiarch --library=motifbreakR.buildbin-libdir motifbreakR_2.1.0.tar.gz'
>>>>>>>
* installing *source* package ‘motifbreakR’ ...
** using staged installation
** R
** data
*** moving datasets to lazyload DB
** inst
** byte-compile and prepare package for lazy loading
See system.file("LICENSE", package="MotifDb") for use restrictions.
** help
*** installing help indices
** building package indices
** installing vignettes
** testing if installed package can be loaded from temporary location
See system.file("LICENSE", package="MotifDb") for use restrictions.
** testing if installed package can be loaded from final location
See system.file("LICENSE", package="MotifDb") for use restrictions.
** testing if installed package keeps a record of temporary installation path
* DONE (motifbreakR)