| Back to Multiple platform build/check report for BioC 3.11 | 
 | 
This page was generated on 2020-01-16 13:44:59 -0500 (Thu, 16 Jan 2020).
| Package 905/1818 | Hostname | OS / Arch | INSTALL | BUILD | CHECK | BUILD BIN | ||||||
| Linnorm 2.11.0 Ken Shun Hang Yip 
 | malbec2 | Linux (Ubuntu 18.04.3 LTS) / x86_64 | OK | OK | OK |  | ||||||
| tokay2 | Windows Server 2012 R2 Standard / x64 | OK | OK | OK | OK |  | ||||||
| celaya2 | OS X 10.11.6 El Capitan / x86_64 | OK | OK | OK | [ OK ] |  | 
| Package: Linnorm | 
| Version: 2.11.0 | 
| Command: rm -rf Linnorm.buildbin-libdir && mkdir Linnorm.buildbin-libdir && /Users/biocbuild/BBS/utils/build-universal.sh Linnorm_2.11.0.tar.gz /Library/Frameworks/R.framework/Versions/Current/Resources/bin/R Linnorm.buildbin-libdir | 
| StartedAt: 2020-01-16 11:11:59 -0500 (Thu, 16 Jan 2020) | 
| EndedAt: 2020-01-16 11:12:54 -0500 (Thu, 16 Jan 2020) | 
| EllapsedTime: 54.5 seconds | 
| RetCode: 0 | 
| Status: OK | 
| PackageFile: Linnorm_2.11.0.tgz | 
| PackageFileSize: 4.272 MiB | 
##############################################################################
##############################################################################
###
### Running command:
###
###   rm -rf Linnorm.buildbin-libdir && mkdir Linnorm.buildbin-libdir && /Users/biocbuild/BBS/utils/build-universal.sh Linnorm_2.11.0.tar.gz /Library/Frameworks/R.framework/Versions/Current/Resources/bin/R Linnorm.buildbin-libdir
###
##############################################################################
##############################################################################
>>>>>>> 
>>>>>>> INSTALLATION WITH 'R CMD INSTALL --preclean --no-multiarch --library=Linnorm.buildbin-libdir Linnorm_2.11.0.tar.gz'
>>>>>>> 
* installing *source* package ‘Linnorm’ ...
** using staged installation
** libs
clang++ -std=gnu++11 -I"/Library/Frameworks/R.framework/Resources/include" -DNDEBUG  -I'/Library/Frameworks/R.framework/Versions/4.0/Resources/library/Rcpp/include' -I'/Library/Frameworks/R.framework/Versions/4.0/Resources/library/RcppArmadillo/include' -isysroot /Library/Developer/CommandLineTools/SDKs/MacOSX.sdk -I/usr/local/include   -fPIC  -Wall -g -O2  -c Misc.cpp -o Misc.o
In file included from Misc.cpp:18:
In file included from /Library/Frameworks/R.framework/Versions/4.0/Resources/library/RcppArmadillo/include/RcppArmadillo.h:31:
In file included from /Library/Frameworks/R.framework/Versions/4.0/Resources/library/RcppArmadillo/include/RcppArmadilloForward.h:26:
In file included from /Library/Frameworks/R.framework/Versions/4.0/Resources/library/Rcpp/include/RcppCommon.h:128:
/Library/Frameworks/R.framework/Versions/4.0/Resources/library/Rcpp/include/Rcpp/exceptions.h:109:53: warning: all paths through this function will call itself [-Winfinite-recursion]
    inline void warning(const std::string& message) {        // #nocov start
                                                    ^
1 warning generated.
clang++ -std=gnu++11 -dynamiclib -Wl,-headerpad_max_install_names -undefined dynamic_lookup -single_module -multiply_defined suppress -L/Library/Frameworks/R.framework/Resources/lib -L/usr/local/lib -o Linnorm.so Misc.o -std=c++11 -L/Library/Frameworks/R.framework/Resources/lib -lRlapack -L/Library/Frameworks/R.framework/Resources/lib -lRblas -L/usr/local/gfortran/lib/gcc/x86_64-apple-darwin15/6.1.0 -L/usr/local/gfortran/lib -lgfortran -lquadmath -lm -DARMA_64BIT_WORD=1 -F/Library/Frameworks/R.framework/.. -framework R -Wl,-framework -Wl,CoreFoundation
installing to /Users/biocbuild/bbs-3.11-bioc/meat/Linnorm.buildbin-libdir/00LOCK-Linnorm/00new/Linnorm/libs
** R
** data
** inst
** byte-compile and prepare package for lazy loading
** help
*** installing help indices
** building package indices
** installing vignettes
** testing if installed package can be loaded from temporary location
** checking absolute paths in shared objects and dynamic libraries
** testing if installed package can be loaded from final location
** testing if installed package keeps a record of temporary installation path
* DONE (Linnorm)
>>>>>>> 
>>>>>>> FIXING LINKS FOR Linnorm.buildbin-libdir/Linnorm/libs//Linnorm.so
>>>>>>> 
install_name_tool -change "/usr/local/lib/libgcc_s.1.dylib" "/Library/Frameworks/R.framework/Versions/4.0/Resources/lib/libgcc_s.1.dylib" "Linnorm.buildbin-libdir/Linnorm/libs//Linnorm.so"
install_name_tool -change "/usr/local/lib/libgfortran.3.dylib" "/Library/Frameworks/R.framework/Versions/4.0/Resources/lib/libgfortran.3.dylib" "Linnorm.buildbin-libdir/Linnorm/libs//Linnorm.so"
install_name_tool -change "/usr/local/lib/libreadline.5.2.dylib" "/Library/Frameworks/R.framework/Versions/4.0/Resources/lib/libreadline.5.2.dylib" "Linnorm.buildbin-libdir/Linnorm/libs//Linnorm.so"
install_name_tool -change "/usr/local/lib/libreadline.dylib" "/Library/Frameworks/R.framework/Versions/4.0/Resources/lib/libreadline.dylib" "Linnorm.buildbin-libdir/Linnorm/libs//Linnorm.so"
install_name_tool -change "/usr/local/lib/libquadmath.0.dylib" "/Library/Frameworks/R.framework/Versions/4.0/Resources/lib/libquadmath.0.dylib" "Linnorm.buildbin-libdir/Linnorm/libs//Linnorm.so"
install_name_tool -change "/usr/local/gfortran/lib/libgfortran.3.dylib" "/Library/Frameworks/R.framework/Versions/4.0/Resources/lib/libgfortran.3.dylib" "Linnorm.buildbin-libdir/Linnorm/libs//Linnorm.so"
install_name_tool -change "/usr/local/gfortran/lib/libquadmath.0.dylib" "/Library/Frameworks/R.framework/Versions/4.0/Resources/lib/libquadmath.0.dylib" "Linnorm.buildbin-libdir/Linnorm/libs//Linnorm.so"