| Back to Multiple platform build/check report for BioC 3.11 |
|
This page was generated on 2020-01-16 13:29:16 -0500 (Thu, 16 Jan 2020).
| Package 1065/1818 | Hostname | OS / Arch | INSTALL | BUILD | CHECK | BUILD BIN | ||||||
| MLInterfaces 1.67.2 V. Carey
| malbec2 | Linux (Ubuntu 18.04.3 LTS) / x86_64 | OK | OK | OK | |||||||
| tokay2 | Windows Server 2012 R2 Standard / x64 | OK | OK | WARNINGS | OK | |||||||
| celaya2 | OS X 10.11.6 El Capitan / x86_64 | OK | OK | OK | [ OK ] |
| Package: MLInterfaces |
| Version: 1.67.2 |
| Command: rm -rf MLInterfaces.buildbin-libdir && mkdir MLInterfaces.buildbin-libdir && /Users/biocbuild/BBS/utils/build-universal.sh MLInterfaces_1.67.2.tar.gz /Library/Frameworks/R.framework/Versions/Current/Resources/bin/R MLInterfaces.buildbin-libdir |
| StartedAt: 2020-01-16 11:19:54 -0500 (Thu, 16 Jan 2020) |
| EndedAt: 2020-01-16 11:20:30 -0500 (Thu, 16 Jan 2020) |
| EllapsedTime: 36.1 seconds |
| RetCode: 0 |
| Status: OK |
| PackageFile: MLInterfaces_1.67.2.tgz |
| PackageFileSize: 1.56 MiB |
############################################################################## ############################################################################## ### ### Running command: ### ### rm -rf MLInterfaces.buildbin-libdir && mkdir MLInterfaces.buildbin-libdir && /Users/biocbuild/BBS/utils/build-universal.sh MLInterfaces_1.67.2.tar.gz /Library/Frameworks/R.framework/Versions/Current/Resources/bin/R MLInterfaces.buildbin-libdir ### ############################################################################## ############################################################################## >>>>>>> >>>>>>> INSTALLATION WITH 'R CMD INSTALL --preclean --no-multiarch --library=MLInterfaces.buildbin-libdir MLInterfaces_1.67.2.tar.gz' >>>>>>> * installing *source* package ‘MLInterfaces’ ... ** using staged installation ** R ** inst ** byte-compile and prepare package for lazy loading ** help *** installing help indices ** building package indices ** installing vignettes ** testing if installed package can be loaded from temporary location ** testing if installed package can be loaded from final location ** testing if installed package keeps a record of temporary installation path * DONE (MLInterfaces)