| Back to Multiple platform build/check report for BioC 3.11 | 
 | 
This page was generated on 2020-01-16 13:35:00 -0500 (Thu, 16 Jan 2020).
| Package 59/1818 | Hostname | OS / Arch | INSTALL | BUILD | CHECK | BUILD BIN | ||||||
| annmap 1.29.0 Chris Wirth 
 | malbec2 | Linux (Ubuntu 18.04.3 LTS) / x86_64 | OK | OK | WARNINGS |  | ||||||
| tokay2 | Windows Server 2012 R2 Standard / x64 | ...NOT SUPPORTED... | ||||||||||
| celaya2 | OS X 10.11.6 El Capitan / x86_64 | OK | [ OK ] | WARNINGS | OK |  | ||||||
| Package: annmap | 
| Version: 1.29.0 | 
| Command: /Library/Frameworks/R.framework/Versions/Current/Resources/bin/R CMD build --keep-empty-dirs --no-resave-data annmap | 
| StartedAt: 2020-01-15 20:49:40 -0500 (Wed, 15 Jan 2020) | 
| EndedAt: 2020-01-15 20:50:40 -0500 (Wed, 15 Jan 2020) | 
| EllapsedTime: 59.2 seconds | 
| RetCode: 0 | 
| Status: OK | 
| PackageFile: annmap_1.29.0.tar.gz | 
| PackageFileSize: 889.5 KiB | 
############################################################################## ############################################################################## ### ### Running command: ### ### /Library/Frameworks/R.framework/Versions/Current/Resources/bin/R CMD build --keep-empty-dirs --no-resave-data annmap ### ############################################################################## ############################################################################## * checking for file ‘annmap/DESCRIPTION’ ... OK * preparing ‘annmap’: * checking DESCRIPTION meta-information ... OK * installing the package to build vignettes * creating vignettes ... OK * checking for LF line-endings in source and make files and shell scripts * checking for empty or unneeded directories * building ‘annmap_1.29.0.tar.gz’