Back to Multiple platform build/check report for BioC 3.11 |
|
This page was generated on 2020-01-16 13:28:42 -0500 (Thu, 16 Jan 2020).
Package 1791/1818 | Hostname | OS / Arch | INSTALL | BUILD | CHECK | BUILD BIN | ||||||
vsn 3.55.0 Wolfgang Huber
| malbec2 | Linux (Ubuntu 18.04.3 LTS) / x86_64 | OK | OK | OK | |||||||
tokay2 | Windows Server 2012 R2 Standard / x64 | OK | OK | WARNINGS | NA | |||||||
celaya2 | OS X 10.11.6 El Capitan / x86_64 | OK | [ OK ] | OK | OK |
Package: vsn |
Version: 3.55.0 |
Command: /Library/Frameworks/R.framework/Versions/Current/Resources/bin/R CMD build --keep-empty-dirs --no-resave-data vsn |
StartedAt: 2020-01-15 19:48:26 -0500 (Wed, 15 Jan 2020) |
EndedAt: 2020-01-15 19:49:41 -0500 (Wed, 15 Jan 2020) |
EllapsedTime: 75.4 seconds |
RetCode: 0 |
Status: OK |
PackageFile: vsn_3.55.0.tar.gz |
PackageFileSize: 17.16 MiB |
############################################################################## ############################################################################## ### ### Running command: ### ### /Library/Frameworks/R.framework/Versions/Current/Resources/bin/R CMD build --keep-empty-dirs --no-resave-data vsn ### ############################################################################## ############################################################################## * checking for file ‘vsn/DESCRIPTION’ ... OK * preparing ‘vsn’: * checking DESCRIPTION meta-information ... OK * cleaning src * installing the package to build vignettes * creating vignettes ... OK * cleaning src * checking for LF line-endings in source and make files and shell scripts * checking for empty or unneeded directories * looking to see if a ‘data/datalist’ file should be added NB: this package now depends on R (>= 3.5.0) WARNING: Added dependency on R >= 3.5.0 because serialized objects in serialize/load version 3 cannot be read in older versions of R. File(s) containing such objects: ‘vsn/vignettes/A-vsn_cache/html/addmeta_300af796680c4e0b82cd15f03b862b93.RData’ WARNING: Added dependency on R >= 3.5.0 because serialized objects in serialize/load version 3 cannot be read in older versions of R. File(s) containing such objects: ‘vsn/vignettes/A-vsn_cache/html/addmeta_300af796680c4e0b82cd15f03b862b93.rdx’ WARNING: Added dependency on R >= 3.5.0 because serialized objects in serialize/load version 3 cannot be read in older versions of R. File(s) containing such objects: ‘vsn/vignettes/A-vsn_cache/html/affy_c1d49b894b8af4d153396dcd6e4017c2.RData’ WARNING: Added dependency on R >= 3.5.0 because serialized objects in serialize/load version 3 cannot be read in older versions of R. File(s) containing such objects: ‘vsn/vignettes/A-vsn_cache/html/affy_c1d49b894b8af4d153396dcd6e4017c2.rdx’ WARNING: Added dependency on R >= 3.5.0 because serialized objects in serialize/load version 3 cannot be read in older versions of R. File(s) containing such objects: ‘vsn/vignettes/A-vsn_cache/html/calcshrink_c0906c01ef19d6cf71f19254552f945a.RData’ WARNING: Added dependency on R >= 3.5.0 because serialized objects in serialize/load version 3 cannot be read in older versions of R. File(s) containing such objects: ‘vsn/vignettes/A-vsn_cache/html/calcshrink_c0906c01ef19d6cf71f19254552f945a.rdx’ WARNING: Added dependency on R >= 3.5.0 because serialized objects in serialize/load version 3 cannot be read in older versions of R. File(s) containing such objects: ‘vsn/vignettes/A-vsn_cache/html/design_f7cda4fab7dc0619ab145dfaf06d7a5c.RData’ WARNING: Added dependency on R >= 3.5.0 because serialized objects in serialize/load version 3 cannot be read in older versions of R. File(s) containing such objects: ‘vsn/vignettes/A-vsn_cache/html/design_f7cda4fab7dc0619ab145dfaf06d7a5c.rdx’ WARNING: Added dependency on R >= 3.5.0 because serialized objects in serialize/load version 3 cannot be read in older versions of R. File(s) containing such objects: ‘vsn/vignettes/A-vsn_cache/html/figgraph_d2aeda61b65c173be6af69d472b4f789.RData’ WARNING: Added dependency on R >= 3.5.0 because serialized objects in serialize/load version 3 cannot be read in older versions of R. File(s) containing such objects: ‘vsn/vignettes/A-vsn_cache/html/figgraph_d2aeda61b65c173be6af69d472b4f789.rdx’ WARNING: Added dependency on R >= 3.5.0 because serialized objects in serialize/load version 3 cannot be read in older versions of R. File(s) containing such objects: ‘vsn/vignettes/A-vsn_cache/html/figstrata2_1516a71801ab2d3a51c18221be9fb47e.RData’ WARNING: Added dependency on R >= 3.5.0 because serialized objects in serialize/load version 3 cannot be read in older versions of R. File(s) containing such objects: ‘vsn/vignettes/A-vsn_cache/html/figstrata2_1516a71801ab2d3a51c18221be9fb47e.rdx’ WARNING: Added dependency on R >= 3.5.0 because serialized objects in serialize/load version 3 cannot be read in older versions of R. File(s) containing such objects: ‘vsn/vignettes/A-vsn_cache/html/hiddenchecks_10dc706417ddeb5d744fdd21fca44316.RData’ WARNING: Added dependency on R >= 3.5.0 because serialized objects in serialize/load version 3 cannot be read in older versions of R. File(s) containing such objects: ‘vsn/vignettes/A-vsn_cache/html/hiddenchecks_10dc706417ddeb5d744fdd21fca44316.rdx’ WARNING: Added dependency on R >= 3.5.0 because serialized objects in serialize/load version 3 cannot be read in older versions of R. File(s) containing such objects: ‘vsn/vignettes/A-vsn_cache/html/justvsnwbg_9470591bf4c769ec13f918f8b570c24e.RData’ WARNING: Added dependency on R >= 3.5.0 because serialized objects in serialize/load version 3 cannot be read in older versions of R. File(s) containing such objects: ‘vsn/vignettes/A-vsn_cache/html/justvsnwbg_9470591bf4c769ec13f918f8b570c24e.rdx’ WARNING: Added dependency on R >= 3.5.0 because serialized objects in serialize/load version 3 cannot be read in older versions of R. File(s) containing such objects: ‘vsn/vignettes/A-vsn_cache/html/limma_e896cf5c73861bc2e1d294a995a99f31.RData’ WARNING: Added dependency on R >= 3.5.0 because serialized objects in serialize/load version 3 cannot be read in older versions of R. File(s) containing such objects: ‘vsn/vignettes/A-vsn_cache/html/limma_e896cf5c73861bc2e1d294a995a99f31.rdx’ WARNING: Added dependency on R >= 3.5.0 because serialized objects in serialize/load version 3 cannot be read in older versions of R. File(s) containing such objects: ‘vsn/vignettes/A-vsn_cache/html/loadaffy1_de163f20ee41e387790f4226481e132b.RData’ WARNING: Added dependency on R >= 3.5.0 because serialized objects in serialize/load version 3 cannot be read in older versions of R. File(s) containing such objects: ‘vsn/vignettes/A-vsn_cache/html/loadaffy1_de163f20ee41e387790f4226481e132b.rdx’ WARNING: Added dependency on R >= 3.5.0 because serialized objects in serialize/load version 3 cannot be read in older versions of R. File(s) containing such objects: ‘vsn/vignettes/A-vsn_cache/html/loadaffy2_328eebcbb87d680ef537b64e1f62b2d2.RData’ WARNING: Added dependency on R >= 3.5.0 because serialized objects in serialize/load version 3 cannot be read in older versions of R. File(s) containing such objects: ‘vsn/vignettes/A-vsn_cache/html/loadaffy2_328eebcbb87d680ef537b64e1f62b2d2.rdx’ WARNING: Added dependency on R >= 3.5.0 because serialized objects in serialize/load version 3 cannot be read in older versions of R. File(s) containing such objects: ‘vsn/vignettes/A-vsn_cache/html/loadlimma_13fe849676c3022bc1fb51965238c48d.RData’ WARNING: Added dependency on R >= 3.5.0 because serialized objects in serialize/load version 3 cannot be read in older versions of R. File(s) containing such objects: ‘vsn/vignettes/A-vsn_cache/html/loadlimma_13fe849676c3022bc1fb51965238c48d.rdx’ WARNING: Added dependency on R >= 3.5.0 because serialized objects in serialize/load version 3 cannot be read in older versions of R. File(s) containing such objects: ‘vsn/vignettes/A-vsn_cache/html/lym-M_eb48701060f46b775bb50f8e6f6f924b.RData’ WARNING: Added dependency on R >= 3.5.0 because serialized objects in serialize/load version 3 cannot be read in older versions of R. File(s) containing such objects: ‘vsn/vignettes/A-vsn_cache/html/lym-M_eb48701060f46b775bb50f8e6f6f924b.rdx’ WARNING: Added dependency on R >= 3.5.0 because serialized objects in serialize/load version 3 cannot be read in older versions of R. File(s) containing such objects: ‘vsn/vignettes/A-vsn_cache/html/lym-sdmean_5102f55e1b6e5b2ca94f4ab955dcc58f.RData’ WARNING: Added dependency on R >= 3.5.0 because serialized objects in serialize/load version 3 cannot be read in older versions of R. File(s) containing such objects: ‘vsn/vignettes/A-vsn_cache/html/lym-sdmean_5102f55e1b6e5b2ca94f4ab955dcc58f.rdx’ WARNING: Added dependency on R >= 3.5.0 because serialized objects in serialize/load version 3 cannot be read in older versions of R. File(s) containing such objects: ‘vsn/vignettes/A-vsn_cache/html/lymM_71edaef3c865726f543d17d1b41cf2f6.RData’ WARNING: Added dependency on R >= 3.5.0 because serialized objects in serialize/load version 3 cannot be read in older versions of R. File(s) containing such objects: ‘vsn/vignettes/A-vsn_cache/html/lymM_71edaef3c865726f543d17d1b41cf2f6.rdx’ WARNING: Added dependency on R >= 3.5.0 because serialized objects in serialize/load version 3 cannot be read in older versions of R. File(s) containing such objects: ‘vsn/vignettes/A-vsn_cache/html/lymNCS_72c89a388971024d09e8cb22230b9bf1.RData’ WARNING: Added dependency on R >= 3.5.0 because serialized objects in serialize/load version 3 cannot be read in older versions of R. File(s) containing such objects: ‘vsn/vignettes/A-vsn_cache/html/lymNCS_72c89a388971024d09e8cb22230b9bf1.rdx’ WARNING: Added dependency on R >= 3.5.0 because serialized objects in serialize/load version 3 cannot be read in older versions of R. File(s) containing such objects: ‘vsn/vignettes/A-vsn_cache/html/lymbox_e990401a02ab6f8262c695257c2a0e74.RData’ WARNING: Added dependency on R >= 3.5.0 because serialized objects in serialize/load version 3 cannot be read in older versions of R. File(s) containing such objects: ‘vsn/vignettes/A-vsn_cache/html/lymbox_e990401a02ab6f8262c695257c2a0e74.rdx’ WARNING: Added dependency on R >= 3.5.0 because serialized objects in serialize/load version 3 cannot be read in older versions of R. File(s) containing such objects: ‘vsn/vignettes/A-vsn_cache/html/lymjustvsn_4ba75a2773e2dc37ab8214da042d645f.RData’ WARNING: Added dependency on R >= 3.5.0 because serialized objects in serialize/load version 3 cannot be read in older versions of R. File(s) containing such objects: ‘vsn/vignettes/A-vsn_cache/html/lymjustvsn_4ba75a2773e2dc37ab8214da042d645f.rdx’ WARNING: Added dependency on R >= 3.5.0 because serialized objects in serialize/load version 3 cannot be read in older versions of R. File(s) containing such objects: ‘vsn/vignettes/A-vsn_cache/html/lymphoma_e2ff47df9f8d07e8efdbb25697fab0c6.RData’ WARNING: Added dependency on R >= 3.5.0 because serialized objects in serialize/load version 3 cannot be read in older versions of R. File(s) containing such objects: ‘vsn/vignettes/A-vsn_cache/html/lymphoma_e2ff47df9f8d07e8efdbb25697fab0c6.rdx’ WARNING: Added dependency on R >= 3.5.0 because serialized objects in serialize/load version 3 cannot be read in older versions of R. File(s) containing such objects: ‘vsn/vignettes/A-vsn_cache/html/lymquscp_94026d83616898fdb9b0d9bf6de54973.RData’ WARNING: Added dependency on R >= 3.5.0 because serialized objects in serialize/load version 3 cannot be read in older versions of R. File(s) containing such objects: ‘vsn/vignettes/A-vsn_cache/html/lymquscp_94026d83616898fdb9b0d9bf6de54973.rdx’ WARNING: Added dependency on R >= 3.5.0 because serialized objects in serialize/load version 3 cannot be read in older versions of R. File(s) containing such objects: ‘vsn/vignettes/A-vsn_cache/html/makebg_2c5d6a6622eb09b7d38f64dbf45e4674.RData’ WARNING: Added dependency on R >= 3.5.0 because serialized objects in serialize/load version 3 cannot be read in older versions of R. File(s) containing such objects: ‘vsn/vignettes/A-vsn_cache/html/makebg_2c5d6a6622eb09b7d38f64dbf45e4674.rdx’ WARNING: Added dependency on R >= 3.5.0 because serialized objects in serialize/load version 3 cannot be read in older versions of R. File(s) containing such objects: ‘vsn/vignettes/A-vsn_cache/html/miss1_2ba2e633d090e2b156490a3c55349af4.RData’ WARNING: Added dependency on R >= 3.5.0 because serialized objects in serialize/load version 3 cannot be read in older versions of R. File(s) containing such objects: ‘vsn/vignettes/A-vsn_cache/html/miss1_2ba2e633d090e2b156490a3c55349af4.rdx’ WARNING: Added dependency on R >= 3.5.0 because serialized objects in serialize/load version 3 cannot be read in older versions of R. File(s) containing such objects: ‘vsn/vignettes/A-vsn_cache/html/miss2_9f5284bf7871470c396034a978966ab5.RData’ WARNING: Added dependency on R >= 3.5.0 because serialized objects in serialize/load version 3 cannot be read in older versions of R. File(s) containing such objects: ‘vsn/vignettes/A-vsn_cache/html/miss2_9f5284bf7871470c396034a978966ab5.rdx’ WARNING: Added dependency on R >= 3.5.0 because serialized objects in serialize/load version 3 cannot be read in older versions of R. File(s) containing such objects: ‘vsn/vignettes/A-vsn_cache/html/miss_a8d91e4dfd67b3b40b8911a71036f962.RData’ WARNING: Added dependency on R >= 3.5.0 because serialized objects in serialize/load version 3 cannot be read in older versions of R. File(s) containing such objects: ‘vsn/vignettes/A-vsn_cache/html/miss_a8d91e4dfd67b3b40b8911a71036f962.rdx’ WARNING: Added dependency on R >= 3.5.0 because serialized objects in serialize/load version 3 cannot be read in older versions of R. File(s) containing such objects: ‘vsn/vignettes/A-vsn_cache/html/nkid-calib1_c2727b6755f115fa42f4e85abb85b3ca.RData’ WARNING: Added dependency on R >= 3.5.0 because serialized objects in serialize/load version 3 cannot be read in older versions of R. File(s) containing such objects: ‘vsn/vignettes/A-vsn_cache/html/nkid-calib1_c2727b6755f115fa42f4e85abb85b3ca.rdx’ WARNING: Added dependency on R >= 3.5.0 because serialized objects in serialize/load version 3 cannot be read in older versions of R. File(s) containing such objects: ‘vsn/vignettes/A-vsn_cache/html/nkid-calib2_fa1a976e4a398798ba351b4413011736.RData’ WARNING: Added dependency on R >= 3.5.0 because serialized objects in serialize/load version 3 cannot be read in older versions of R. File(s) containing such objects: ‘vsn/vignettes/A-vsn_cache/html/nkid-calib2_fa1a976e4a398798ba351b4413011736.rdx’ WARNING: Added dependency on R >= 3.5.0 because serialized objects in serialize/load version 3 cannot be read in older versions of R. File(s) containing such objects: ‘vsn/vignettes/A-vsn_cache/html/nkid-calib3_9838e95ee3cb197d012d7c646b31b97f.RData’ WARNING: Added dependency on R >= 3.5.0 because serialized objects in serialize/load version 3 cannot be read in older versions of R. File(s) containing such objects: ‘vsn/vignettes/A-vsn_cache/html/nkid-calib3_9838e95ee3cb197d012d7c646b31b97f.rdx’ WARNING: Added dependency on R >= 3.5.0 because serialized objects in serialize/load version 3 cannot be read in older versions of R. File(s) containing such objects: ‘vsn/vignettes/A-vsn_cache/html/nkid-calib4_508d34f959c1b2cbeb54ad5f9203d698.RData’ WARNING: Added dependency on R >= 3.5.0 because serialized objects in serialize/load version 3 cannot be read in older versions of R. File(s) containing such objects: ‘vsn/vignettes/A-vsn_cache/html/nkid-calib4_508d34f959c1b2cbeb54ad5f9203d698.rdx’ WARNING: Added dependency on R >= 3.5.0 because serialized objects in serialize/load version 3 cannot be read in older versions of R. File(s) containing such objects: ‘vsn/vignettes/A-vsn_cache/html/nkid-calib5_5700e769da62b76287fbe373ab2c23d6.RData’ WARNING: Added dependency on R >= 3.5.0 because serialized objects in serialize/load version 3 cannot be read in older versions of R. File(s) containing such objects: ‘vsn/vignettes/A-vsn_cache/html/nkid-calib5_5700e769da62b76287fbe373ab2c23d6.rdx’ WARNING: Added dependency on R >= 3.5.0 because serialized objects in serialize/load version 3 cannot be read in older versions of R. File(s) containing such objects: ‘vsn/vignettes/A-vsn_cache/html/nkid-histM_7f41529a6e33ffb12632447e6f27f154.RData’ WARNING: Added dependency on R >= 3.5.0 because serialized objects in serialize/load version 3 cannot be read in older versions of R. File(s) containing such objects: ‘vsn/vignettes/A-vsn_cache/html/nkid-histM_7f41529a6e33ffb12632447e6f27f154.rdx’ WARNING: Added dependency on R >= 3.5.0 because serialized objects in serialize/load version 3 cannot be read in older versions of R. File(s) containing such objects: ‘vsn/vignettes/A-vsn_cache/html/nkid-scp_fe12b7a6c77025a9c4881378e4153da6.RData’ WARNING: Added dependency on R >= 3.5.0 because serialized objects in serialize/load version 3 cannot be read in older versions of R. File(s) containing such objects: ‘vsn/vignettes/A-vsn_cache/html/nkid-scp_fe12b7a6c77025a9c4881378e4153da6.rdx’ WARNING: Added dependency on R >= 3.5.0 because serialized objects in serialize/load version 3 cannot be read in older versions of R. File(s) containing such objects: ‘vsn/vignettes/A-vsn_cache/html/nkid-sdmean1_24711ff041d34af530d7559ae522375f.RData’ WARNING: Added dependency on R >= 3.5.0 because serialized objects in serialize/load version 3 cannot be read in older versions of R. File(s) containing such objects: ‘vsn/vignettes/A-vsn_cache/html/nkid-sdmean1_24711ff041d34af530d7559ae522375f.rdx’ WARNING: Added dependency on R >= 3.5.0 because serialized objects in serialize/load version 3 cannot be read in older versions of R. File(s) containing such objects: ‘vsn/vignettes/A-vsn_cache/html/nkid-sdmean2_122a49e46508aa38faf54a414e137feb.RData’ WARNING: Added dependency on R >= 3.5.0 because serialized objects in serialize/load version 3 cannot be read in older versions of R. File(s) containing such objects: ‘vsn/vignettes/A-vsn_cache/html/nkid-sdmean2_122a49e46508aa38faf54a414e137feb.rdx’ WARNING: Added dependency on R >= 3.5.0 because serialized objects in serialize/load version 3 cannot be read in older versions of R. File(s) containing such objects: ‘vsn/vignettes/A-vsn_cache/html/nostrata_78eba66bdff103a3dc1a512beeaa8acc.RData’ WARNING: Added dependency on R >= 3.5.0 because serialized objects in serialize/load version 3 cannot be read in older versions of R. File(s) containing such objects: ‘vsn/vignettes/A-vsn_cache/html/nostrata_78eba66bdff103a3dc1a512beeaa8acc.rdx’ WARNING: Added dependency on R >= 3.5.0 because serialized objects in serialize/load version 3 cannot be read in older versions of R. File(s) containing such objects: ‘vsn/vignettes/A-vsn_cache/html/overv1_95bf09f55efaa54a731270cfa1c6b695.RData’ WARNING: Added dependency on R >= 3.5.0 because serialized objects in serialize/load version 3 cannot be read in older versions of R. File(s) containing such objects: ‘vsn/vignettes/A-vsn_cache/html/overv1_95bf09f55efaa54a731270cfa1c6b695.rdx’ WARNING: Added dependency on R >= 3.5.0 because serialized objects in serialize/load version 3 cannot be read in older versions of R. File(s) containing such objects: ‘vsn/vignettes/A-vsn_cache/html/overv2_9e3eab9d254b3d72b61a0ebfd87aa6dd.RData’ WARNING: Added dependency on R >= 3.5.0 because serialized objects in serialize/load version 3 cannot be read in older versions of R. File(s) containing such objects: ‘vsn/vignettes/A-vsn_cache/html/overv2_9e3eab9d254b3d72b61a0ebfd87aa6dd.rdx’ WARNING: Added dependency on R >= 3.5.0 because serialized objects in serialize/load version 3 cannot be read in older versions of R. File(s) containing such objects: ‘vsn/vignettes/A-vsn_cache/html/overv3_de311345ae4c2f329496e814524cda7e.RData’ WARNING: Added dependency on R >= 3.5.0 because serialized objects in serialize/load version 3 cannot be read in older versions of R. File(s) containing such objects: ‘vsn/vignettes/A-vsn_cache/html/overv3_de311345ae4c2f329496e814524cda7e.rdx’ WARNING: Added dependency on R >= 3.5.0 because serialized objects in serialize/load version 3 cannot be read in older versions of R. File(s) containing such objects: ‘vsn/vignettes/A-vsn_cache/html/overv4_7655546f2a28c23c15232d3c4ee78b38.RData’ WARNING: Added dependency on R >= 3.5.0 because serialized objects in serialize/load version 3 cannot be read in older versions of R. File(s) containing such objects: ‘vsn/vignettes/A-vsn_cache/html/overv4_7655546f2a28c23c15232d3c4ee78b38.rdx’ WARNING: Added dependency on R >= 3.5.0 because serialized objects in serialize/load version 3 cannot be read in older versions of R. File(s) containing such objects: ‘vsn/vignettes/A-vsn_cache/html/pDatalym_04364da1daf30cfdfa8e8ffef28cf5d4.RData’ WARNING: Added dependency on R >= 3.5.0 because serialized objects in serialize/load version 3 cannot be read in older versions of R. File(s) containing such objects: ‘vsn/vignettes/A-vsn_cache/html/pDatalym_04364da1daf30cfdfa8e8ffef28cf5d4.rdx’ WARNING: Added dependency on R >= 3.5.0 because serialized objects in serialize/load version 3 cannot be read in older versions of R. File(s) containing such objects: ‘vsn/vignettes/A-vsn_cache/html/pinId_020e2537bbe491c9a99b150c90c032c9.RData’ WARNING: Added dependency on R >= 3.5.0 because serialized objects in serialize/load version 3 cannot be read in older versions of R. File(s) containing such objects: ‘vsn/vignettes/A-vsn_cache/html/pinId_020e2537bbe491c9a99b150c90c032c9.rdx’ WARNING: Added dependency on R >= 3.5.0 because serialized objects in serialize/load version 3 cannot be read in older versions of R. File(s) containing such objects: ‘vsn/vignettes/A-vsn_cache/html/ref1_6ccfe35d67a5d58b1b0b63eaf8eee629.RData’ WARNING: Added dependency on R >= 3.5.0 because serialized objects in serialize/load version 3 cannot be read in older versions of R. File(s) containing such objects: ‘vsn/vignettes/A-vsn_cache/html/ref1_6ccfe35d67a5d58b1b0b63eaf8eee629.rdx’ WARNING: Added dependency on R >= 3.5.0 because serialized objects in serialize/load version 3 cannot be read in older versions of R. File(s) containing such objects: ‘vsn/vignettes/A-vsn_cache/html/ref2_5dfadb016b4eb74163817d5252765a87.RData’ WARNING: Added dependency on R >= 3.5.0 because serialized objects in serialize/load version 3 cannot be read in older versions of R. File(s) containing such objects: ‘vsn/vignettes/A-vsn_cache/html/ref2_5dfadb016b4eb74163817d5252765a87.rdx’ WARNING: Added dependency on R >= 3.5.0 because serialized objects in serialize/load version 3 cannot be read in older versions of R. File(s) containing such objects: ‘vsn/vignettes/A-vsn_cache/html/ref3_e072ceb4ed3c7dee647e2f667819499c.RData’ WARNING: Added dependency on R >= 3.5.0 because serialized objects in serialize/load version 3 cannot be read in older versions of R. File(s) containing such objects: ‘vsn/vignettes/A-vsn_cache/html/ref3_e072ceb4ed3c7dee647e2f667819499c.rdx’ WARNING: Added dependency on R >= 3.5.0 because serialized objects in serialize/load version 3 cannot be read in older versions of R. File(s) containing such objects: ‘vsn/vignettes/A-vsn_cache/html/ref4_9b5b6b285505b73b35b7dd29906147cc.RData’ WARNING: Added dependency on R >= 3.5.0 because serialized objects in serialize/load version 3 cannot be read in older versions of R. File(s) containing such objects: ‘vsn/vignettes/A-vsn_cache/html/ref4_9b5b6b285505b73b35b7dd29906147cc.rdx’ WARNING: Added dependency on R >= 3.5.0 because serialized objects in serialize/load version 3 cannot be read in older versions of R. File(s) containing such objects: ‘vsn/vignettes/A-vsn_cache/html/ref_a925c5da0a591ab14818fb6c44964d21.RData’ WARNING: Added dependency on R >= 3.5.0 because serialized objects in serialize/load version 3 cannot be read in older versions of R. File(s) containing such objects: ‘vsn/vignettes/A-vsn_cache/html/ref_a925c5da0a591ab14818fb6c44964d21.rdx’ WARNING: Added dependency on R >= 3.5.0 because serialized objects in serialize/load version 3 cannot be read in older versions of R. File(s) containing such objects: ‘vsn/vignettes/A-vsn_cache/html/sessionInfo_d56c4873365d652e05a12bbe79496383.RData’ WARNING: Added dependency on R >= 3.5.0 because serialized objects in serialize/load version 3 cannot be read in older versions of R. File(s) containing such objects: ‘vsn/vignettes/A-vsn_cache/html/sessionInfo_d56c4873365d652e05a12bbe79496383.rdx’ WARNING: Added dependency on R >= 3.5.0 because serialized objects in serialize/load version 3 cannot be read in older versions of R. File(s) containing such objects: ‘vsn/vignettes/A-vsn_cache/html/shrink_5f800e4720032ec86aed24cd84804960.RData’ WARNING: Added dependency on R >= 3.5.0 because serialized objects in serialize/load version 3 cannot be read in older versions of R. File(s) containing such objects: ‘vsn/vignettes/A-vsn_cache/html/shrink_5f800e4720032ec86aed24cd84804960.rdx’ WARNING: Added dependency on R >= 3.5.0 because serialized objects in serialize/load version 3 cannot be read in older versions of R. File(s) containing such objects: ‘vsn/vignettes/A-vsn_cache/html/spikein_600f2dcffcc67731657978c1a5ac1bbb.RData’ WARNING: Added dependency on R >= 3.5.0 because serialized objects in serialize/load version 3 cannot be read in older versions of R. File(s) containing such objects: ‘vsn/vignettes/A-vsn_cache/html/spikein_600f2dcffcc67731657978c1a5ac1bbb.rdx’ WARNING: Added dependency on R >= 3.5.0 because serialized objects in serialize/load version 3 cannot be read in older versions of R. File(s) containing such objects: ‘vsn/vignettes/A-vsn_cache/html/strata_ca1cf68d740b3b88f972581970b4a4fd.RData’ WARNING: Added dependency on R >= 3.5.0 because serialized objects in serialize/load version 3 cannot be read in older versions of R. File(s) containing such objects: ‘vsn/vignettes/A-vsn_cache/html/strata_ca1cf68d740b3b88f972581970b4a4fd.rdx’ WARNING: Added dependency on R >= 3.5.0 because serialized objects in serialize/load version 3 cannot be read in older versions of R. File(s) containing such objects: ‘vsn/vignettes/A-vsn_cache/html/vsnQ1_ae19dbec50773c7fa51325a4ec511b2a.RData’ WARNING: Added dependency on R >= 3.5.0 because serialized objects in serialize/load version 3 cannot be read in older versions of R. File(s) containing such objects: ‘vsn/vignettes/A-vsn_cache/html/vsnQ1_ae19dbec50773c7fa51325a4ec511b2a.rdx’ WARNING: Added dependency on R >= 3.5.0 because serialized objects in serialize/load version 3 cannot be read in older versions of R. File(s) containing such objects: ‘vsn/vignettes/A-vsn_cache/html/vsnQ2_0fe2b1db2003431a3170f5beaedc0122.RData’ WARNING: Added dependency on R >= 3.5.0 because serialized objects in serialize/load version 3 cannot be read in older versions of R. File(s) containing such objects: ‘vsn/vignettes/A-vsn_cache/html/vsnQ2_0fe2b1db2003431a3170f5beaedc0122.rdx’ * building ‘vsn_3.55.0.tar.gz’