Back to Multiple platform build/check report for BioC 3.11 |
|
This page was generated on 2020-01-16 13:40:08 -0500 (Thu, 16 Jan 2020).
Package 1281/1818 | Hostname | OS / Arch | INSTALL | BUILD | CHECK | BUILD BIN | ||||||
polyester 1.23.0 Jack Fu
| malbec2 | Linux (Ubuntu 18.04.3 LTS) / x86_64 | OK | OK | OK | ![]() | ||||||
tokay2 | Windows Server 2012 R2 Standard / x64 | OK | OK | OK | OK | |||||||
celaya2 | OS X 10.11.6 El Capitan / x86_64 | OK | OK | [ OK ] | OK | ![]() |
Package: polyester |
Version: 1.23.0 |
Command: /Library/Frameworks/R.framework/Versions/Current/Resources/bin/R CMD check --install=check:polyester.install-out.txt --library=/Library/Frameworks/R.framework/Versions/Current/Resources/library --no-vignettes --timings polyester_1.23.0.tar.gz |
StartedAt: 2020-01-16 07:33:38 -0500 (Thu, 16 Jan 2020) |
EndedAt: 2020-01-16 07:36:50 -0500 (Thu, 16 Jan 2020) |
EllapsedTime: 192.0 seconds |
RetCode: 0 |
Status: OK |
CheckDir: polyester.Rcheck |
Warnings: 0 |
############################################################################## ############################################################################## ### ### Running command: ### ### /Library/Frameworks/R.framework/Versions/Current/Resources/bin/R CMD check --install=check:polyester.install-out.txt --library=/Library/Frameworks/R.framework/Versions/Current/Resources/library --no-vignettes --timings polyester_1.23.0.tar.gz ### ############################################################################## ############################################################################## * using log directory ‘/Users/biocbuild/bbs-3.11-bioc/meat/polyester.Rcheck’ * using R Under development (unstable) (2019-12-14 r77572) * using platform: x86_64-apple-darwin15.6.0 (64-bit) * using session charset: UTF-8 * using option ‘--no-vignettes’ * checking for file ‘polyester/DESCRIPTION’ ... OK * this is package ‘polyester’ version ‘1.23.0’ * checking package namespace information ... OK * checking package dependencies ... OK * checking if this is a source package ... OK * checking if there is a namespace ... OK * checking for hidden files and directories ... OK * checking for portable file names ... OK * checking for sufficient/correct file permissions ... OK * checking whether package ‘polyester’ can be installed ... OK * checking installed package size ... OK * checking package directory ... OK * checking ‘build’ directory ... OK * checking DESCRIPTION meta-information ... OK * checking top-level files ... OK * checking for left-over files ... OK * checking index information ... OK * checking package subdirectories ... OK * checking R files for non-ASCII characters ... OK * checking R files for syntax errors ... OK * checking whether the package can be loaded ... OK * checking whether the package can be loaded with stated dependencies ... OK * checking whether the package can be unloaded cleanly ... OK * checking whether the namespace can be loaded with stated dependencies ... OK * checking whether the namespace can be unloaded cleanly ... OK * checking dependencies in R code ... NOTE Namespace in Imports field not imported from: ‘zlibbioc’ All declared Imports should be used. * checking S3 generic/method consistency ... OK * checking replacement functions ... OK * checking foreign function calls ... OK * checking R code for possible problems ... NOTE add_platform_error: no visible binding for global variable ‘model1’ add_platform_error: no visible binding for global variable ‘model2’ add_platform_error: no visible binding for global variable ‘model4’ add_platform_error: no visible binding for global variable ‘model5’ add_platform_error: no visible binding for global variable ‘model3’ add_platform_error: no visible binding for global variable ‘model6’ add_platform_error: no visible binding for global variable ‘model7’ generate_fragments: no visible binding for global variable ‘empirical_density’ generate_fragments: no visible binding for global variable ‘rnaf’ generate_fragments: no visible binding for global variable ‘cdnaf’ Undefined global functions or variables: cdnaf empirical_density model1 model2 model3 model4 model5 model6 model7 rnaf * checking Rd files ... OK * checking Rd metadata ... OK * checking Rd cross-references ... OK * checking for missing documentation entries ... OK * checking for code/documentation mismatches ... OK * checking Rd \usage sections ... OK * checking Rd contents ... OK * checking for unstated dependencies in examples ... OK * checking contents of ‘data’ directory ... OK * checking data for non-ASCII characters ... OK * checking data for ASCII and uncompressed saves ... OK * checking files in ‘vignettes’ ... OK * checking examples ... OK Examples with CPU (user + system) or elapsed time > 5s user system elapsed create_read_numbers 14.595 0.939 15.540 add_gc_bias 13.310 0.232 13.553 * checking for unstated dependencies in vignettes ... OK * checking package vignettes in ‘inst/doc’ ... OK * checking running R code from vignettes ... SKIPPED * checking re-building of vignette outputs ... SKIPPED * checking PDF version of manual ... OK * DONE Status: 2 NOTEs See ‘/Users/biocbuild/bbs-3.11-bioc/meat/polyester.Rcheck/00check.log’ for details.
polyester.Rcheck/00install.out
############################################################################## ############################################################################## ### ### Running command: ### ### /Library/Frameworks/R.framework/Versions/Current/Resources/bin/R CMD INSTALL polyester ### ############################################################################## ############################################################################## * installing to library ‘/Library/Frameworks/R.framework/Versions/4.0/Resources/library’ * installing *source* package ‘polyester’ ... ** using staged installation ** R ** data ** inst ** byte-compile and prepare package for lazy loading ** help *** installing help indices ** building package indices ** installing vignettes ** testing if installed package can be loaded from temporary location ** testing if installed package can be loaded from final location ** testing if installed package keeps a record of temporary installation path * DONE (polyester)
polyester.Rcheck/polyester-Ex.timings
name | user | system | elapsed | |
NB | 0.001 | 0.001 | 0.002 | |
add_error | 0.239 | 0.032 | 0.273 | |
add_gc_bias | 13.310 | 0.232 | 13.553 | |
add_platform_error | 0.468 | 0.028 | 0.496 | |
count_transcripts | 0.027 | 0.010 | 0.038 | |
create_read_numbers | 14.595 | 0.939 | 15.540 | |
fpkm_to_counts | 1.699 | 0.011 | 1.711 | |
generate_fragments | 0.499 | 0.031 | 0.532 | |
getAttributeField | 2.114 | 0.034 | 2.148 | |
get_params | 1.874 | 0.014 | 1.891 | |
get_reads | 0.281 | 0.013 | 0.293 | |
reverse_complement | 0.261 | 0.012 | 0.274 | |
seq_gtf | 0.000 | 0.000 | 0.001 | |
simulate_experiment | 0.001 | 0.000 | 0.000 | |
simulate_experiment_countmat | 0.000 | 0.000 | 0.001 | |
simulate_experiment_empirical | 0.000 | 0.001 | 0.001 | |
write_reads | 0.211 | 0.016 | 0.228 | |