Back to Multiple platform build/check report for BioC 3.11 |
|
This page was generated on 2020-01-16 13:52:57 -0500 (Thu, 16 Jan 2020).
Package 419/1818 | Hostname | OS / Arch | INSTALL | BUILD | CHECK | BUILD BIN | ||||||
decompTumor2Sig 2.3.0 Rosario M. Piro
| malbec2 | Linux (Ubuntu 18.04.3 LTS) / x86_64 | OK | OK | OK | |||||||
tokay2 | Windows Server 2012 R2 Standard / x64 | OK | OK | OK | OK | |||||||
celaya2 | OS X 10.11.6 El Capitan / x86_64 | OK | OK | [ OK ] | OK |
Package: decompTumor2Sig |
Version: 2.3.0 |
Command: /Library/Frameworks/R.framework/Versions/Current/Resources/bin/R CMD check --install=check:decompTumor2Sig.install-out.txt --library=/Library/Frameworks/R.framework/Versions/Current/Resources/library --no-vignettes --timings decompTumor2Sig_2.3.0.tar.gz |
StartedAt: 2020-01-16 03:33:52 -0500 (Thu, 16 Jan 2020) |
EndedAt: 2020-01-16 03:44:28 -0500 (Thu, 16 Jan 2020) |
EllapsedTime: 635.5 seconds |
RetCode: 0 |
Status: OK |
CheckDir: decompTumor2Sig.Rcheck |
Warnings: 0 |
############################################################################## ############################################################################## ### ### Running command: ### ### /Library/Frameworks/R.framework/Versions/Current/Resources/bin/R CMD check --install=check:decompTumor2Sig.install-out.txt --library=/Library/Frameworks/R.framework/Versions/Current/Resources/library --no-vignettes --timings decompTumor2Sig_2.3.0.tar.gz ### ############################################################################## ############################################################################## * using log directory ‘/Users/biocbuild/bbs-3.11-bioc/meat/decompTumor2Sig.Rcheck’ * using R Under development (unstable) (2019-12-14 r77572) * using platform: x86_64-apple-darwin15.6.0 (64-bit) * using session charset: UTF-8 * using option ‘--no-vignettes’ * checking for file ‘decompTumor2Sig/DESCRIPTION’ ... OK * checking extension type ... Package * this is package ‘decompTumor2Sig’ version ‘2.3.0’ * package encoding: UTF-8 * checking package namespace information ... OK * checking package dependencies ... OK * checking if this is a source package ... OK * checking if there is a namespace ... OK * checking for hidden files and directories ... OK * checking for portable file names ... OK * checking for sufficient/correct file permissions ... OK * checking whether package ‘decompTumor2Sig’ can be installed ... OK * checking installed package size ... OK * checking package directory ... OK * checking ‘build’ directory ... OK * checking DESCRIPTION meta-information ... OK * checking top-level files ... NOTE File inst/LICENSE will install at top-level and is not mentioned in the DESCRIPTION file. * checking for left-over files ... OK * checking index information ... OK * checking package subdirectories ... OK * checking R files for non-ASCII characters ... OK * checking R files for syntax errors ... OK * checking whether the package can be loaded ... OK * checking whether the package can be loaded with stated dependencies ... OK * checking whether the package can be unloaded cleanly ... OK * checking whether the namespace can be loaded with stated dependencies ... OK * checking whether the namespace can be unloaded cleanly ... OK * checking dependencies in R code ... OK * checking S3 generic/method consistency ... OK * checking replacement functions ... OK * checking foreign function calls ... OK * checking R code for possible problems ... OK * checking Rd files ... OK * checking Rd metadata ... OK * checking Rd cross-references ... OK * checking for missing documentation entries ... OK * checking for code/documentation mismatches ... OK * checking Rd \usage sections ... OK * checking Rd contents ... OK * checking for unstated dependencies in examples ... OK * checking files in ‘vignettes’ ... OK * checking examples ... OK Examples with CPU (user + system) or elapsed time > 5s user system elapsed plotExplainedVariance 149.569 0.509 152.952 convertGenomesFromVRanges 12.986 1.639 14.631 decomposeTumorGenomes 7.805 1.014 9.485 isExposureSet 5.841 0.836 7.330 readGenomesFromVCF 5.505 0.879 6.385 readGenomesFromMPF 5.050 0.812 5.864 * checking for unstated dependencies in vignettes ... OK * checking package vignettes in ‘inst/doc’ ... OK * checking running R code from vignettes ... SKIPPED * checking re-building of vignette outputs ... SKIPPED * checking PDF version of manual ... OK * DONE Status: 1 NOTE See ‘/Users/biocbuild/bbs-3.11-bioc/meat/decompTumor2Sig.Rcheck/00check.log’ for details.
decompTumor2Sig.Rcheck/00install.out
############################################################################## ############################################################################## ### ### Running command: ### ### /Library/Frameworks/R.framework/Versions/Current/Resources/bin/R CMD INSTALL decompTumor2Sig ### ############################################################################## ############################################################################## * installing to library ‘/Library/Frameworks/R.framework/Versions/4.0/Resources/library’ * installing *source* package ‘decompTumor2Sig’ ... ** using staged installation ** R ** inst ** byte-compile and prepare package for lazy loading ** help *** installing help indices ** building package indices ** installing vignettes ** testing if installed package can be loaded from temporary location ** testing if installed package can be loaded from final location ** testing if installed package keeps a record of temporary installation path * DONE (decompTumor2Sig)
decompTumor2Sig.Rcheck/decompTumor2Sig-Ex.timings
name | user | system | elapsed | |
composeGenomesFromExposures | 1.481 | 0.034 | 2.276 | |
computeExplainedVariance | 0.385 | 0.051 | 1.193 | |
convertAlexandrov2Shiraishi | 0.120 | 0.023 | 0.898 | |
convertGenomesFromVRanges | 12.986 | 1.639 | 14.631 | |
decomposeTumorGenomes | 7.805 | 1.014 | 9.485 | |
determineSignatureDistances | 0.111 | 0.005 | 0.769 | |
downgradeShiraishiSignatures | 0.017 | 0.004 | 0.021 | |
evaluateDecompositionQuality | 0.358 | 0.014 | 1.031 | |
getGenomesFromMutFeatData | 1.115 | 0.053 | 1.170 | |
getSignaturesFromEstParam | 0.238 | 0.010 | 0.248 | |
isAlexandrovSet | 0.046 | 0.003 | 0.699 | |
isExposureSet | 5.841 | 0.836 | 7.330 | |
isShiraishiSet | 0.160 | 0.023 | 0.837 | |
isSignatureSet | 0.042 | 0.004 | 0.702 | |
mapSignatureSets | 0.238 | 0.006 | 0.895 | |
plotDecomposedContribution | 0.665 | 0.017 | 1.334 | |
plotExplainedVariance | 149.569 | 0.509 | 152.952 | |
plotMutationDistribution | 3.101 | 0.028 | 3.810 | |
readAlexandrovSignatures | 0.058 | 0.004 | 0.809 | |
readGenomesFromMPF | 5.050 | 0.812 | 5.864 | |
readGenomesFromVCF | 5.505 | 0.879 | 6.385 | |
readShiraishiSignatures | 0.009 | 0.001 | 0.010 | |
sameSignatureFormat | 0.096 | 0.004 | 0.759 | |