| Back to Multiple platform build/check report for BioC 3.11 |
|
This page was generated on 2020-01-16 13:46:41 -0500 (Thu, 16 Jan 2020).
| Package 191/1818 | Hostname | OS / Arch | INSTALL | BUILD | CHECK | BUILD BIN | ||||||
| BPRMeth 1.13.0 Chantriolnt-Andreas Kapourani
| malbec2 | Linux (Ubuntu 18.04.3 LTS) / x86_64 | OK | OK | OK | |||||||
| tokay2 | Windows Server 2012 R2 Standard / x64 | OK | OK | OK | OK | |||||||
| celaya2 | OS X 10.11.6 El Capitan / x86_64 | OK | [ OK ] | OK | OK |
| Package: BPRMeth |
| Version: 1.13.0 |
| Command: /Library/Frameworks/R.framework/Versions/Current/Resources/bin/R CMD build --keep-empty-dirs --no-resave-data BPRMeth |
| StartedAt: 2020-01-15 23:10:24 -0500 (Wed, 15 Jan 2020) |
| EndedAt: 2020-01-15 23:14:10 -0500 (Wed, 15 Jan 2020) |
| EllapsedTime: 226.3 seconds |
| RetCode: 0 |
| Status: OK |
| PackageFile: BPRMeth_1.13.0.tar.gz |
| PackageFileSize: 3.354 MiB |
############################################################################## ############################################################################## ### ### Running command: ### ### /Library/Frameworks/R.framework/Versions/Current/Resources/bin/R CMD build --keep-empty-dirs --no-resave-data BPRMeth ### ############################################################################## ############################################################################## * checking for file ‘BPRMeth/DESCRIPTION’ ... OK * preparing ‘BPRMeth’: * checking DESCRIPTION meta-information ... OK * cleaning src * installing the package to build vignettes * creating vignettes ... OK * cleaning src * checking for LF line-endings in source and make files and shell scripts * checking for empty or unneeded directories * building ‘BPRMeth_1.13.0.tar.gz’