| Back to Multiple platform build/check report for BioC 3.11 |
|
This page was generated on 2020-01-16 13:33:49 -0500 (Thu, 16 Jan 2020).
| Package 1294/1818 | Hostname | OS / Arch | INSTALL | BUILD | CHECK | BUILD BIN | ||||||
| PREDA 1.33.0 Francesco Ferrari
| malbec2 | Linux (Ubuntu 18.04.3 LTS) / x86_64 | OK | OK | OK | |||||||
| tokay2 | Windows Server 2012 R2 Standard / x64 | OK | OK | OK | OK | |||||||
| celaya2 | OS X 10.11.6 El Capitan / x86_64 | OK | [ OK ] | OK | OK |
| Package: PREDA |
| Version: 1.33.0 |
| Command: /Library/Frameworks/R.framework/Versions/Current/Resources/bin/R CMD build --keep-empty-dirs --no-resave-data PREDA |
| StartedAt: 2020-01-15 20:36:02 -0500 (Wed, 15 Jan 2020) |
| EndedAt: 2020-01-15 20:39:29 -0500 (Wed, 15 Jan 2020) |
| EllapsedTime: 207.1 seconds |
| RetCode: 0 |
| Status: OK |
| PackageFile: PREDA_1.33.0.tar.gz |
| PackageFileSize: 1.889 MiB |
##############################################################################
##############################################################################
###
### Running command:
###
### /Library/Frameworks/R.framework/Versions/Current/Resources/bin/R CMD build --keep-empty-dirs --no-resave-data PREDA
###
##############################################################################
##############################################################################
* checking for file ‘PREDA/DESCRIPTION’ ... OK
* preparing ‘PREDA’:
* checking DESCRIPTION meta-information ... OK
* installing the package to build vignettes
* creating vignettes ... OK
Warning: ‘inst/doc’ files
‘PREDAclasses.pdf’, ‘PREDAtutorial.pdf’
ignored as vignettes have been rebuilt.
Run R CMD build with --no-build-vignettes to prevent rebuilding.
* checking for LF line-endings in source and make files and shell scripts
* checking for empty or unneeded directories
* building ‘PREDA_1.33.0.tar.gz’