| Back to Multiple platform build/check report for BioC 3.11 |
|
This page was generated on 2020-01-16 13:43:30 -0500 (Thu, 16 Jan 2020).
| Package 1227/1818 | Hostname | OS / Arch | INSTALL | BUILD | CHECK | BUILD BIN | ||||||
| pathVar 1.17.0 Samuel Zimmerman
| malbec2 | Linux (Ubuntu 18.04.3 LTS) / x86_64 | OK | OK | OK | |||||||
| tokay2 | Windows Server 2012 R2 Standard / x64 | OK | OK | OK | OK | |||||||
| celaya2 | OS X 10.11.6 El Capitan / x86_64 | OK | [ OK ] | OK | OK |
| Package: pathVar |
| Version: 1.17.0 |
| Command: /Library/Frameworks/R.framework/Versions/Current/Resources/bin/R CMD build --keep-empty-dirs --no-resave-data pathVar |
| StartedAt: 2020-01-15 22:19:07 -0500 (Wed, 15 Jan 2020) |
| EndedAt: 2020-01-15 22:23:15 -0500 (Wed, 15 Jan 2020) |
| EllapsedTime: 247.6 seconds |
| RetCode: 0 |
| Status: OK |
| PackageFile: pathVar_1.17.0.tar.gz |
| PackageFileSize: 1.637 MiB |
############################################################################## ############################################################################## ### ### Running command: ### ### /Library/Frameworks/R.framework/Versions/Current/Resources/bin/R CMD build --keep-empty-dirs --no-resave-data pathVar ### ############################################################################## ############################################################################## * checking for file ‘pathVar/DESCRIPTION’ ... OK * preparing ‘pathVar’: * checking DESCRIPTION meta-information ... OK * installing the package to build vignettes * creating vignettes ... OK * checking for LF line-endings in source and make files and shell scripts * checking for empty or unneeded directories * building ‘pathVar_1.17.0.tar.gz’