| Back to Multiple platform build/check report for BioC 3.11 |
|
This page was generated on 2020-01-16 13:32:32 -0500 (Thu, 16 Jan 2020).
| Package 553/1818 | Hostname | OS / Arch | INSTALL | BUILD | CHECK | BUILD BIN | ||||||
| ExpressionView 1.39.0 Gabor Csardi
| malbec2 | Linux (Ubuntu 18.04.3 LTS) / x86_64 | OK | OK | WARNINGS | |||||||
| tokay2 | Windows Server 2012 R2 Standard / x64 | OK | OK | WARNINGS | OK | |||||||
| celaya2 | OS X 10.11.6 El Capitan / x86_64 | OK | [ OK ] | WARNINGS | OK |
| Package: ExpressionView |
| Version: 1.39.0 |
| Command: /Library/Frameworks/R.framework/Versions/Current/Resources/bin/R CMD build --keep-empty-dirs --no-resave-data ExpressionView |
| StartedAt: 2020-01-15 20:20:40 -0500 (Wed, 15 Jan 2020) |
| EndedAt: 2020-01-15 20:25:20 -0500 (Wed, 15 Jan 2020) |
| EllapsedTime: 279.5 seconds |
| RetCode: 0 |
| Status: OK |
| PackageFile: ExpressionView_1.39.0.tar.gz |
| PackageFileSize: 1.354 MiB |
############################################################################## ############################################################################## ### ### Running command: ### ### /Library/Frameworks/R.framework/Versions/Current/Resources/bin/R CMD build --keep-empty-dirs --no-resave-data ExpressionView ### ############################################################################## ############################################################################## * checking for file ‘ExpressionView/DESCRIPTION’ ... OK * preparing ‘ExpressionView’: * checking DESCRIPTION meta-information ... OK * cleaning src * installing the package to build vignettes * creating vignettes ... OK * cleaning src * checking for LF line-endings in source and make files and shell scripts * checking for empty or unneeded directories * building ‘ExpressionView_1.39.0.tar.gz’