| Back to Multiple platform build/check report for BioC 3.11 |
|
This page was generated on 2020-01-16 13:56:07 -0500 (Thu, 16 Jan 2020).
| Package 771/1818 | Hostname | OS / Arch | INSTALL | BUILD | CHECK | BUILD BIN | ||||||
| HCAExplorer 1.1.0 Bioconductor Package Maintainer
| malbec2 | Linux (Ubuntu 18.04.3 LTS) / x86_64 | OK | OK | OK | |||||||
| tokay2 | Windows Server 2012 R2 Standard / x64 | OK | OK | OK | OK | |||||||
| celaya2 | OS X 10.11.6 El Capitan / x86_64 | OK | [ OK ] | OK | OK |
| Package: HCAExplorer |
| Version: 1.1.0 |
| Command: /Library/Frameworks/R.framework/Versions/Current/Resources/bin/R CMD build --keep-empty-dirs --no-resave-data HCAExplorer |
| StartedAt: 2020-01-16 01:09:15 -0500 (Thu, 16 Jan 2020) |
| EndedAt: 2020-01-16 01:10:21 -0500 (Thu, 16 Jan 2020) |
| EllapsedTime: 65.7 seconds |
| RetCode: 0 |
| Status: OK |
| PackageFile: HCAExplorer_1.1.0.tar.gz |
| PackageFileSize: 33.14 KiB |
############################################################################## ############################################################################## ### ### Running command: ### ### /Library/Frameworks/R.framework/Versions/Current/Resources/bin/R CMD build --keep-empty-dirs --no-resave-data HCAExplorer ### ############################################################################## ############################################################################## * checking for file ‘HCAExplorer/DESCRIPTION’ ... OK * preparing ‘HCAExplorer’: * checking DESCRIPTION meta-information ... OK * installing the package to build vignettes * creating vignettes ... OK * checking for LF line-endings in source and make files and shell scripts * checking for empty or unneeded directories * building ‘HCAExplorer_1.1.0.tar.gz’