| Back to Multiple platform build/check report for BioC 3.11 |
|
This page was generated on 2020-01-16 13:40:48 -0500 (Thu, 16 Jan 2020).
| Package 369/1818 | Hostname | OS / Arch | INSTALL | BUILD | CHECK | BUILD BIN | ||||||
| COSNet 1.21.0 Marco Frasca
| malbec2 | Linux (Ubuntu 18.04.3 LTS) / x86_64 | OK | OK | OK | |||||||
| tokay2 | Windows Server 2012 R2 Standard / x64 | OK | OK | OK | OK | |||||||
| celaya2 | OS X 10.11.6 El Capitan / x86_64 | OK | [ OK ] | OK | OK |
| Package: COSNet |
| Version: 1.21.0 |
| Command: /Library/Frameworks/R.framework/Versions/Current/Resources/bin/R CMD build --keep-empty-dirs --no-resave-data COSNet |
| StartedAt: 2020-01-15 21:51:05 -0500 (Wed, 15 Jan 2020) |
| EndedAt: 2020-01-15 21:54:38 -0500 (Wed, 15 Jan 2020) |
| EllapsedTime: 212.4 seconds |
| RetCode: 0 |
| Status: OK |
| PackageFile: COSNet_1.21.0.tar.gz |
| PackageFileSize: 312.9 KiB |
############################################################################## ############################################################################## ### ### Running command: ### ### /Library/Frameworks/R.framework/Versions/Current/Resources/bin/R CMD build --keep-empty-dirs --no-resave-data COSNet ### ############################################################################## ############################################################################## * checking for file ‘COSNet/DESCRIPTION’ ... OK * preparing ‘COSNet’: * checking DESCRIPTION meta-information ... OK * cleaning src * installing the package to build vignettes * creating vignettes ... OK * cleaning src * checking for LF line-endings in source and make files and shell scripts * checking for empty or unneeded directories * building ‘COSNet_1.21.0.tar.gz’