| Back to Multiple platform build/check report for BioC 3.11 |
|
This page was generated on 2020-01-16 13:42:09 -0500 (Thu, 16 Jan 2020).
| Package 1734/1818 | Hostname | OS / Arch | INSTALL | BUILD | CHECK | BUILD BIN | ||||||
| TPP 3.15.0 Dorothee Childs
| malbec2 | Linux (Ubuntu 18.04.3 LTS) / x86_64 | OK | OK | OK | |||||||
| tokay2 | Windows Server 2012 R2 Standard / x64 | OK | OK | OK | NA | |||||||
| celaya2 | OS X 10.11.6 El Capitan / x86_64 | OK | [ OK ] | OK | OK |
| Package: TPP |
| Version: 3.15.0 |
| Command: /Library/Frameworks/R.framework/Versions/Current/Resources/bin/R CMD build --keep-empty-dirs --no-resave-data TPP |
| StartedAt: 2020-01-15 22:03:06 -0500 (Wed, 15 Jan 2020) |
| EndedAt: 2020-01-15 22:05:48 -0500 (Wed, 15 Jan 2020) |
| EllapsedTime: 162.2 seconds |
| RetCode: 0 |
| Status: OK |
| PackageFile: TPP_3.15.0.tar.gz |
| PackageFileSize: 8.396 MiB |
############################################################################## ############################################################################## ### ### Running command: ### ### /Library/Frameworks/R.framework/Versions/Current/Resources/bin/R CMD build --keep-empty-dirs --no-resave-data TPP ### ############################################################################## ############################################################################## * checking for file ‘TPP/DESCRIPTION’ ... OK * preparing ‘TPP’: * checking DESCRIPTION meta-information ... OK * installing the package to build vignettes * creating vignettes ... OK * checking for LF line-endings in source and make files and shell scripts * checking for empty or unneeded directories * looking to see if a ‘data/datalist’ file should be added * building ‘TPP_3.15.0.tar.gz’