| Back to Multiple platform build/check report for BioC 3.11 |
|
This page was generated on 2020-01-16 13:29:13 -0500 (Thu, 16 Jan 2020).
| Package 740/1818 | Hostname | OS / Arch | INSTALL | BUILD | CHECK | BUILD BIN | ||||||
| GraphAT 1.59.0 Thomas LaFramboise
| malbec2 | Linux (Ubuntu 18.04.3 LTS) / x86_64 | OK | OK | OK | |||||||
| tokay2 | Windows Server 2012 R2 Standard / x64 | OK | OK | OK | OK | |||||||
| celaya2 | OS X 10.11.6 El Capitan / x86_64 | OK | [ OK ] | OK | OK |
| Package: GraphAT |
| Version: 1.59.0 |
| Command: /Library/Frameworks/R.framework/Versions/Current/Resources/bin/R CMD build --keep-empty-dirs --no-resave-data GraphAT |
| StartedAt: 2020-01-15 19:51:38 -0500 (Wed, 15 Jan 2020) |
| EndedAt: 2020-01-15 19:51:43 -0500 (Wed, 15 Jan 2020) |
| EllapsedTime: 5.4 seconds |
| RetCode: 0 |
| Status: OK |
| PackageFile: GraphAT_1.59.0.tar.gz |
| PackageFileSize: 1.884 MiB |
############################################################################## ############################################################################## ### ### Running command: ### ### /Library/Frameworks/R.framework/Versions/Current/Resources/bin/R CMD build --keep-empty-dirs --no-resave-data GraphAT ### ############################################################################## ############################################################################## * checking for file ‘GraphAT/DESCRIPTION’ ... OK * preparing ‘GraphAT’: * checking DESCRIPTION meta-information ... OK * checking for LF line-endings in source and make files and shell scripts * checking for empty or unneeded directories * looking to see if a ‘data/datalist’ file should be added * building ‘GraphAT_1.59.0.tar.gz’