| Back to Multiple platform build/check report for BioC 3.11 |
|
This page was generated on 2020-01-16 13:53:32 -0500 (Thu, 16 Jan 2020).
| Package 1074/1818 | Hostname | OS / Arch | INSTALL | BUILD | CHECK | BUILD BIN | ||||||
| Modstrings 1.3.2 Felix G.M. Ernst
| malbec2 | Linux (Ubuntu 18.04.3 LTS) / x86_64 | OK | OK | OK | |||||||
| tokay2 | Windows Server 2012 R2 Standard / x64 | OK | ERROR | skipped | skipped | |||||||
| celaya2 | OS X 10.11.6 El Capitan / x86_64 | OK | [ OK ] | OK | OK |
| Package: Modstrings |
| Version: 1.3.2 |
| Command: /Library/Frameworks/R.framework/Versions/Current/Resources/bin/R CMD build --keep-empty-dirs --no-resave-data Modstrings |
| StartedAt: 2020-01-16 00:35:34 -0500 (Thu, 16 Jan 2020) |
| EndedAt: 2020-01-16 00:36:31 -0500 (Thu, 16 Jan 2020) |
| EllapsedTime: 56.5 seconds |
| RetCode: 0 |
| Status: OK |
| PackageFile: Modstrings_1.3.2.tar.gz |
| PackageFileSize: 807.6 KiB |
############################################################################## ############################################################################## ### ### Running command: ### ### /Library/Frameworks/R.framework/Versions/Current/Resources/bin/R CMD build --keep-empty-dirs --no-resave-data Modstrings ### ############################################################################## ############################################################################## * checking for file ‘Modstrings/DESCRIPTION’ ... OK * preparing ‘Modstrings’: * checking DESCRIPTION meta-information ... OK * installing the package to build vignettes * creating vignettes ... OK * checking for LF line-endings in source and make files and shell scripts * checking for empty or unneeded directories * looking to see if a ‘data/datalist’ file should be added * building ‘Modstrings_1.3.2.tar.gz’