| Back to Multiple platform build/check report for BioC 3.11 |
|
This page was generated on 2020-01-16 13:43:00 -0500 (Thu, 16 Jan 2020).
| Package 1127/1818 | Hostname | OS / Arch | INSTALL | BUILD | CHECK | BUILD BIN | ||||||
| NanoStringDiff 1.17.0 tingting zhai
| malbec2 | Linux (Ubuntu 18.04.3 LTS) / x86_64 | OK | OK | WARNINGS | |||||||
| tokay2 | Windows Server 2012 R2 Standard / x64 | OK | OK | WARNINGS | OK | |||||||
| celaya2 | OS X 10.11.6 El Capitan / x86_64 | OK | [ OK ] | WARNINGS | OK |
| Package: NanoStringDiff |
| Version: 1.17.0 |
| Command: /Library/Frameworks/R.framework/Versions/Current/Resources/bin/R CMD build --keep-empty-dirs --no-resave-data NanoStringDiff |
| StartedAt: 2020-01-15 22:11:34 -0500 (Wed, 15 Jan 2020) |
| EndedAt: 2020-01-15 22:12:24 -0500 (Wed, 15 Jan 2020) |
| EllapsedTime: 50.0 seconds |
| RetCode: 0 |
| Status: OK |
| PackageFile: NanoStringDiff_1.17.0.tar.gz |
| PackageFileSize: 311.4 KiB |
##############################################################################
##############################################################################
###
### Running command:
###
### /Library/Frameworks/R.framework/Versions/Current/Resources/bin/R CMD build --keep-empty-dirs --no-resave-data NanoStringDiff
###
##############################################################################
##############################################################################
* checking for file ‘NanoStringDiff/DESCRIPTION’ ... OK
* preparing ‘NanoStringDiff’:
* checking DESCRIPTION meta-information ... OK
* cleaning src
* installing the package to build vignettes
* creating vignettes ... OK
Warning: ‘inst/doc’ files
‘NanoStringDiff.Rnw’, ‘NanoStringDiff.pdf’, ‘NanoStringDiff.R’
ignored as vignettes have been rebuilt.
Run R CMD build with --no-build-vignettes to prevent rebuilding.
* cleaning src
* checking for LF line-endings in source and make files and shell scripts
* checking for empty or unneeded directories
* looking to see if a ‘data/datalist’ file should be added
* building ‘NanoStringDiff_1.17.0.tar.gz’