| Back to Multiple platform build/check report for BioC 3.11 |
|
This page was generated on 2020-01-16 13:34:38 -0500 (Thu, 16 Jan 2020).
| Package 1266/1818 | Hostname | OS / Arch | INSTALL | BUILD | CHECK | BUILD BIN | ||||||
| PING 2.31.2 Renan Sauteraud
| malbec2 | Linux (Ubuntu 18.04.3 LTS) / x86_64 | OK | OK | WARNINGS | |||||||
| tokay2 | Windows Server 2012 R2 Standard / x64 | OK | OK | WARNINGS | OK | |||||||
| celaya2 | OS X 10.11.6 El Capitan / x86_64 | OK | OK | WARNINGS | [ OK ] |
| Package: PING |
| Version: 2.31.2 |
| Command: rm -rf PING.buildbin-libdir && mkdir PING.buildbin-libdir && /Users/biocbuild/BBS/utils/build-universal.sh PING_2.31.2.tar.gz /Library/Frameworks/R.framework/Versions/Current/Resources/bin/R PING.buildbin-libdir |
| StartedAt: 2020-01-16 11:30:35 -0500 (Thu, 16 Jan 2020) |
| EndedAt: 2020-01-16 11:31:55 -0500 (Thu, 16 Jan 2020) |
| EllapsedTime: 80.6 seconds |
| RetCode: 0 |
| Status: OK |
| PackageFile: PING_2.31.2.tgz |
| PackageFileSize: 5.591 MiB |
##############################################################################
##############################################################################
###
### Running command:
###
### rm -rf PING.buildbin-libdir && mkdir PING.buildbin-libdir && /Users/biocbuild/BBS/utils/build-universal.sh PING_2.31.2.tar.gz /Library/Frameworks/R.framework/Versions/Current/Resources/bin/R PING.buildbin-libdir
###
##############################################################################
##############################################################################
>>>>>>>
>>>>>>> INSTALLATION WITH 'R CMD INSTALL --preclean --no-multiarch --library=PING.buildbin-libdir PING_2.31.2.tar.gz'
>>>>>>>
* installing *source* package ‘PING’ ...
** using staged installation
checking for pkg-config... /usr/local/bin/pkg-config
checking pkg-config is at least version 0.9.0... yes
checking for GSL... yes
configure: creating ./config.status
config.status: creating src/Makevars
** libs
clang -I"/Library/Frameworks/R.framework/Resources/include" -DNDEBUG -isysroot /Library/Developer/CommandLineTools/SDKs/MacOSX.sdk -I/usr/local/include -fPIC -Wall -g -O2 -c init.c -o init.o
clang -I"/Library/Frameworks/R.framework/Resources/include" -DNDEBUG -isysroot /Library/Developer/CommandLineTools/SDKs/MacOSX.sdk -I/usr/local/include -fPIC -Wall -g -O2 -c ping.c -o ping.o
ping.c:321:10: warning: using integer absolute value function 'abs' when argument is of floating point type [-Wabsolute-value]
if(abs(REAL(yF)[i]-mu[k]+delta[k]/2.)/sqrt(sF[k])<calpha)
^
ping.c:321:10: note: use function 'fabs' instead
if(abs(REAL(yF)[i]-mu[k]+delta[k]/2.)/sqrt(sF[k])<calpha)
^~~
fabs
ping.c:329:10: warning: using integer absolute value function 'abs' when argument is of floating point type [-Wabsolute-value]
if(abs(REAL(yR)[i]-mu[k]-delta[k]/2.)/sqrt(sR[k])<calpha)
^
ping.c:329:10: note: use function 'fabs' instead
if(abs(REAL(yR)[i]-mu[k]-delta[k]/2.)/sqrt(sR[k])<calpha)
^~~
fabs
ping.c:345:12: warning: using integer absolute value function 'abs' when argument is of floating point type [-Wabsolute-value]
if(abs(REAL(cF)[i]-mu[k]+delta[k]/2.)/sqrt(sF[k])<calpha)
^
ping.c:345:12: note: use function 'fabs' instead
if(abs(REAL(cF)[i]-mu[k]+delta[k]/2.)/sqrt(sF[k])<calpha)
^~~
fabs
ping.c:353:12: warning: using integer absolute value function 'abs' when argument is of floating point type [-Wabsolute-value]
if(abs(REAL(cR)[i]-mu[k]-delta[k]/2.)/sqrt(sR[k])<calpha)
^
ping.c:353:12: note: use function 'fabs' instead
if(abs(REAL(cR)[i]-mu[k]-delta[k]/2.)/sqrt(sR[k])<calpha)
^~~
fabs
4 warnings generated.
clang -dynamiclib -Wl,-headerpad_max_install_names -undefined dynamic_lookup -single_module -multiply_defined suppress -L/Library/Frameworks/R.framework/Resources/lib -L/usr/local/lib -o PING.so init.o ping.o -L/usr/local/lib -lgsl -lgslcblas -lm -F/Library/Frameworks/R.framework/.. -framework R -Wl,-framework -Wl,CoreFoundation
installing to /Users/biocbuild/bbs-3.11-bioc/meat/PING.buildbin-libdir/00LOCK-PING/00new/PING/libs
** R
** inst
** byte-compile and prepare package for lazy loading
** help
*** installing help indices
** building package indices
** installing vignettes
** testing if installed package can be loaded from temporary location
** checking absolute paths in shared objects and dynamic libraries
** testing if installed package can be loaded from final location
** testing if installed package keeps a record of temporary installation path
* DONE (PING)
>>>>>>>
>>>>>>> FIXING LINKS FOR PING.buildbin-libdir/PING/libs//PING.so
>>>>>>>
install_name_tool -change "/usr/local/lib/libgcc_s.1.dylib" "/Library/Frameworks/R.framework/Versions/4.0/Resources/lib/libgcc_s.1.dylib" "PING.buildbin-libdir/PING/libs//PING.so"
install_name_tool -change "/usr/local/lib/libgfortran.3.dylib" "/Library/Frameworks/R.framework/Versions/4.0/Resources/lib/libgfortran.3.dylib" "PING.buildbin-libdir/PING/libs//PING.so"
install_name_tool -change "/usr/local/lib/libreadline.5.2.dylib" "/Library/Frameworks/R.framework/Versions/4.0/Resources/lib/libreadline.5.2.dylib" "PING.buildbin-libdir/PING/libs//PING.so"
install_name_tool -change "/usr/local/lib/libreadline.dylib" "/Library/Frameworks/R.framework/Versions/4.0/Resources/lib/libreadline.dylib" "PING.buildbin-libdir/PING/libs//PING.so"
install_name_tool -change "/usr/local/lib/libquadmath.0.dylib" "/Library/Frameworks/R.framework/Versions/4.0/Resources/lib/libquadmath.0.dylib" "PING.buildbin-libdir/PING/libs//PING.so"