| Back to Multiple platform build/check report for BioC 3.11 |
|
This page was generated on 2020-01-16 13:32:07 -0500 (Thu, 16 Jan 2020).
| Package 967/1818 | Hostname | OS / Arch | INSTALL | BUILD | CHECK | BUILD BIN | ||||||
| mBPCR 1.41.1 P.M.V. Rancoita
| malbec2 | Linux (Ubuntu 18.04.3 LTS) / x86_64 | OK | OK | OK | |||||||
| tokay2 | Windows Server 2012 R2 Standard / x64 | OK | OK | OK | OK | |||||||
| celaya2 | OS X 10.11.6 El Capitan / x86_64 | OK | [ OK ] | OK | OK |
| Package: mBPCR |
| Version: 1.41.1 |
| Command: /Library/Frameworks/R.framework/Versions/Current/Resources/bin/R CMD build --keep-empty-dirs --no-resave-data mBPCR |
| StartedAt: 2020-01-15 20:14:00 -0500 (Wed, 15 Jan 2020) |
| EndedAt: 2020-01-15 20:15:36 -0500 (Wed, 15 Jan 2020) |
| EllapsedTime: 95.9 seconds |
| RetCode: 0 |
| Status: OK |
| PackageFile: mBPCR_1.41.1.tar.gz |
| PackageFileSize: 665 KiB |
############################################################################## ############################################################################## ### ### Running command: ### ### /Library/Frameworks/R.framework/Versions/Current/Resources/bin/R CMD build --keep-empty-dirs --no-resave-data mBPCR ### ############################################################################## ############################################################################## * checking for file ‘mBPCR/DESCRIPTION’ ... OK * preparing ‘mBPCR’: * checking DESCRIPTION meta-information ... OK * installing the package to build vignettes * creating vignettes ... OK * checking for LF line-endings in source and make files and shell scripts * checking for empty or unneeded directories * building ‘mBPCR_1.41.1.tar.gz’