| Back to Multiple platform build/check report for BioC 3.11 |
|
This page was generated on 2020-01-16 13:48:11 -0500 (Thu, 16 Jan 2020).
| Package 1515/1818 | Hostname | OS / Arch | INSTALL | BUILD | CHECK | BUILD BIN | ||||||
| Scale4C 1.9.0 Carolin Walter
| malbec2 | Linux (Ubuntu 18.04.3 LTS) / x86_64 | OK | OK | OK | |||||||
| tokay2 | Windows Server 2012 R2 Standard / x64 | OK | OK | OK | OK | |||||||
| celaya2 | OS X 10.11.6 El Capitan / x86_64 | OK | [ OK ] | OK | OK |
| Package: Scale4C |
| Version: 1.9.0 |
| Command: /Library/Frameworks/R.framework/Versions/Current/Resources/bin/R CMD build --keep-empty-dirs --no-resave-data Scale4C |
| StartedAt: 2020-01-15 23:27:57 -0500 (Wed, 15 Jan 2020) |
| EndedAt: 2020-01-15 23:29:51 -0500 (Wed, 15 Jan 2020) |
| EllapsedTime: 114.3 seconds |
| RetCode: 0 |
| Status: OK |
| PackageFile: Scale4C_1.9.0.tar.gz |
| PackageFileSize: 4.945 MiB |
############################################################################## ############################################################################## ### ### Running command: ### ### /Library/Frameworks/R.framework/Versions/Current/Resources/bin/R CMD build --keep-empty-dirs --no-resave-data Scale4C ### ############################################################################## ############################################################################## * checking for file ‘Scale4C/DESCRIPTION’ ... OK * preparing ‘Scale4C’: * checking DESCRIPTION meta-information ... OK * installing the package to build vignettes * creating vignettes ... OK * checking for LF line-endings in source and make files and shell scripts * checking for empty or unneeded directories * looking to see if a ‘data/datalist’ file should be added * building ‘Scale4C_1.9.0.tar.gz’