| Back to Multiple platform build/check report for BioC 3.11 |
|
This page was generated on 2020-01-16 13:44:52 -0500 (Thu, 16 Jan 2020).
| Package 425/1818 | Hostname | OS / Arch | INSTALL | BUILD | CHECK | BUILD BIN | ||||||
| DEFormats 1.15.0 Andrzej Oleś
| malbec2 | Linux (Ubuntu 18.04.3 LTS) / x86_64 | OK | OK | OK | |||||||
| tokay2 | Windows Server 2012 R2 Standard / x64 | OK | OK | OK | OK | |||||||
| celaya2 | OS X 10.11.6 El Capitan / x86_64 | OK | OK | OK | [ OK ] |
| Package: DEFormats |
| Version: 1.15.0 |
| Command: rm -rf DEFormats.buildbin-libdir && mkdir DEFormats.buildbin-libdir && /Users/biocbuild/BBS/utils/build-universal.sh DEFormats_1.15.0.tar.gz /Library/Frameworks/R.framework/Versions/Current/Resources/bin/R DEFormats.buildbin-libdir |
| StartedAt: 2020-01-16 10:45:54 -0500 (Thu, 16 Jan 2020) |
| EndedAt: 2020-01-16 10:46:38 -0500 (Thu, 16 Jan 2020) |
| EllapsedTime: 44.4 seconds |
| RetCode: 0 |
| Status: OK |
| PackageFile: DEFormats_1.15.0.tgz |
| PackageFileSize: 534.6 KiB |
##############################################################################
##############################################################################
###
### Running command:
###
### rm -rf DEFormats.buildbin-libdir && mkdir DEFormats.buildbin-libdir && /Users/biocbuild/BBS/utils/build-universal.sh DEFormats_1.15.0.tar.gz /Library/Frameworks/R.framework/Versions/Current/Resources/bin/R DEFormats.buildbin-libdir
###
##############################################################################
##############################################################################
>>>>>>>
>>>>>>> INSTALLATION WITH 'R CMD INSTALL --preclean --no-multiarch --library=DEFormats.buildbin-libdir DEFormats_1.15.0.tar.gz'
>>>>>>>
* installing *source* package ‘DEFormats’ ...
** using staged installation
** R
** inst
** byte-compile and prepare package for lazy loading
Creating a generic function for ‘DGEList’ from ‘edgeR’ in package ‘DEFormats’
(from the saved implicit definition)
** help
*** installing help indices
** building package indices
** installing vignettes
** testing if installed package can be loaded from temporary location
** testing if installed package can be loaded from final location
** testing if installed package keeps a record of temporary installation path
* DONE (DEFormats)