| Back to Multiple platform build/check report for BioC 3.11 |
|
This page was generated on 2020-01-16 13:35:50 -0500 (Thu, 16 Jan 2020).
| Package 1743/1818 | Hostname | OS / Arch | INSTALL | BUILD | CHECK | BUILD BIN | ||||||
| TransView 1.31.0 Julius Muller
| malbec2 | Linux (Ubuntu 18.04.3 LTS) / x86_64 | OK | OK | OK | |||||||
| tokay2 | Windows Server 2012 R2 Standard / x64 | OK | OK | WARNINGS | NA | |||||||
| celaya2 | OS X 10.11.6 El Capitan / x86_64 | OK | OK | OK | [ OK ] |
| Package: TransView |
| Version: 1.31.0 |
| Command: rm -rf TransView.buildbin-libdir && mkdir TransView.buildbin-libdir && /Users/biocbuild/BBS/utils/build-universal.sh TransView_1.31.0.tar.gz /Library/Frameworks/R.framework/Versions/Current/Resources/bin/R TransView.buildbin-libdir |
| StartedAt: 2020-01-16 11:58:16 -0500 (Thu, 16 Jan 2020) |
| EndedAt: 2020-01-16 11:58:45 -0500 (Thu, 16 Jan 2020) |
| EllapsedTime: 28.8 seconds |
| RetCode: 0 |
| Status: OK |
| PackageFile: TransView_1.31.0.tgz |
| PackageFileSize: 1.966 MiB |
##############################################################################
##############################################################################
###
### Running command:
###
### rm -rf TransView.buildbin-libdir && mkdir TransView.buildbin-libdir && /Users/biocbuild/BBS/utils/build-universal.sh TransView_1.31.0.tar.gz /Library/Frameworks/R.framework/Versions/Current/Resources/bin/R TransView.buildbin-libdir
###
##############################################################################
##############################################################################
>>>>>>>
>>>>>>> INSTALLATION WITH 'R CMD INSTALL --preclean --no-multiarch --library=TransView.buildbin-libdir TransView_1.31.0.tar.gz'
>>>>>>>
* installing *source* package ‘TransView’ ...
** using staged installation
** libs
clang -I"/Library/Frameworks/R.framework/Resources/include" -DNDEBUG -D_FILE_OFFSET_BITS=64 -I'/Library/Frameworks/R.framework/Versions/4.0/Resources/library/Rhtslib/include' -isysroot /Library/Developer/CommandLineTools/SDKs/MacOSX.sdk -I/usr/local/include -fPIC -Wall -g -O2 -c R_init_TransView.c -o R_init_TransView.o
clang -I"/Library/Frameworks/R.framework/Resources/include" -DNDEBUG -D_FILE_OFFSET_BITS=64 -I'/Library/Frameworks/R.framework/Versions/4.0/Resources/library/Rhtslib/include' -isysroot /Library/Developer/CommandLineTools/SDKs/MacOSX.sdk -I/usr/local/include -fPIC -Wall -g -O2 -c bam_plbuf.c -o bam_plbuf.o
clang -I"/Library/Frameworks/R.framework/Resources/include" -DNDEBUG -D_FILE_OFFSET_BITS=64 -I'/Library/Frameworks/R.framework/Versions/4.0/Resources/library/Rhtslib/include' -isysroot /Library/Developer/CommandLineTools/SDKs/MacOSX.sdk -I/usr/local/include -fPIC -Wall -g -O2 -c bin_density.c -o bin_density.o
clang -I"/Library/Frameworks/R.framework/Resources/include" -DNDEBUG -D_FILE_OFFSET_BITS=64 -I'/Library/Frameworks/R.framework/Versions/4.0/Resources/library/Rhtslib/include' -isysroot /Library/Developer/CommandLineTools/SDKs/MacOSX.sdk -I/usr/local/include -fPIC -Wall -g -O2 -c construct_dc.c -o construct_dc.o
In file included from construct_dc.c:23:
In file included from ./parse_sam.h:4:
In file included from /Library/Frameworks/R.framework/Versions/4.0/Resources/library/Rhtslib/include/sam.h:28:
In file included from /Library/Frameworks/R.framework/Versions/4.0/Resources/library/Rhtslib/include/htslib/sam.h:31:
In file included from /Library/Frameworks/R.framework/Versions/4.0/Resources/library/Rhtslib/include/htslib/hts.h:35:
/Library/Frameworks/R.framework/Versions/4.0/Resources/library/Rhtslib/include/htslib/hts_log.h:72:1: warning: '__format__' attribute argument not supported: Rprintf [-Wignored-attributes]
HTS_FORMAT(printf, 3, 4);
^
/Library/Frameworks/R.framework/Versions/4.0/Resources/library/Rhtslib/include/htslib/hts_defs.h:91:53: note: expanded from macro 'HTS_FORMAT'
#define HTS_FORMAT(type, idx, first) __attribute__((__format__ (type, idx, first)))
^
1 warning generated.
clang -I"/Library/Frameworks/R.framework/Resources/include" -DNDEBUG -D_FILE_OFFSET_BITS=64 -I'/Library/Frameworks/R.framework/Versions/4.0/Resources/library/Rhtslib/include' -isysroot /Library/Developer/CommandLineTools/SDKs/MacOSX.sdk -I/usr/local/include -fPIC -Wall -g -O2 -c parse_sam.c -o parse_sam.o
clang -I"/Library/Frameworks/R.framework/Resources/include" -DNDEBUG -D_FILE_OFFSET_BITS=64 -I'/Library/Frameworks/R.framework/Versions/4.0/Resources/library/Rhtslib/include' -isysroot /Library/Developer/CommandLineTools/SDKs/MacOSX.sdk -I/usr/local/include -fPIC -Wall -g -O2 -c sam.c -o sam.o
clang -I"/Library/Frameworks/R.framework/Resources/include" -DNDEBUG -D_FILE_OFFSET_BITS=64 -I'/Library/Frameworks/R.framework/Versions/4.0/Resources/library/Rhtslib/include' -isysroot /Library/Developer/CommandLineTools/SDKs/MacOSX.sdk -I/usr/local/include -fPIC -Wall -g -O2 -c slice_dc.c -o slice_dc.o
clang -I"/Library/Frameworks/R.framework/Resources/include" -DNDEBUG -D_FILE_OFFSET_BITS=64 -I'/Library/Frameworks/R.framework/Versions/4.0/Resources/library/Rhtslib/include' -isysroot /Library/Developer/CommandLineTools/SDKs/MacOSX.sdk -I/usr/local/include -fPIC -Wall -g -O2 -c visuals.c -o visuals.o
clang -dynamiclib -Wl,-headerpad_max_install_names -undefined dynamic_lookup -single_module -multiply_defined suppress -L/Library/Frameworks/R.framework/Resources/lib -L/usr/local/lib -o TransView.so R_init_TransView.o bam_plbuf.o bin_density.o construct_dc.o parse_sam.o sam.o slice_dc.o visuals.o /Library/Frameworks/R.framework/Versions/4.0/Resources/library/Rhtslib/usrlib/libhts.a -lcurl -F/Library/Frameworks/R.framework/.. -framework R -Wl,-framework -Wl,CoreFoundation
installing to /Users/biocbuild/bbs-3.11-bioc/meat/TransView.buildbin-libdir/00LOCK-TransView/00new/TransView/libs
** R
** inst
** byte-compile and prepare package for lazy loading
** help
*** installing help indices
** building package indices
** installing vignettes
** testing if installed package can be loaded from temporary location
** checking absolute paths in shared objects and dynamic libraries
** testing if installed package can be loaded from final location
** testing if installed package keeps a record of temporary installation path
* DONE (TransView)
>>>>>>>
>>>>>>> FIXING LINKS FOR TransView.buildbin-libdir/TransView/libs//TransView.so
>>>>>>>
install_name_tool -change "/usr/local/lib/libgcc_s.1.dylib" "/Library/Frameworks/R.framework/Versions/4.0/Resources/lib/libgcc_s.1.dylib" "TransView.buildbin-libdir/TransView/libs//TransView.so"
install_name_tool -change "/usr/local/lib/libgfortran.3.dylib" "/Library/Frameworks/R.framework/Versions/4.0/Resources/lib/libgfortran.3.dylib" "TransView.buildbin-libdir/TransView/libs//TransView.so"
install_name_tool -change "/usr/local/lib/libreadline.5.2.dylib" "/Library/Frameworks/R.framework/Versions/4.0/Resources/lib/libreadline.5.2.dylib" "TransView.buildbin-libdir/TransView/libs//TransView.so"
install_name_tool -change "/usr/local/lib/libreadline.dylib" "/Library/Frameworks/R.framework/Versions/4.0/Resources/lib/libreadline.dylib" "TransView.buildbin-libdir/TransView/libs//TransView.so"
install_name_tool -change "/usr/local/lib/libquadmath.0.dylib" "/Library/Frameworks/R.framework/Versions/4.0/Resources/lib/libquadmath.0.dylib" "TransView.buildbin-libdir/TransView/libs//TransView.so"