| Back to Multiple platform build/check report for BioC 3.11 |
|
This page was generated on 2020-01-16 13:47:41 -0500 (Thu, 16 Jan 2020).
| Package 1801/1818 | Hostname | OS / Arch | INSTALL | BUILD | CHECK | BUILD BIN | ||||||
| wiggleplotr 1.11.1 Kaur Alasoo
| malbec2 | Linux (Ubuntu 18.04.3 LTS) / x86_64 | OK | OK | OK | |||||||
| tokay2 | Windows Server 2012 R2 Standard / x64 | OK | OK | OK | NA | |||||||
| celaya2 | OS X 10.11.6 El Capitan / x86_64 | OK | OK | OK | [ OK ] |
| Package: wiggleplotr |
| Version: 1.11.1 |
| Command: rm -rf wiggleplotr.buildbin-libdir && mkdir wiggleplotr.buildbin-libdir && /Users/biocbuild/BBS/utils/build-universal.sh wiggleplotr_1.11.1.tar.gz /Library/Frameworks/R.framework/Versions/Current/Resources/bin/R wiggleplotr.buildbin-libdir |
| StartedAt: 2020-01-16 12:01:13 -0500 (Thu, 16 Jan 2020) |
| EndedAt: 2020-01-16 12:01:22 -0500 (Thu, 16 Jan 2020) |
| EllapsedTime: 8.7 seconds |
| RetCode: 0 |
| Status: OK |
| PackageFile: wiggleplotr_1.11.1.tgz |
| PackageFileSize: 458.5 KiB |
############################################################################## ############################################################################## ### ### Running command: ### ### rm -rf wiggleplotr.buildbin-libdir && mkdir wiggleplotr.buildbin-libdir && /Users/biocbuild/BBS/utils/build-universal.sh wiggleplotr_1.11.1.tar.gz /Library/Frameworks/R.framework/Versions/Current/Resources/bin/R wiggleplotr.buildbin-libdir ### ############################################################################## ############################################################################## >>>>>>> >>>>>>> INSTALLATION WITH 'R CMD INSTALL --preclean --no-multiarch --library=wiggleplotr.buildbin-libdir wiggleplotr_1.11.1.tar.gz' >>>>>>> * installing *source* package ‘wiggleplotr’ ... ** using staged installation ** R ** data *** moving datasets to lazyload DB ** inst ** byte-compile and prepare package for lazy loading ** help *** installing help indices ** building package indices ** installing vignettes ** testing if installed package can be loaded from temporary location ** testing if installed package can be loaded from final location ** testing if installed package keeps a record of temporary installation path * DONE (wiggleplotr)