| Back to Multiple platform build/check report for BioC 3.11 |
|
This page was generated on 2020-01-16 13:35:51 -0500 (Thu, 16 Jan 2020).
| Package 283/1818 | Hostname | OS / Arch | INSTALL | BUILD | CHECK | BUILD BIN | ||||||
Oscar Reina
| malbec2 | Linux (Ubuntu 18.04.3 LTS) / x86_64 | ERROR | ERROR | skipped | |||||||
| tokay2 | Windows Server 2012 R2 Standard / x64 | ERROR | ERROR | skipped | skipped | |||||||
| celaya2 | OS X 10.11.6 El Capitan / x86_64 | [ ERROR ] | ERROR | skipped | skipped |
| Package: chroGPS |
| Version: 2.5.1 |
| Command: /Library/Frameworks/R.framework/Versions/Current/Resources/bin/R CMD INSTALL chroGPS |
| StartedAt: 2020-01-15 19:46:44 -0500 (Wed, 15 Jan 2020) |
| EndedAt: 2020-01-15 19:46:45 -0500 (Wed, 15 Jan 2020) |
| EllapsedTime: 0.5 seconds |
| RetCode: 1 |
| Status: ERROR |
############################################################################## ############################################################################## ### ### Running command: ### ### /Library/Frameworks/R.framework/Versions/Current/Resources/bin/R CMD INSTALL chroGPS ### ############################################################################## ############################################################################## * installing to library ‘/Library/Frameworks/R.framework/Versions/4.0/Resources/library’ ERROR: dependency ‘DPpackage’ is not available for package ‘chroGPS’ * removing ‘/Library/Frameworks/R.framework/Versions/4.0/Resources/library/chroGPS’