| Back to Multiple platform build/check report for BioC 3.11 |
|
This page was generated on 2020-01-16 13:43:44 -0500 (Thu, 16 Jan 2020).
| Package 1050/1818 | Hostname | OS / Arch | INSTALL | BUILD | CHECK | BUILD BIN | ||||||
| miRcomp 1.17.0 Matthew N. McCall
| malbec2 | Linux (Ubuntu 18.04.3 LTS) / x86_64 | OK | OK | WARNINGS | |||||||
| tokay2 | Windows Server 2012 R2 Standard / x64 | OK | OK | WARNINGS | OK | |||||||
| celaya2 | OS X 10.11.6 El Capitan / x86_64 | OK | OK | WARNINGS | [ OK ] |
| Package: miRcomp |
| Version: 1.17.0 |
| Command: rm -rf miRcomp.buildbin-libdir && mkdir miRcomp.buildbin-libdir && /Users/biocbuild/BBS/utils/build-universal.sh miRcomp_1.17.0.tar.gz /Library/Frameworks/R.framework/Versions/Current/Resources/bin/R miRcomp.buildbin-libdir |
| StartedAt: 2020-01-16 11:19:12 -0500 (Thu, 16 Jan 2020) |
| EndedAt: 2020-01-16 11:19:33 -0500 (Thu, 16 Jan 2020) |
| EllapsedTime: 21.0 seconds |
| RetCode: 0 |
| Status: OK |
| PackageFile: miRcomp_1.17.0.tgz |
| PackageFileSize: 4.751 MiB |
############################################################################## ############################################################################## ### ### Running command: ### ### rm -rf miRcomp.buildbin-libdir && mkdir miRcomp.buildbin-libdir && /Users/biocbuild/BBS/utils/build-universal.sh miRcomp_1.17.0.tar.gz /Library/Frameworks/R.framework/Versions/Current/Resources/bin/R miRcomp.buildbin-libdir ### ############################################################################## ############################################################################## >>>>>>> >>>>>>> INSTALLATION WITH 'R CMD INSTALL --preclean --no-multiarch --library=miRcomp.buildbin-libdir miRcomp_1.17.0.tar.gz' >>>>>>> * installing *source* package ‘miRcomp’ ... ** using staged installation ** R ** data ** inst ** byte-compile and prepare package for lazy loading ** help *** installing help indices ** building package indices ** installing vignettes ** testing if installed package can be loaded from temporary location ** testing if installed package can be loaded from final location ** testing if installed package keeps a record of temporary installation path * DONE (miRcomp)