| Back to Multiple platform build/check report for BioC 3.11 |
|
This page was generated on 2020-01-16 13:32:24 -0500 (Thu, 16 Jan 2020).
| Package 1015/1818 | Hostname | OS / Arch | INSTALL | BUILD | CHECK | BUILD BIN | ||||||
| methVisual 1.39.0 Arie Zackay
| malbec2 | Linux (Ubuntu 18.04.3 LTS) / x86_64 | OK | OK | WARNINGS | |||||||
| tokay2 | Windows Server 2012 R2 Standard / x64 | OK | OK | WARNINGS | OK | |||||||
| celaya2 | OS X 10.11.6 El Capitan / x86_64 | OK | OK | WARNINGS | [ OK ] |
| Package: methVisual |
| Version: 1.39.0 |
| Command: rm -rf methVisual.buildbin-libdir && mkdir methVisual.buildbin-libdir && /Users/biocbuild/BBS/utils/build-universal.sh methVisual_1.39.0.tar.gz /Library/Frameworks/R.framework/Versions/Current/Resources/bin/R methVisual.buildbin-libdir |
| StartedAt: 2020-01-16 11:17:02 -0500 (Thu, 16 Jan 2020) |
| EndedAt: 2020-01-16 11:17:24 -0500 (Thu, 16 Jan 2020) |
| EllapsedTime: 22.7 seconds |
| RetCode: 0 |
| Status: OK |
| PackageFile: methVisual_1.39.0.tgz |
| PackageFileSize: 309.4 KiB |
############################################################################## ############################################################################## ### ### Running command: ### ### rm -rf methVisual.buildbin-libdir && mkdir methVisual.buildbin-libdir && /Users/biocbuild/BBS/utils/build-universal.sh methVisual_1.39.0.tar.gz /Library/Frameworks/R.framework/Versions/Current/Resources/bin/R methVisual.buildbin-libdir ### ############################################################################## ############################################################################## >>>>>>> >>>>>>> INSTALLATION WITH 'R CMD INSTALL --preclean --no-multiarch --library=methVisual.buildbin-libdir methVisual_1.39.0.tar.gz' >>>>>>> * installing *source* package ‘methVisual’ ... ** using staged installation ** R ** data ** inst ** byte-compile and prepare package for lazy loading No methods found in package ‘IRanges’ for request: ‘score’ when loading ‘methVisual’ Note: possible error in 'windows(n, lengthData, ': unused argument (rescale = "fixed") ** help *** installing help indices ** building package indices ** installing vignettes ** testing if installed package can be loaded from temporary location No methods found in package ‘IRanges’ for request: ‘score’ when loading ‘methVisual’ ** testing if installed package can be loaded from final location No methods found in package ‘IRanges’ for request: ‘score’ when loading ‘methVisual’ ** testing if installed package keeps a record of temporary installation path * DONE (methVisual)