| Back to Multiple platform build/check report for BioC 3.11 |
|
This page was generated on 2020-01-16 13:42:07 -0500 (Thu, 16 Jan 2020).
| Package 360/1818 | Hostname | OS / Arch | INSTALL | BUILD | CHECK | BUILD BIN | ||||||
| CopywriteR 2.19.0 Oscar Krijgsman
| malbec2 | Linux (Ubuntu 18.04.3 LTS) / x86_64 | OK | OK | OK | |||||||
| tokay2 | Windows Server 2012 R2 Standard / x64 | OK | OK | OK | OK | |||||||
| celaya2 | OS X 10.11.6 El Capitan / x86_64 | OK | OK | OK | [ OK ] |
| Package: CopywriteR |
| Version: 2.19.0 |
| Command: rm -rf CopywriteR.buildbin-libdir && mkdir CopywriteR.buildbin-libdir && /Users/biocbuild/BBS/utils/build-universal.sh CopywriteR_2.19.0.tar.gz /Library/Frameworks/R.framework/Versions/Current/Resources/bin/R CopywriteR.buildbin-libdir |
| StartedAt: 2020-01-16 10:41:58 -0500 (Thu, 16 Jan 2020) |
| EndedAt: 2020-01-16 10:42:54 -0500 (Thu, 16 Jan 2020) |
| EllapsedTime: 55.3 seconds |
| RetCode: 0 |
| Status: OK |
| PackageFile: CopywriteR_2.19.0.tgz |
| PackageFileSize: 302.4 KiB |
############################################################################## ############################################################################## ### ### Running command: ### ### rm -rf CopywriteR.buildbin-libdir && mkdir CopywriteR.buildbin-libdir && /Users/biocbuild/BBS/utils/build-universal.sh CopywriteR_2.19.0.tar.gz /Library/Frameworks/R.framework/Versions/Current/Resources/bin/R CopywriteR.buildbin-libdir ### ############################################################################## ############################################################################## >>>>>>> >>>>>>> INSTALLATION WITH 'R CMD INSTALL --preclean --no-multiarch --library=CopywriteR.buildbin-libdir CopywriteR_2.19.0.tar.gz' >>>>>>> * installing *source* package ‘CopywriteR’ ... ** using staged installation ** R ** inst ** byte-compile and prepare package for lazy loading ** help *** installing help indices ** building package indices ** installing vignettes ** testing if installed package can be loaded from temporary location ** testing if installed package can be loaded from final location ** testing if installed package keeps a record of temporary installation path * DONE (CopywriteR)