| Back to Multiple platform build/check report for BioC 3.11 |
|
This page was generated on 2020-01-16 13:39:44 -0500 (Thu, 16 Jan 2020).
| Package 791/1818 | Hostname | OS / Arch | INSTALL | BUILD | CHECK | BUILD BIN | ||||||
| hiReadsProcessor 1.23.0 Nirav V Malani
| malbec2 | Linux (Ubuntu 18.04.3 LTS) / x86_64 | OK | OK | OK | |||||||
| tokay2 | Windows Server 2012 R2 Standard / x64 | ...NOT SUPPORTED... | ||||||||||
| celaya2 | OS X 10.11.6 El Capitan / x86_64 | OK | OK | [ OK ] | OK | |||||||
| Package: hiReadsProcessor |
| Version: 1.23.0 |
| Command: /Library/Frameworks/R.framework/Versions/Current/Resources/bin/R CMD check --install=check:hiReadsProcessor.install-out.txt --library=/Library/Frameworks/R.framework/Versions/Current/Resources/library --no-vignettes --timings hiReadsProcessor_1.23.0.tar.gz |
| StartedAt: 2020-01-16 05:25:07 -0500 (Thu, 16 Jan 2020) |
| EndedAt: 2020-01-16 05:32:15 -0500 (Thu, 16 Jan 2020) |
| EllapsedTime: 428.5 seconds |
| RetCode: 0 |
| Status: OK |
| CheckDir: hiReadsProcessor.Rcheck |
| Warnings: 0 |
##############################################################################
##############################################################################
###
### Running command:
###
### /Library/Frameworks/R.framework/Versions/Current/Resources/bin/R CMD check --install=check:hiReadsProcessor.install-out.txt --library=/Library/Frameworks/R.framework/Versions/Current/Resources/library --no-vignettes --timings hiReadsProcessor_1.23.0.tar.gz
###
##############################################################################
##############################################################################
* using log directory ‘/Users/biocbuild/bbs-3.11-bioc/meat/hiReadsProcessor.Rcheck’
* using R Under development (unstable) (2019-12-14 r77572)
* using platform: x86_64-apple-darwin15.6.0 (64-bit)
* using session charset: UTF-8
* using option ‘--no-vignettes’
* checking for file ‘hiReadsProcessor/DESCRIPTION’ ... OK
* this is package ‘hiReadsProcessor’ version ‘1.23.0’
* checking package namespace information ... OK
* checking package dependencies ... OK
* checking if this is a source package ... OK
* checking if there is a namespace ... OK
* checking for hidden files and directories ... NOTE
Found the following hidden files and directories:
.BBSoptions
These were most likely included in error. See section ‘Package
structure’ in the ‘Writing R Extensions’ manual.
* checking for portable file names ... OK
* checking for sufficient/correct file permissions ... OK
* checking whether package ‘hiReadsProcessor’ can be installed ... OK
* checking installed package size ... OK
* checking package directory ... OK
* checking ‘build’ directory ... OK
* checking DESCRIPTION meta-information ... OK
* checking top-level files ... OK
* checking for left-over files ... OK
* checking index information ... OK
* checking package subdirectories ... OK
* checking R files for non-ASCII characters ... OK
* checking R files for syntax errors ... OK
* checking whether the package can be loaded ... OK
* checking whether the package can be loaded with stated dependencies ... OK
* checking whether the package can be unloaded cleanly ... OK
* checking whether the namespace can be loaded with stated dependencies ... OK
* checking whether the namespace can be unloaded cleanly ... OK
* checking dependencies in R code ... OK
* checking S3 generic/method consistency ... OK
* checking replacement functions ... OK
* checking foreign function calls ... OK
* checking R code for possible problems ... NOTE
chunkize: no visible global function definition for ‘breakInChunks’
chunkize: no visible global function definition for ‘detectCores’
clusterSites : <anonymous>: no visible binding for global variable
‘queryHits’
clusterSites: no visible binding for global variable ‘clusteredValue’
clusterSites: no visible binding for global variable
‘clusteredValue.freq’
crossOverCheck: no visible binding for global variable ‘queryHits’
decodeByBarcode: no visible global function definition for ‘metadata<-’
decodeByBarcode: no visible global function definition for ‘metadata’
extractSeqs : <anonymous>: no visible global function definition for
‘metadata’
extractSeqs : <anonymous> : <anonymous> : <anonymous>: no visible
global function definition for ‘IRanges’
extractSeqs : <anonymous> : <anonymous>: no visible global function
definition for ‘IRanges’
findBarcodes: no visible global function definition for ‘metadata<-’
findBarcodes: no visible global function definition for ‘metadata’
findIntegrations: no visible global function definition for
‘fasta.info’
findIntegrations : <anonymous>: no visible global function definition
for ‘IRanges’
findVector : <anonymous>: no visible global function definition for
‘IRanges’
pairUpAlignments : <anonymous>: no visible binding for global variable
‘queryHits’
pairwiseAlignSeqs: no visible global function definition for
‘IRangesList’
pairwiseAlignSeqs: no visible global function definition for ‘IRanges’
primerIDAlignSeqs: no visible global function definition for ‘IRanges’
primerIDAlignSeqs: no visible global function definition for
‘IRangesList’
pslToRangedObject: no visible global function definition for ‘IRanges’
read.BAMasPSL: no visible global function definition for ‘ScanBamParam’
read.BAMasPSL: no visible global function definition for ‘scanBamFlag’
read.BAMasPSL: no visible global function definition for ‘DataFrame’
read.SeqFolder: no visible global function definition for ‘SimpleList’
read.psl: no visible global function definition for ‘mclapply’
read.psl : <anonymous>: no visible binding for global variable
‘matches’
read.psl : <anonymous>: no visible binding for global variable
‘misMatches’
read.psl : <anonymous>: no visible binding for global variable
‘qBaseInsert’
read.psl : <anonymous>: no visible binding for global variable
‘tBaseInsert’
read.psl: no visible binding for global variable ‘matches’
read.psl: no visible binding for global variable ‘misMatches’
read.psl: no visible binding for global variable ‘qBaseInsert’
read.psl: no visible binding for global variable ‘tBaseInsert’
read.sampleInfo: no visible global function definition for ‘SimpleList’
splitSeqsToFiles: no visible global function definition for
‘fasta.info’
vpairwiseAlignSeqs: no visible global function definition for ‘Rle’
vpairwiseAlignSeqs: no visible global function definition for
‘runLength’
vpairwiseAlignSeqs: no visible global function definition for ‘IRanges’
vpairwiseAlignSeqs: no visible global function definition for
‘runValue’
Undefined global functions or variables:
DataFrame IRanges IRangesList Rle ScanBamParam SimpleList
breakInChunks clusteredValue clusteredValue.freq detectCores
fasta.info matches mclapply metadata metadata<- misMatches
qBaseInsert queryHits runLength runValue scanBamFlag tBaseInsert
* checking Rd files ... OK
* checking Rd metadata ... OK
* checking Rd cross-references ... OK
* checking for missing documentation entries ... OK
* checking for code/documentation mismatches ... OK
* checking Rd \usage sections ... OK
* checking Rd contents ... OK
* checking for unstated dependencies in examples ... OK
* checking contents of ‘data’ directory ... OK
* checking data for non-ASCII characters ... OK
* checking data for ASCII and uncompressed saves ... OK
* checking files in ‘vignettes’ ... OK
* checking examples ... OK
Examples with CPU (user + system) or elapsed time > 5s
user system elapsed
otuSites 4.975 0.034 5.012
* checking for unstated dependencies in vignettes ... OK
* checking package vignettes in ‘inst/doc’ ... OK
* checking running R code from vignettes ... SKIPPED
* checking re-building of vignette outputs ... SKIPPED
* checking PDF version of manual ... OK
* DONE
Status: 2 NOTEs
See
‘/Users/biocbuild/bbs-3.11-bioc/meat/hiReadsProcessor.Rcheck/00check.log’
for details.
hiReadsProcessor.Rcheck/00install.out
############################################################################## ############################################################################## ### ### Running command: ### ### /Library/Frameworks/R.framework/Versions/Current/Resources/bin/R CMD INSTALL hiReadsProcessor ### ############################################################################## ############################################################################## * installing to library ‘/Library/Frameworks/R.framework/Versions/4.0/Resources/library’ * installing *source* package ‘hiReadsProcessor’ ... ** using staged installation ** R ** data ** inst ** byte-compile and prepare package for lazy loading ** help *** installing help indices ** building package indices ** installing vignettes ** testing if installed package can be loaded from temporary location ** testing if installed package can be loaded from final location ** testing if installed package keeps a record of temporary installation path * DONE (hiReadsProcessor)
hiReadsProcessor.Rcheck/hiReadsProcessor-Ex.timings
| name | user | system | elapsed | |
| addFeature | 0.301 | 0.018 | 0.319 | |
| addListNameToReads | 1.202 | 0.026 | 1.228 | |
| annotateSites | 0.000 | 0.000 | 0.001 | |
| blatSeqs | 0.000 | 0.001 | 0.001 | |
| chunkize | 0.045 | 0.001 | 0.047 | |
| clusterSites | 0.421 | 0.010 | 0.431 | |
| crossOverCheck | 0.378 | 0.008 | 0.387 | |
| dereplicateReads | 0.104 | 0.009 | 0.113 | |
| doRCtest | 1.945 | 0.222 | 2.079 | |
| extractFeature | 0.257 | 0.064 | 0.322 | |
| extractSeqs | 1.072 | 0.166 | 1.239 | |
| findAndTrimSeq | 1.538 | 0.539 | 2.079 | |
| findBarcodes | 0.906 | 0.002 | 0.908 | |
| findIntegrations | 0.001 | 0.000 | 0.000 | |
| findLTRs | 0.000 | 0.000 | 0.001 | |
| findLinkers | 0.000 | 0.001 | 0.001 | |
| findPrimers | 0.001 | 0.000 | 0.000 | |
| findVector | 0 | 0 | 0 | |
| getIntegrationSites | 2.116 | 0.019 | 2.136 | |
| getSectorsForSamples | 0.140 | 0.010 | 0.151 | |
| getSonicAbund | 0.439 | 0.204 | 0.644 | |
| isuSites | 4.374 | 0.095 | 4.471 | |
| otuSites | 4.975 | 0.034 | 5.012 | |
| pairUpAlignments | 0 | 0 | 0 | |
| pairwiseAlignSeqs | 3.197 | 1.701 | 4.759 | |
| primerIDAlignSeqs | 3.929 | 0.899 | 4.764 | |
| pslCols | 0.002 | 0.001 | 0.002 | |
| pslToRangedObject | 0.369 | 0.008 | 0.378 | |
| read.BAMasPSL | 0.000 | 0.000 | 0.001 | |
| read.SeqFolder | 1.839 | 0.057 | 1.904 | |
| read.blast8 | 0 | 0 | 0 | |
| read.psl | 0.000 | 0.000 | 0.001 | |
| read.sampleInfo | 2.022 | 0.019 | 2.049 | |
| read.seqsFromSector | 0 | 0 | 0 | |
| removeReadsWithNs | 0.043 | 0.002 | 0.044 | |
| replicateReads | 0.110 | 0.002 | 0.112 | |
| sampleSummary | 1.211 | 0.028 | 1.239 | |
| splitByBarcode | 0.055 | 0.001 | 0.056 | |
| splitSeqsToFiles | 0.311 | 0.014 | 0.324 | |
| startgfServer | 0 | 0 | 0 | |
| trimSeqs | 0.041 | 0.002 | 0.041 | |
| vpairwiseAlignSeqs | 2.621 | 1.471 | 3.935 | |
| write.listedDNAStringSet | 0.001 | 0.000 | 0.001 | |
| write.psl | 0.039 | 0.011 | 0.050 | |