| Back to Multiple platform build/check report for BioC 3.11 |
|
This page was generated on 2020-01-16 13:29:23 -0500 (Thu, 16 Jan 2020).
| Package 1120/1818 | Hostname | OS / Arch | INSTALL | BUILD | CHECK | BUILD BIN | ||||||
| MVCClass 1.61.0 Elizabeth Whalen
| malbec2 | Linux (Ubuntu 18.04.3 LTS) / x86_64 | OK | OK | OK | |||||||
| tokay2 | Windows Server 2012 R2 Standard / x64 | OK | OK | OK | OK | |||||||
| celaya2 | OS X 10.11.6 El Capitan / x86_64 | OK | OK | [ OK ] | OK |
| Package: MVCClass |
| Version: 1.61.0 |
| Command: /Library/Frameworks/R.framework/Versions/Current/Resources/bin/R CMD check --install=check:MVCClass.install-out.txt --library=/Library/Frameworks/R.framework/Versions/Current/Resources/library --no-vignettes --timings MVCClass_1.61.0.tar.gz |
| StartedAt: 2020-01-16 06:51:46 -0500 (Thu, 16 Jan 2020) |
| EndedAt: 2020-01-16 06:52:22 -0500 (Thu, 16 Jan 2020) |
| EllapsedTime: 36.2 seconds |
| RetCode: 0 |
| Status: OK |
| CheckDir: MVCClass.Rcheck |
| Warnings: 0 |
##############################################################################
##############################################################################
###
### Running command:
###
### /Library/Frameworks/R.framework/Versions/Current/Resources/bin/R CMD check --install=check:MVCClass.install-out.txt --library=/Library/Frameworks/R.framework/Versions/Current/Resources/library --no-vignettes --timings MVCClass_1.61.0.tar.gz
###
##############################################################################
##############################################################################
* using log directory ‘/Users/biocbuild/bbs-3.11-bioc/meat/MVCClass.Rcheck’
* using R Under development (unstable) (2019-12-14 r77572)
* using platform: x86_64-apple-darwin15.6.0 (64-bit)
* using session charset: UTF-8
* using option ‘--no-vignettes’
* checking for file ‘MVCClass/DESCRIPTION’ ... OK
* this is package ‘MVCClass’ version ‘1.61.0’
* checking package namespace information ... OK
* checking package dependencies ... OK
* checking if this is a source package ... OK
* checking if there is a namespace ... OK
* checking for hidden files and directories ... OK
* checking for portable file names ... OK
* checking for sufficient/correct file permissions ... OK
* checking whether package ‘MVCClass’ can be installed ... OK
* checking installed package size ... OK
* checking package directory ... OK
* checking ‘build’ directory ... OK
* checking DESCRIPTION meta-information ... NOTE
Malformed Description field: should contain one or more complete sentences.
* checking top-level files ... OK
* checking for left-over files ... OK
* checking index information ... OK
* checking package subdirectories ... OK
* checking R files for non-ASCII characters ... OK
* checking R files for syntax errors ... OK
* checking whether the package can be loaded ... OK
* checking whether the package can be loaded with stated dependencies ... OK
* checking whether the package can be unloaded cleanly ... OK
* checking whether the namespace can be loaded with stated dependencies ... OK
* checking whether the namespace can be unloaded cleanly ... OK
* checking dependencies in R code ... NOTE
'library' or 'require' call to ‘methods’ which was already attached by Depends.
Please remove these calls from your code.
* checking S3 generic/method consistency ... OK
* checking replacement functions ... OK
* checking foreign function calls ... OK
* checking R code for possible problems ... NOTE
File ‘MVCClass/R/zzz.R’:
.onLoad calls:
require("methods")
Package startup functions should not change the search path.
See section ‘Good practice’ in '?.onAttach'.
* checking Rd files ... NOTE
prepare_Rd: MVC-class.Rd:54-55: Dropping empty section \examples
prepare_Rd: dfModel-class.Rd:42-43: Dropping empty section \examples
prepare_Rd: gAddChildMessage-class.Rd:42-43: Dropping empty section \examples
prepare_Rd: gAddDataMessage-class.Rd:42-43: Dropping empty section \examples
prepare_Rd: gAddMessage-class.Rd:37-38: Dropping empty section \examples
prepare_Rd: gAddViewMessage-class.Rd:42-43: Dropping empty section \examples
prepare_Rd: gAskAncestorMessage-class.Rd:62-63: Dropping empty section \examples
prepare_Rd: gEventFun-class.Rd:49-50: Dropping empty section \examples
prepare_Rd: gMessage-class.Rd:32-33: Dropping empty section \examples
prepare_Rd: gModel-class.Rd:71-72: Dropping empty section \examples
prepare_Rd: gModifyMessage-class.Rd:52-53: Dropping empty section \examples
prepare_Rd: gSendChildMessage-class.Rd:58-59: Dropping empty section \examples
prepare_Rd: gSendParentMessage-class.Rd:49-50: Dropping empty section \examples
prepare_Rd: gUpdateDataMessage-class.Rd:51-52: Dropping empty section \examples
prepare_Rd: gUpdateMessage-class.Rd:37-38: Dropping empty section \examples
prepare_Rd: gUpdateViewMessage-class.Rd:43-44: Dropping empty section \examples
prepare_Rd: genView-class.Rd:62-63: Dropping empty section \examples
prepare_Rd: linkedModelMVC-class.Rd:59-60: Dropping empty section \examples
prepare_Rd: plotView-class.Rd:67-68: Dropping empty section \examples
prepare_Rd: qqPlotView-class.Rd:59-60: Dropping empty section \examples
prepare_Rd: sPlotView-class.Rd:69-70: Dropping empty section \examples
prepare_Rd: singleModelMVC-class.Rd:41-42: Dropping empty section \examples
prepare_Rd: spreadView-class.Rd:50-51: Dropping empty section \examples
* checking Rd metadata ... OK
* checking Rd cross-references ... OK
* checking for missing documentation entries ... OK
* checking for code/documentation mismatches ... OK
* checking Rd \usage sections ... OK
* checking Rd contents ... OK
* checking for unstated dependencies in examples ... OK
* checking sizes of PDF files under ‘inst/doc’ ... OK
* checking files in ‘vignettes’ ... OK
* checking examples ... NONE
* checking for unstated dependencies in vignettes ... OK
* checking package vignettes in ‘inst/doc’ ... OK
* checking running R code from vignettes ... SKIPPED
* checking re-building of vignette outputs ... SKIPPED
* checking PDF version of manual ... OK
* DONE
Status: 4 NOTEs
See
‘/Users/biocbuild/bbs-3.11-bioc/meat/MVCClass.Rcheck/00check.log’
for details.
MVCClass.Rcheck/00install.out
############################################################################## ############################################################################## ### ### Running command: ### ### /Library/Frameworks/R.framework/Versions/Current/Resources/bin/R CMD INSTALL MVCClass ### ############################################################################## ############################################################################## * installing to library ‘/Library/Frameworks/R.framework/Versions/4.0/Resources/library’ * installing *source* package ‘MVCClass’ ... ** using staged installation ** R ** inst ** byte-compile and prepare package for lazy loading ** help *** installing help indices ** building package indices ** installing vignettes ** testing if installed package can be loaded from temporary location ** testing if installed package can be loaded from final location ** testing if installed package keeps a record of temporary installation path * DONE (MVCClass)