| Back to Multiple platform build/check report for BioC 3.11 |
|
This page was generated on 2020-01-16 13:51:07 -0500 (Thu, 16 Jan 2020).
| Package 828/1818 | Hostname | OS / Arch | INSTALL | BUILD | CHECK | BUILD BIN | ||||||
| igvR 1.7.8 Paul Shannon
| malbec2 | Linux (Ubuntu 18.04.3 LTS) / x86_64 | OK | OK | WARNINGS | |||||||
| tokay2 | Windows Server 2012 R2 Standard / x64 | OK | OK | WARNINGS | OK | |||||||
| celaya2 | OS X 10.11.6 El Capitan / x86_64 | OK | OK | WARNINGS | [ OK ] |
| Package: igvR |
| Version: 1.7.8 |
| Command: rm -rf igvR.buildbin-libdir && mkdir igvR.buildbin-libdir && /Users/biocbuild/BBS/utils/build-universal.sh igvR_1.7.8.tar.gz /Library/Frameworks/R.framework/Versions/Current/Resources/bin/R igvR.buildbin-libdir |
| StartedAt: 2020-01-16 11:07:50 -0500 (Thu, 16 Jan 2020) |
| EndedAt: 2020-01-16 11:09:10 -0500 (Thu, 16 Jan 2020) |
| EllapsedTime: 80.2 seconds |
| RetCode: 0 |
| Status: OK |
| PackageFile: igvR_1.7.8.tgz |
| PackageFileSize: 2.941 MiB |
##############################################################################
##############################################################################
###
### Running command:
###
### rm -rf igvR.buildbin-libdir && mkdir igvR.buildbin-libdir && /Users/biocbuild/BBS/utils/build-universal.sh igvR_1.7.8.tar.gz /Library/Frameworks/R.framework/Versions/Current/Resources/bin/R igvR.buildbin-libdir
###
##############################################################################
##############################################################################
>>>>>>>
>>>>>>> INSTALLATION WITH 'R CMD INSTALL --preclean --no-multiarch --library=igvR.buildbin-libdir igvR_1.7.8.tar.gz'
>>>>>>>
* installing *source* package ‘igvR’ ...
** using staged installation
** R
** inst
** byte-compile and prepare package for lazy loading
See system.file("LICENSE", package="MotifDb") for use restrictions.
** help
*** installing help indices
** building package indices
** installing vignettes
** testing if installed package can be loaded from temporary location
See system.file("LICENSE", package="MotifDb") for use restrictions.
** testing if installed package can be loaded from final location
See system.file("LICENSE", package="MotifDb") for use restrictions.
** testing if installed package keeps a record of temporary installation path
* DONE (igvR)